BEGIN:VCALENDAR
VERSION:2.0
PRODID:-//Tettenhall Tennis Club - ECPv6.15.20//NONSGML v1.0//EN
CALSCALE:GREGORIAN
METHOD:PUBLISH
X-WR-CALNAME:Tettenhall Tennis Club
X-ORIGINAL-URL:https://tettenhalltennisclub.co.uk
X-WR-CALDESC:Events for Tettenhall Tennis Club
REFRESH-INTERVAL;VALUE=DURATION:PT1H
X-Robots-Tag:noindex
X-PUBLISHED-TTL:PT1H
BEGIN:VTIMEZONE
TZID:UTC
BEGIN:STANDARD
TZOFFSETFROM:+0000
TZOFFSETTO:+0000
TZNAME:UTC
DTSTART:20240101T000000
END:STANDARD
END:VTIMEZONE
BEGIN:VEVENT
DTSTART;TZID=UTC:20260417T183000
DTEND;TZID=UTC:20260417T194500
DTSTAMP:20260420T095625
CREATED:20260331T164111Z
LAST-MODIFIED:20260331T164111Z
UID:11128-1776450600-1776455100@tettenhalltennisclub.co.uk
SUMMARY:Adult Intermediates – 3 COURTS NEEDED
DESCRIPTION:
URL:https://tettenhalltennisclub.co.uk/event/adult-intermediates-3-courts-needed-92/
LOCATION:Tettenhall Tennis Club\, Danescourt Road\, Wolverhampton\, WV6 9BJ\, United Kingdom
CATEGORIES:Adult Coaching
ORGANIZER;CN="Simon Fellows":MAILTO:simonfellows1@outlook.com
END:VEVENT
BEGIN:VEVENT
DTSTART;TZID=UTC:20260327T183000
DTEND;TZID=UTC:20260327T193000
DTSTAMP:20260420T095625
CREATED:20260228T154207Z
LAST-MODIFIED:20260228T154207Z
UID:11068-1774636200-1774639800@tettenhalltennisclub.co.uk
SUMMARY:Adult Intermediates – 3 COURTS NEEDED
DESCRIPTION:
URL:https://tettenhalltennisclub.co.uk/event/adult-intermediates-3-courts-needed-94/
LOCATION:Tettenhall Tennis Club\, Danescourt Road\, Wolverhampton\, WV6 9BJ\, United Kingdom
CATEGORIES:Adult Coaching
ORGANIZER;CN="Simon Fellows":MAILTO:simonfellows1@outlook.com
END:VEVENT
BEGIN:VEVENT
DTSTART;TZID=UTC:20260320T183000
DTEND;TZID=UTC:20260320T193000
DTSTAMP:20260420T095625
CREATED:20260228T154142Z
LAST-MODIFIED:20260228T154142Z
UID:11066-1774031400-1774035000@tettenhalltennisclub.co.uk
SUMMARY:Adult Intermediates – 3 COURTS NEEDED
DESCRIPTION:
URL:https://tettenhalltennisclub.co.uk/event/adult-intermediates-3-courts-needed-93/
LOCATION:Tettenhall Tennis Club\, Danescourt Road\, Wolverhampton\, WV6 9BJ\, United Kingdom
CATEGORIES:Adult Coaching
ORGANIZER;CN="Simon Fellows":MAILTO:simonfellows1@outlook.com
END:VEVENT
BEGIN:VEVENT
DTSTART;TZID=UTC:20260313T183000
DTEND;TZID=UTC:20260313T193000
DTSTAMP:20260420T095625
CREATED:20260228T154240Z
LAST-MODIFIED:20260228T154240Z
UID:11070-1773426600-1773430200@tettenhalltennisclub.co.uk
SUMMARY:Adult Intermediates – 3 COURTS NEEDED
DESCRIPTION:
URL:https://tettenhalltennisclub.co.uk/event/adult-intermediates-3-courts-needed-95/
LOCATION:Tettenhall Tennis Club\, Danescourt Road\, Wolverhampton\, WV6 9BJ\, United Kingdom
CATEGORIES:Adult Coaching
ORGANIZER;CN="Simon Fellows":MAILTO:simonfellows1@outlook.com
END:VEVENT
BEGIN:VEVENT
DTSTART;TZID=UTC:20260306T183000
DTEND;TZID=UTC:20260306T193000
DTSTAMP:20260420T095625
CREATED:20260228T153920Z
LAST-MODIFIED:20260228T153920Z
UID:11062-1772821800-1772825400@tettenhalltennisclub.co.uk
SUMMARY:Adult Intermediates – 3 COURTS NEEDED
DESCRIPTION:
URL:https://tettenhalltennisclub.co.uk/event/adult-intermediates-3-courts-needed-91/
LOCATION:Tettenhall Tennis Club\, Danescourt Road\, Wolverhampton\, WV6 9BJ\, United Kingdom
CATEGORIES:Adult Coaching
ORGANIZER;CN="Simon Fellows":MAILTO:simonfellows1@outlook.com
END:VEVENT
BEGIN:VEVENT
DTSTART;TZID=UTC:20260227T183000
DTEND;TZID=UTC:20260227T194500
DTSTAMP:20260420T095625
CREATED:20260201T002907Z
LAST-MODIFIED:20260201T002907Z
UID:10987-1772217000-1772221500@tettenhalltennisclub.co.uk
SUMMARY:Adult Intermediates – 3 COURTS NEEDED
DESCRIPTION:
URL:https://tettenhalltennisclub.co.uk/event/adult-intermediates-3-courts-needed-90/
LOCATION:Tettenhall Tennis Club\, Danescourt Road\, Wolverhampton\, WV6 9BJ\, United Kingdom
CATEGORIES:Adult Coaching
ORGANIZER;CN="Simon Fellows":MAILTO:simonfellows1@outlook.com
END:VEVENT
BEGIN:VEVENT
DTSTART;TZID=UTC:20260220T183000
DTEND;TZID=UTC:20260220T194500
DTSTAMP:20260420T095625
CREATED:20260201T002838Z
LAST-MODIFIED:20260201T002838Z
UID:10985-1771612200-1771616700@tettenhalltennisclub.co.uk
SUMMARY:Adult Intermediates – 3 COURTS NEEDED
DESCRIPTION:
URL:https://tettenhalltennisclub.co.uk/event/adult-intermediates-3-courts-needed-89/
LOCATION:Tettenhall Tennis Club\, Danescourt Road\, Wolverhampton\, WV6 9BJ\, United Kingdom
CATEGORIES:Adult Coaching
ORGANIZER;CN="Simon Fellows":MAILTO:simonfellows1@outlook.com
END:VEVENT
BEGIN:VEVENT
DTSTART;TZID=UTC:20260213T183000
DTEND;TZID=UTC:20260213T194500
DTSTAMP:20260420T095625
CREATED:20260201T002808Z
LAST-MODIFIED:20260201T002808Z
UID:10983-1771007400-1771011900@tettenhalltennisclub.co.uk
SUMMARY:Adult Intermediates – 3 COURTS NEEDED
DESCRIPTION:
URL:https://tettenhalltennisclub.co.uk/event/adult-intermediates-3-courts-needed-88/
LOCATION:Tettenhall Tennis Club\, Danescourt Road\, Wolverhampton\, WV6 9BJ\, United Kingdom
CATEGORIES:Adult Coaching
ORGANIZER;CN="Simon Fellows":MAILTO:simonfellows1@outlook.com
END:VEVENT
BEGIN:VEVENT
DTSTART;TZID=UTC:20260206T183000
DTEND;TZID=UTC:20260206T194500
DTSTAMP:20260420T095625
CREATED:20260201T002729Z
LAST-MODIFIED:20260201T002729Z
UID:10981-1770402600-1770407100@tettenhalltennisclub.co.uk
SUMMARY:Adult Intermediates – 3 COURTS NEEDED
DESCRIPTION:
URL:https://tettenhalltennisclub.co.uk/event/adult-intermediates-3-courts-needed-87/
LOCATION:Tettenhall Tennis Club\, Danescourt Road\, Wolverhampton\, WV6 9BJ\, United Kingdom
CATEGORIES:Adult Coaching
ORGANIZER;CN="Simon Fellows":MAILTO:simonfellows1@outlook.com
END:VEVENT
BEGIN:VEVENT
DTSTART;TZID=UTC:20260130T183000
DTEND;TZID=UTC:20260130T194500
DTSTAMP:20260420T095625
CREATED:20260101T215813Z
LAST-MODIFIED:20260101T215813Z
UID:10920-1769797800-1769802300@tettenhalltennisclub.co.uk
SUMMARY:Adult Intermediates – 3 COURTS NEEDED
DESCRIPTION:
URL:https://tettenhalltennisclub.co.uk/event/adult-intermediates-3-courts-needed-86/
LOCATION:Tettenhall Tennis Club\, Danescourt Road\, Wolverhampton\, WV6 9BJ\, United Kingdom
CATEGORIES:Adult Coaching
ORGANIZER;CN="Simon Fellows":MAILTO:simonfellows1@outlook.com
END:VEVENT
BEGIN:VEVENT
DTSTART;TZID=UTC:20260123T183000
DTEND;TZID=UTC:20260123T194500
DTSTAMP:20260420T095625
CREATED:20260101T215743Z
LAST-MODIFIED:20260101T215743Z
UID:10918-1769193000-1769197500@tettenhalltennisclub.co.uk
SUMMARY:Adult Intermediates – 3 COURTS NEEDED
DESCRIPTION:
URL:https://tettenhalltennisclub.co.uk/event/adult-intermediates-3-courts-needed-85/
LOCATION:Tettenhall Tennis Club\, Danescourt Road\, Wolverhampton\, WV6 9BJ\, United Kingdom
CATEGORIES:Adult Coaching
ORGANIZER;CN="Simon Fellows":MAILTO:simonfellows1@outlook.com
END:VEVENT
BEGIN:VEVENT
DTSTART;TZID=UTC:20251219T183000
DTEND;TZID=UTC:20251219T194500
DTSTAMP:20260420T095625
CREATED:20251123T164947Z
LAST-MODIFIED:20251123T164947Z
UID:10850-1766169000-1766173500@tettenhalltennisclub.co.uk
SUMMARY:Adult Intermediates – 3 COURTS NEEDED
DESCRIPTION:
URL:https://tettenhalltennisclub.co.uk/event/adult-intermediates-3-courts-needed-84/
LOCATION:Tettenhall Tennis Club\, Danescourt Road\, Wolverhampton\, WV6 9BJ\, United Kingdom
CATEGORIES:Adult Coaching
ORGANIZER;CN="Simon Fellows":MAILTO:simonfellows1@outlook.com
END:VEVENT
BEGIN:VEVENT
DTSTART;TZID=UTC:20251212T183000
DTEND;TZID=UTC:20251212T194500
DTSTAMP:20260420T095625
CREATED:20251123T164916Z
LAST-MODIFIED:20251123T164916Z
UID:10848-1765564200-1765568700@tettenhalltennisclub.co.uk
SUMMARY:Adult Intermediates – 3 COURTS NEEDED
DESCRIPTION:
URL:https://tettenhalltennisclub.co.uk/event/adult-intermediates-3-courts-needed-83/
LOCATION:Tettenhall Tennis Club\, Danescourt Road\, Wolverhampton\, WV6 9BJ\, United Kingdom
CATEGORIES:Adult Coaching
ORGANIZER;CN="Simon Fellows":MAILTO:simonfellows1@outlook.com
END:VEVENT
BEGIN:VEVENT
DTSTART;TZID=UTC:20251205T183000
DTEND;TZID=UTC:20251205T194500
DTSTAMP:20260420T095625
CREATED:20251123T164822Z
LAST-MODIFIED:20251123T164822Z
UID:10846-1764959400-1764963900@tettenhalltennisclub.co.uk
SUMMARY:Adult Intermediates – 3 COURTS NEEDED
DESCRIPTION:
URL:https://tettenhalltennisclub.co.uk/event/adult-intermediates-3-courts-needed-81/
LOCATION:Tettenhall Tennis Club\, Danescourt Road\, Wolverhampton\, WV6 9BJ\, United Kingdom
CATEGORIES:Adult Coaching
ORGANIZER;CN="Simon Fellows":MAILTO:simonfellows1@outlook.com
END:VEVENT
BEGIN:VEVENT
DTSTART;TZID=UTC:20251128T183000
DTEND;TZID=UTC:20251128T194500
DTSTAMP:20260420T095625
CREATED:20251102T001910Z
LAST-MODIFIED:20251102T001910Z
UID:10799-1764354600-1764359100@tettenhalltennisclub.co.uk
SUMMARY:Adult Intermediates - 3 COURTS NEEDED
DESCRIPTION:
URL:https://tettenhalltennisclub.co.uk/event/adult-intermediates-3-courts-needed-82/
LOCATION:Tettenhall Tennis Club\, Danescourt Road\, Wolverhampton\, WV6 9BJ\, United Kingdom
CATEGORIES:Adult Coaching
ORGANIZER;CN="Simon Fellows":MAILTO:simonfellows1@outlook.com
END:VEVENT
BEGIN:VEVENT
DTSTART;TZID=UTC:20251121T183000
DTEND;TZID=UTC:20251121T194500
DTSTAMP:20260420T095625
CREATED:20251102T001804Z
LAST-MODIFIED:20251102T001804Z
UID:10795-1763749800-1763754300@tettenhalltennisclub.co.uk
SUMMARY:Adult Intermediates - 3 COURTS NEEDED
DESCRIPTION:
URL:https://tettenhalltennisclub.co.uk/event/adult-intermediates-3-courts-needed-80/
LOCATION:Tettenhall Tennis Club\, Danescourt Road\, Wolverhampton\, WV6 9BJ\, United Kingdom
CATEGORIES:Adult Coaching
ORGANIZER;CN="Simon Fellows":MAILTO:simonfellows1@outlook.com
END:VEVENT
BEGIN:VEVENT
DTSTART;TZID=UTC:20251114T183000
DTEND;TZID=UTC:20251114T194500
DTSTAMP:20260420T095625
CREATED:20251102T001738Z
LAST-MODIFIED:20251102T001738Z
UID:10793-1763145000-1763149500@tettenhalltennisclub.co.uk
SUMMARY:Adult Intermediates - 3 COURTS NEEDED
DESCRIPTION:
URL:https://tettenhalltennisclub.co.uk/event/adult-intermediates-3-courts-needed-79/
LOCATION:Tettenhall Tennis Club\, Danescourt Road\, Wolverhampton\, WV6 9BJ\, United Kingdom
CATEGORIES:Adult Coaching
ORGANIZER;CN="Simon Fellows":MAILTO:simonfellows1@outlook.com
END:VEVENT
BEGIN:VEVENT
DTSTART;TZID=UTC:20251107T183000
DTEND;TZID=UTC:20251107T194500
DTSTAMP:20260420T095625
CREATED:20251102T001709Z
LAST-MODIFIED:20251102T001709Z
UID:10791-1762540200-1762544700@tettenhalltennisclub.co.uk
SUMMARY:Adult Intermediates - 3 COURTS NEEDED
DESCRIPTION:
URL:https://tettenhalltennisclub.co.uk/event/adult-intermediates-3-courts-needed-78/
LOCATION:Tettenhall Tennis Club\, Danescourt Road\, Wolverhampton\, WV6 9BJ\, United Kingdom
CATEGORIES:Adult Coaching
ORGANIZER;CN="Simon Fellows":MAILTO:simonfellows1@outlook.com
END:VEVENT
BEGIN:VEVENT
DTSTART;TZID=UTC:20251031T183000
DTEND;TZID=UTC:20251031T194500
DTSTAMP:20260420T095625
CREATED:20250930T210801Z
LAST-MODIFIED:20250930T210926Z
UID:10710-1761935400-1761939900@tettenhalltennisclub.co.uk
SUMMARY:Adult Intermediates - 3 COURTS NEEDED
DESCRIPTION:
URL:https://tettenhalltennisclub.co.uk/event/adult-intermediates-3-courts-needed-77/
LOCATION:Tettenhall Tennis Club\, Danescourt Road\, Wolverhampton\, WV6 9BJ\, United Kingdom
CATEGORIES:Adult Coaching
ORGANIZER;CN="Simon Fellows":MAILTO:simonfellows1@outlook.com
END:VEVENT
BEGIN:VEVENT
DTSTART;TZID=UTC:20251024T183000
DTEND;TZID=UTC:20251024T194500
DTSTAMP:20260420T095625
CREATED:20250930T210719Z
LAST-MODIFIED:20250930T210946Z
UID:10708-1761330600-1761335100@tettenhalltennisclub.co.uk
SUMMARY:Adult Intermediates - 3 COURTS NEEDED
DESCRIPTION:
URL:https://tettenhalltennisclub.co.uk/event/adult-intermediates-3-courts-needed-76/
LOCATION:Tettenhall Tennis Club\, Danescourt Road\, Wolverhampton\, WV6 9BJ\, United Kingdom
CATEGORIES:Adult Coaching
ORGANIZER;CN="Simon Fellows":MAILTO:simonfellows1@outlook.com
END:VEVENT
BEGIN:VEVENT
DTSTART;TZID=UTC:20251017T183000
DTEND;TZID=UTC:20251017T194500
DTSTAMP:20260420T095625
CREATED:20250930T210609Z
LAST-MODIFIED:20250930T210609Z
UID:10706-1760725800-1760730300@tettenhalltennisclub.co.uk
SUMMARY:Adult Intermediates - 3 COURTS NEEDED
DESCRIPTION:
URL:https://tettenhalltennisclub.co.uk/event/adult-intermediates-3-courts-needed-75/
LOCATION:Tettenhall Tennis Club\, Danescourt Road\, Wolverhampton\, WV6 9BJ\, United Kingdom
CATEGORIES:Adult Coaching
ORGANIZER;CN="Simon Fellows":MAILTO:simonfellows1@outlook.com
END:VEVENT
BEGIN:VEVENT
DTSTART;TZID=UTC:20251010T183000
DTEND;TZID=UTC:20251010T194500
DTSTAMP:20260420T095625
CREATED:20250930T210534Z
LAST-MODIFIED:20250930T210534Z
UID:10704-1760121000-1760125500@tettenhalltennisclub.co.uk
SUMMARY:Adult Intermediates - 3 COURTS NEEDED
DESCRIPTION:
URL:https://tettenhalltennisclub.co.uk/event/adult-intermediates-3-courts-needed-74/
LOCATION:Tettenhall Tennis Club\, Danescourt Road\, Wolverhampton\, WV6 9BJ\, United Kingdom
CATEGORIES:Adult Coaching
ORGANIZER;CN="Simon Fellows":MAILTO:simonfellows1@outlook.com
END:VEVENT
BEGIN:VEVENT
DTSTART;TZID=UTC:20251003T183000
DTEND;TZID=UTC:20251003T194500
DTSTAMP:20260420T095625
CREATED:20250930T210424Z
LAST-MODIFIED:20250930T210424Z
UID:10702-1759516200-1759520700@tettenhalltennisclub.co.uk
SUMMARY:Adult Intermediates - 3 COURTS NEEDED
DESCRIPTION:
URL:https://tettenhalltennisclub.co.uk/event/adult-intermediates-3-courts-needed-73/
LOCATION:Tettenhall Tennis Club\, Danescourt Road\, Wolverhampton\, WV6 9BJ\, United Kingdom
CATEGORIES:Adult Coaching
ORGANIZER;CN="Simon Fellows":MAILTO:simonfellows1@outlook.com
END:VEVENT
BEGIN:VEVENT
DTSTART;TZID=UTC:20250829T183000
DTEND;TZID=UTC:20250829T193000
DTSTAMP:20260420T095625
CREATED:20250531T212635Z
LAST-MODIFIED:20250531T212635Z
UID:10490-1756492200-1756495800@tettenhalltennisclub.co.uk
SUMMARY:Adult Intermediates - 3 COURTS NEEDED
DESCRIPTION:
URL:https://tettenhalltennisclub.co.uk/event/adult-intermediates-3-courts-needed-72/
LOCATION:Tettenhall Tennis Club\, Danescourt Road\, Wolverhampton\, WV6 9BJ\, United Kingdom
CATEGORIES:Adult Coaching
ORGANIZER;CN="Simon Fellows":MAILTO:simonfellows1@outlook.com
END:VEVENT
BEGIN:VEVENT
DTSTART;TZID=UTC:20250822T183000
DTEND;TZID=UTC:20250822T193000
DTSTAMP:20260420T095625
CREATED:20250531T212601Z
LAST-MODIFIED:20250531T212601Z
UID:10488-1755887400-1755891000@tettenhalltennisclub.co.uk
SUMMARY:Adult Intermediates - 3 COURTS NEEDED
DESCRIPTION:
URL:https://tettenhalltennisclub.co.uk/event/adult-intermediates-3-courts-needed-71/
LOCATION:Tettenhall Tennis Club\, Danescourt Road\, Wolverhampton\, WV6 9BJ\, United Kingdom
CATEGORIES:Adult Coaching
ORGANIZER;CN="Simon Fellows":MAILTO:simonfellows1@outlook.com
END:VEVENT
BEGIN:VEVENT
DTSTART;TZID=UTC:20250815T183000
DTEND;TZID=UTC:20250815T193000
DTSTAMP:20260420T095625
CREATED:20250531T212450Z
LAST-MODIFIED:20250531T212450Z
UID:10486-1755282600-1755286200@tettenhalltennisclub.co.uk
SUMMARY:Adult Intermediates - 3 COURTS NEEDED
DESCRIPTION:
URL:https://tettenhalltennisclub.co.uk/event/adult-intermediates-3-courts-needed-70/
LOCATION:Tettenhall Tennis Club\, Danescourt Road\, Wolverhampton\, WV6 9BJ\, United Kingdom
CATEGORIES:Adult Coaching
ORGANIZER;CN="Simon Fellows":MAILTO:simonfellows1@outlook.com
END:VEVENT
BEGIN:VEVENT
DTSTART;TZID=UTC:20250808T183000
DTEND;TZID=UTC:20250808T193000
DTSTAMP:20260420T095625
CREATED:20250531T212408Z
LAST-MODIFIED:20250531T212408Z
UID:10484-1754677800-1754681400@tettenhalltennisclub.co.uk
SUMMARY:Adult Intermediates - 3 COURTS NEEDED
DESCRIPTION:
URL:https://tettenhalltennisclub.co.uk/event/adult-intermediates-3-courts-needed-69/
LOCATION:Tettenhall Tennis Club\, Danescourt Road\, Wolverhampton\, WV6 9BJ\, United Kingdom
CATEGORIES:Adult Coaching
ORGANIZER;CN="Simon Fellows":MAILTO:simonfellows1@outlook.com
END:VEVENT
BEGIN:VEVENT
DTSTART;TZID=UTC:20250801T183000
DTEND;TZID=UTC:20250801T193000
DTSTAMP:20260420T095625
CREATED:20250531T211825Z
LAST-MODIFIED:20250531T211825Z
UID:10482-1754073000-1754076600@tettenhalltennisclub.co.uk
SUMMARY:Adult Intermediates - 3 COURTS NEEDED
DESCRIPTION:
URL:https://tettenhalltennisclub.co.uk/event/adult-intermediates-3-courts-needed-68/
LOCATION:Tettenhall Tennis Club\, Danescourt Road\, Wolverhampton\, WV6 9BJ\, United Kingdom
CATEGORIES:Adult Coaching
ORGANIZER;CN="Simon Fellows":MAILTO:simonfellows1@outlook.com
END:VEVENT
BEGIN:VEVENT
DTSTART;TZID=UTC:20250725T183000
DTEND;TZID=UTC:20250725T193000
DTSTAMP:20260420T095625
CREATED:20250531T211729Z
LAST-MODIFIED:20250531T211729Z
UID:10480-1753468200-1753471800@tettenhalltennisclub.co.uk
SUMMARY:Adult Intermediates - 3 COURTS NEEDED
DESCRIPTION:
URL:https://tettenhalltennisclub.co.uk/event/adult-intermediates-3-courts-needed-67/
LOCATION:Tettenhall Tennis Club\, Danescourt Road\, Wolverhampton\, WV6 9BJ\, United Kingdom
CATEGORIES:Adult Coaching
ORGANIZER;CN="Simon Fellows":MAILTO:simonfellows1@outlook.com
END:VEVENT
BEGIN:VEVENT
DTSTART;TZID=UTC:20250718T183000
DTEND;TZID=UTC:20250718T193000
DTSTAMP:20260420T095625
CREATED:20250531T211703Z
LAST-MODIFIED:20250531T211703Z
UID:10478-1752863400-1752867000@tettenhalltennisclub.co.uk
SUMMARY:Adult Intermediates - 3 COURTS NEEDED
DESCRIPTION:
URL:https://tettenhalltennisclub.co.uk/event/adult-intermediates-3-courts-needed-66/
LOCATION:Tettenhall Tennis Club\, Danescourt Road\, Wolverhampton\, WV6 9BJ\, United Kingdom
CATEGORIES:Adult Coaching
ORGANIZER;CN="Simon Fellows":MAILTO:simonfellows1@outlook.com
END:VEVENT
END:VCALENDAR