BEGIN:VCALENDAR
VERSION:2.0
PRODID:-//Tettenhall Tennis Club - ECPv6.15.20//NONSGML v1.0//EN
CALSCALE:GREGORIAN
METHOD:PUBLISH
X-ORIGINAL-URL:https://tettenhalltennisclub.co.uk
X-WR-CALDESC:Events for Tettenhall Tennis Club
REFRESH-INTERVAL;VALUE=DURATION:PT1H
X-Robots-Tag:noindex
X-PUBLISHED-TTL:PT1H
BEGIN:VTIMEZONE
TZID:UTC
BEGIN:STANDARD
TZOFFSETFROM:+0000
TZOFFSETTO:+0000
TZNAME:UTC
DTSTART:20230101T000000
END:STANDARD
END:VTIMEZONE
BEGIN:VEVENT
DTSTART;TZID=UTC:20241021T183000
DTEND;TZID=UTC:20241021T200000
DTSTAMP:20260420T175649
CREATED:20241001T174805Z
LAST-MODIFIED:20241001T174805Z
UID:10112-1729535400-1729540800@tettenhalltennisclub.co.uk
SUMMARY:Club Coaching - 3 COURTS NEEDED
DESCRIPTION:
URL:https://tettenhalltennisclub.co.uk/event/club-coaching-3-courts-needed-49/
LOCATION:Tettenhall Tennis Club\, Danescourt Road\, Wolverhampton\, WV6 9BJ\, United Kingdom
CATEGORIES:Adult Coaching
ORGANIZER;CN="Simon Fellows":MAILTO:simonfellows1@outlook.com
END:VEVENT
BEGIN:VEVENT
DTSTART;TZID=UTC:20241018T183000
DTEND;TZID=UTC:20241018T194500
DTSTAMP:20260420T175649
CREATED:20241001T174417Z
LAST-MODIFIED:20241001T174417Z
UID:10104-1729276200-1729280700@tettenhalltennisclub.co.uk
SUMMARY:Adult Intermediates - 3 COURTS NEEDED
DESCRIPTION:
URL:https://tettenhalltennisclub.co.uk/event/adult-intermediates-3-courts-needed-50/
LOCATION:Tettenhall Tennis Club\, Danescourt Road\, Wolverhampton\, WV6 9BJ\, United Kingdom
CATEGORIES:Adult Coaching
ORGANIZER;CN="Simon Fellows":MAILTO:simonfellows1@outlook.com
END:VEVENT
BEGIN:VEVENT
DTSTART;TZID=UTC:20241014T183000
DTEND;TZID=UTC:20241014T200000
DTSTAMP:20260420T175649
CREATED:20241001T174732Z
LAST-MODIFIED:20241001T174732Z
UID:10110-1728930600-1728936000@tettenhalltennisclub.co.uk
SUMMARY:Club Coaching - 3 COURTS NEEDED
DESCRIPTION:
URL:https://tettenhalltennisclub.co.uk/event/club-coaching-3-courts-needed-48/
LOCATION:Tettenhall Tennis Club\, Danescourt Road\, Wolverhampton\, WV6 9BJ\, United Kingdom
CATEGORIES:Adult Coaching
ORGANIZER;CN="Simon Fellows":MAILTO:simonfellows1@outlook.com
END:VEVENT
BEGIN:VEVENT
DTSTART;TZID=UTC:20241011T183000
DTEND;TZID=UTC:20241011T194500
DTSTAMP:20260420T175649
CREATED:20241001T174340Z
LAST-MODIFIED:20241001T174340Z
UID:10102-1728671400-1728675900@tettenhalltennisclub.co.uk
SUMMARY:Adult Intermediates - 3 COURTS NEEDED
DESCRIPTION:
URL:https://tettenhalltennisclub.co.uk/event/adult-intermediates-3-courts-needed-49/
LOCATION:Tettenhall Tennis Club\, Danescourt Road\, Wolverhampton\, WV6 9BJ\, United Kingdom
CATEGORIES:Adult Coaching
ORGANIZER;CN="Simon Fellows":MAILTO:simonfellows1@outlook.com
END:VEVENT
BEGIN:VEVENT
DTSTART;TZID=UTC:20241007T183000
DTEND;TZID=UTC:20241007T200000
DTSTAMP:20260420T175649
CREATED:20241001T174643Z
LAST-MODIFIED:20241001T174643Z
UID:10108-1728325800-1728331200@tettenhalltennisclub.co.uk
SUMMARY:Club Coaching - 3 COURTS NEEDED
DESCRIPTION:
URL:https://tettenhalltennisclub.co.uk/event/club-coaching-3-courts-needed-47/
LOCATION:Tettenhall Tennis Club\, Danescourt Road\, Wolverhampton\, WV6 9BJ\, United Kingdom
CATEGORIES:Adult Coaching
ORGANIZER;CN="Simon Fellows":MAILTO:simonfellows1@outlook.com
END:VEVENT
BEGIN:VEVENT
DTSTART;TZID=UTC:20241004T183000
DTEND;TZID=UTC:20241004T194500
DTSTAMP:20260420T175649
CREATED:20241001T174255Z
LAST-MODIFIED:20241001T174255Z
UID:10100-1728066600-1728071100@tettenhalltennisclub.co.uk
SUMMARY:Adult Intermediates - 3 COURTS NEEDED
DESCRIPTION:
URL:https://tettenhalltennisclub.co.uk/event/adult-intermediates-3-courts-needed-48/
LOCATION:Tettenhall Tennis Club\, Danescourt Road\, Wolverhampton\, WV6 9BJ\, United Kingdom
CATEGORIES:Adult Coaching
ORGANIZER;CN="Simon Fellows":MAILTO:simonfellows1@outlook.com
END:VEVENT
BEGIN:VEVENT
DTSTART;TZID=UTC:20240927T183000
DTEND;TZID=UTC:20240927T194500
DTSTAMP:20260420T175649
CREATED:20240916T171354Z
LAST-MODIFIED:20240916T171354Z
UID:10014-1727461800-1727466300@tettenhalltennisclub.co.uk
SUMMARY:Adult Intermediates - 3 COURTS NEEDED
DESCRIPTION:
URL:https://tettenhalltennisclub.co.uk/event/adult-intermediates-3-courts-needed-47/
LOCATION:Tettenhall Tennis Club\, Danescourt Road\, Wolverhampton\, WV6 9BJ\, United Kingdom
CATEGORIES:Adult Coaching
ORGANIZER;CN="Simon Fellows":MAILTO:simonfellows1@outlook.com
END:VEVENT
BEGIN:VEVENT
DTSTART;TZID=UTC:20240920T183000
DTEND;TZID=UTC:20240920T194500
DTSTAMP:20260420T175649
CREATED:20240916T171327Z
LAST-MODIFIED:20240916T171327Z
UID:10012-1726857000-1726861500@tettenhalltennisclub.co.uk
SUMMARY:Adult Intermediates - 3 COURTS NEEDED
DESCRIPTION:
URL:https://tettenhalltennisclub.co.uk/event/adult-intermediates-3-courts-needed-46/
LOCATION:Tettenhall Tennis Club\, Danescourt Road\, Wolverhampton\, WV6 9BJ\, United Kingdom
CATEGORIES:Adult Coaching
ORGANIZER;CN="Simon Fellows":MAILTO:simonfellows1@outlook.com
END:VEVENT
BEGIN:VEVENT
DTSTART;TZID=UTC:20240913T183000
DTEND;TZID=UTC:20240913T194500
DTSTAMP:20260420T175649
CREATED:20240916T171302Z
LAST-MODIFIED:20240916T171302Z
UID:10010-1726252200-1726256700@tettenhalltennisclub.co.uk
SUMMARY:Adult Intermediates - 3 COURTS NEEDED
DESCRIPTION:
URL:https://tettenhalltennisclub.co.uk/event/adult-intermediates-3-courts-needed-45/
LOCATION:Tettenhall Tennis Club\, Danescourt Road\, Wolverhampton\, WV6 9BJ\, United Kingdom
CATEGORIES:Adult Coaching
ORGANIZER;CN="Simon Fellows":MAILTO:simonfellows1@outlook.com
END:VEVENT
BEGIN:VEVENT
DTSTART;TZID=UTC:20240906T183000
DTEND;TZID=UTC:20240906T194500
DTSTAMP:20260420T175649
CREATED:20240916T171241Z
LAST-MODIFIED:20240916T171241Z
UID:10008-1725647400-1725651900@tettenhalltennisclub.co.uk
SUMMARY:Adult Intermediates - 3 COURTS NEEDED
DESCRIPTION:
URL:https://tettenhalltennisclub.co.uk/event/adult-intermediates-3-courts-needed-44/
LOCATION:Tettenhall Tennis Club\, Danescourt Road\, Wolverhampton\, WV6 9BJ\, United Kingdom
CATEGORIES:Adult Coaching
ORGANIZER;CN="Simon Fellows":MAILTO:simonfellows1@outlook.com
END:VEVENT
BEGIN:VEVENT
DTSTART;TZID=UTC:20240830T183000
DTEND;TZID=UTC:20240830T193000
DTSTAMP:20260420T175649
CREATED:20240801T213650Z
LAST-MODIFIED:20240801T213650Z
UID:9922-1725042600-1725046200@tettenhalltennisclub.co.uk
SUMMARY:Adult intermediates – 3 COURTS NEEDED
DESCRIPTION:
URL:https://tettenhalltennisclub.co.uk/event/adult-intermediates-3-courts-needed-43/
LOCATION:Tettenhall Tennis Club\, Danescourt Road\, Wolverhampton\, WV6 9BJ\, United Kingdom
CATEGORIES:Adult Coaching
ORGANIZER;CN="Simon Fellows":MAILTO:simonfellows1@outlook.com
END:VEVENT
BEGIN:VEVENT
DTSTART;TZID=UTC:20240823T183000
DTEND;TZID=UTC:20240823T193000
DTSTAMP:20260420T175649
CREATED:20240801T213622Z
LAST-MODIFIED:20240801T213622Z
UID:9920-1724437800-1724441400@tettenhalltennisclub.co.uk
SUMMARY:Adult intermediates – 3 COURTS NEEDED
DESCRIPTION:
URL:https://tettenhalltennisclub.co.uk/event/adult-intermediates-3-courts-needed-42/
LOCATION:Tettenhall Tennis Club\, Danescourt Road\, Wolverhampton\, WV6 9BJ\, United Kingdom
CATEGORIES:Adult Coaching
ORGANIZER;CN="Simon Fellows":MAILTO:simonfellows1@outlook.com
END:VEVENT
BEGIN:VEVENT
DTSTART;TZID=UTC:20240816T183000
DTEND;TZID=UTC:20240816T193000
DTSTAMP:20260420T175649
CREATED:20240801T213552Z
LAST-MODIFIED:20240801T213552Z
UID:9918-1723833000-1723836600@tettenhalltennisclub.co.uk
SUMMARY:Adult intermediates – 3 COURTS NEEDED
DESCRIPTION:
URL:https://tettenhalltennisclub.co.uk/event/adult-intermediates-3-courts-needed-41/
LOCATION:Tettenhall Tennis Club\, Danescourt Road\, Wolverhampton\, WV6 9BJ\, United Kingdom
CATEGORIES:Adult Coaching
ORGANIZER;CN="Simon Fellows":MAILTO:simonfellows1@outlook.com
END:VEVENT
BEGIN:VEVENT
DTSTART;TZID=UTC:20240809T183000
DTEND;TZID=UTC:20240809T193000
DTSTAMP:20260420T175649
CREATED:20240801T213413Z
LAST-MODIFIED:20240801T213413Z
UID:9916-1723228200-1723231800@tettenhalltennisclub.co.uk
SUMMARY:Adult intermediates – 3 COURTS NEEDED
DESCRIPTION:
URL:https://tettenhalltennisclub.co.uk/event/adult-intermediates-3-courts-needed-40/
LOCATION:Tettenhall Tennis Club\, Danescourt Road\, Wolverhampton\, WV6 9BJ\, United Kingdom
CATEGORIES:Adult Coaching
ORGANIZER;CN="Simon Fellows":MAILTO:simonfellows1@outlook.com
END:VEVENT
BEGIN:VEVENT
DTSTART;TZID=UTC:20240719T183000
DTEND;TZID=UTC:20240719T193000
DTSTAMP:20260420T175649
CREATED:20240520T144801Z
LAST-MODIFIED:20240520T144801Z
UID:9772-1721413800-1721417400@tettenhalltennisclub.co.uk
SUMMARY:Adult intermediates - 3 COURTS NEEDED
DESCRIPTION:
URL:https://tettenhalltennisclub.co.uk/event/adult-intermediates-3-courts-needed-39/
LOCATION:Tettenhall Tennis Club\, Danescourt Road\, Wolverhampton\, WV6 9BJ\, United Kingdom
CATEGORIES:Adult Coaching
ORGANIZER;CN="Simon Fellows":MAILTO:simonfellows1@outlook.com
END:VEVENT
BEGIN:VEVENT
DTSTART;TZID=UTC:20240712T183000
DTEND;TZID=UTC:20240712T193000
DTSTAMP:20260420T175649
CREATED:20240520T144736Z
LAST-MODIFIED:20240520T144736Z
UID:9770-1720809000-1720812600@tettenhalltennisclub.co.uk
SUMMARY:Adult intermediates - 3 COURTS NEEDED
DESCRIPTION:
URL:https://tettenhalltennisclub.co.uk/event/adult-intermediates-3-courts-needed-38/
LOCATION:Tettenhall Tennis Club\, Danescourt Road\, Wolverhampton\, WV6 9BJ\, United Kingdom
CATEGORIES:Adult Coaching
ORGANIZER;CN="Simon Fellows":MAILTO:simonfellows1@outlook.com
END:VEVENT
BEGIN:VEVENT
DTSTART;TZID=UTC:20240705T183000
DTEND;TZID=UTC:20240705T193000
DTSTAMP:20260420T175649
CREATED:20240520T144712Z
LAST-MODIFIED:20240520T144712Z
UID:9768-1720204200-1720207800@tettenhalltennisclub.co.uk
SUMMARY:Adult intermediates - 3 COURTS NEEDED
DESCRIPTION:
URL:https://tettenhalltennisclub.co.uk/event/adult-intermediates-3-courts-needed-37/
LOCATION:Tettenhall Tennis Club\, Danescourt Road\, Wolverhampton\, WV6 9BJ\, United Kingdom
CATEGORIES:Adult Coaching
ORGANIZER;CN="Simon Fellows":MAILTO:simonfellows1@outlook.com
END:VEVENT
BEGIN:VEVENT
DTSTART;TZID=UTC:20240628T183000
DTEND;TZID=UTC:20240628T193000
DTSTAMP:20260420T175649
CREATED:20240520T144651Z
LAST-MODIFIED:20240520T144651Z
UID:9766-1719599400-1719603000@tettenhalltennisclub.co.uk
SUMMARY:Adult intermediates - 3 COURTS NEEDED
DESCRIPTION:
URL:https://tettenhalltennisclub.co.uk/event/adult-intermediates-3-courts-needed-36/
LOCATION:Tettenhall Tennis Club\, Danescourt Road\, Wolverhampton\, WV6 9BJ\, United Kingdom
CATEGORIES:Adult Coaching
ORGANIZER;CN="Simon Fellows":MAILTO:simonfellows1@outlook.com
END:VEVENT
BEGIN:VEVENT
DTSTART;TZID=UTC:20240621T183000
DTEND;TZID=UTC:20240621T193000
DTSTAMP:20260420T175649
CREATED:20240520T144628Z
LAST-MODIFIED:20240520T144628Z
UID:9764-1718994600-1718998200@tettenhalltennisclub.co.uk
SUMMARY:Adult intermediates - 3 COURTS NEEDED
DESCRIPTION:
URL:https://tettenhalltennisclub.co.uk/event/adult-intermediates-3-courts-needed-35/
LOCATION:Tettenhall Tennis Club\, Danescourt Road\, Wolverhampton\, WV6 9BJ\, United Kingdom
CATEGORIES:Adult Coaching
ORGANIZER;CN="Simon Fellows":MAILTO:simonfellows1@outlook.com
END:VEVENT
BEGIN:VEVENT
DTSTART;TZID=UTC:20240614T183000
DTEND;TZID=UTC:20240614T193000
DTSTAMP:20260420T175649
CREATED:20240520T144604Z
LAST-MODIFIED:20240520T144604Z
UID:9762-1718389800-1718393400@tettenhalltennisclub.co.uk
SUMMARY:Adult intermediates - 3 COURTS NEEDED
DESCRIPTION:
URL:https://tettenhalltennisclub.co.uk/event/adult-intermediates-3-courts-needed-34/
LOCATION:Tettenhall Tennis Club\, Danescourt Road\, Wolverhampton\, WV6 9BJ\, United Kingdom
CATEGORIES:Adult Coaching
ORGANIZER;CN="Simon Fellows":MAILTO:simonfellows1@outlook.com
END:VEVENT
BEGIN:VEVENT
DTSTART;TZID=UTC:20240607T183000
DTEND;TZID=UTC:20240607T193000
DTSTAMP:20260420T175649
CREATED:20240520T144539Z
LAST-MODIFIED:20240520T144539Z
UID:9760-1717785000-1717788600@tettenhalltennisclub.co.uk
SUMMARY:Adult intermediates - 3 COURTS NEEDED
DESCRIPTION:
URL:https://tettenhalltennisclub.co.uk/event/adult-intermediates-3-courts-needed-33/
LOCATION:Tettenhall Tennis Club\, Danescourt Road\, Wolverhampton\, WV6 9BJ\, United Kingdom
CATEGORIES:Adult Coaching
ORGANIZER;CN="Simon Fellows":MAILTO:simonfellows1@outlook.com
END:VEVENT
BEGIN:VEVENT
DTSTART;TZID=UTC:20240524T183000
DTEND;TZID=UTC:20240524T193000
DTSTAMP:20260420T175649
CREATED:20240430T195107Z
LAST-MODIFIED:20240430T195107Z
UID:9576-1716575400-1716579000@tettenhalltennisclub.co.uk
SUMMARY:Adult Intermediates - 3 COURTS NEEDED
DESCRIPTION:
URL:https://tettenhalltennisclub.co.uk/event/adult-intermediates-3-courts-needed-32/
LOCATION:Tettenhall Tennis Club\, Danescourt Road\, Wolverhampton\, WV6 9BJ\, United Kingdom
CATEGORIES:Adult Coaching
ORGANIZER;CN="Simon Fellows":MAILTO:simonfellows1@outlook.com
END:VEVENT
BEGIN:VEVENT
DTSTART;TZID=UTC:20240517T183000
DTEND;TZID=UTC:20240517T193000
DTSTAMP:20260420T175649
CREATED:20240430T195038Z
LAST-MODIFIED:20240430T195038Z
UID:9574-1715970600-1715974200@tettenhalltennisclub.co.uk
SUMMARY:Adult Intermediates - 3 COURTS NEEDED
DESCRIPTION:
URL:https://tettenhalltennisclub.co.uk/event/adult-intermediates-3-courts-needed-31/
LOCATION:Tettenhall Tennis Club\, Danescourt Road\, Wolverhampton\, WV6 9BJ\, United Kingdom
CATEGORIES:Adult Coaching
ORGANIZER;CN="Simon Fellows":MAILTO:simonfellows1@outlook.com
END:VEVENT
BEGIN:VEVENT
DTSTART;TZID=UTC:20240510T183000
DTEND;TZID=UTC:20240510T193000
DTSTAMP:20260420T175649
CREATED:20240430T195010Z
LAST-MODIFIED:20240430T195010Z
UID:9572-1715365800-1715369400@tettenhalltennisclub.co.uk
SUMMARY:Adult Intermediates - 3 COURTS NEEDED
DESCRIPTION:
URL:https://tettenhalltennisclub.co.uk/event/adult-intermediates-3-courts-needed-30/
LOCATION:Tettenhall Tennis Club\, Danescourt Road\, Wolverhampton\, WV6 9BJ\, United Kingdom
CATEGORIES:Adult Coaching
ORGANIZER;CN="Simon Fellows":MAILTO:simonfellows1@outlook.com
END:VEVENT
BEGIN:VEVENT
DTSTART;TZID=UTC:20240503T183000
DTEND;TZID=UTC:20240503T193000
DTSTAMP:20260420T175649
CREATED:20240430T194940Z
LAST-MODIFIED:20240430T194940Z
UID:9570-1714761000-1714764600@tettenhalltennisclub.co.uk
SUMMARY:Adult Intermediates - 3 COURTS NEEDED
DESCRIPTION:
URL:https://tettenhalltennisclub.co.uk/event/adult-intermediates-3-courts-needed-29/
LOCATION:Tettenhall Tennis Club\, Danescourt Road\, Wolverhampton\, WV6 9BJ\, United Kingdom
CATEGORIES:Adult Coaching
ORGANIZER;CN="Simon Fellows":MAILTO:simonfellows1@outlook.com
END:VEVENT
BEGIN:VEVENT
DTSTART;TZID=UTC:20240322T183000
DTEND;TZID=UTC:20240322T193000
DTSTAMP:20260420T175649
CREATED:20240302T192305Z
LAST-MODIFIED:20240302T192305Z
UID:9500-1711132200-1711135800@tettenhalltennisclub.co.uk
SUMMARY:Adult Intermediates - 3 COURTS NEEDED
DESCRIPTION:
URL:https://tettenhalltennisclub.co.uk/event/adult-intermediates-3-courts-needed-28/
LOCATION:Tettenhall Tennis Club\, Danescourt Road\, Wolverhampton\, WV6 9BJ\, United Kingdom
CATEGORIES:Adult Coaching
ORGANIZER;CN="Simon Fellows":MAILTO:simonfellows1@outlook.com
END:VEVENT
BEGIN:VEVENT
DTSTART;TZID=UTC:20240315T183000
DTEND;TZID=UTC:20240315T193000
DTSTAMP:20260420T175649
CREATED:20240302T192231Z
LAST-MODIFIED:20240302T192231Z
UID:9498-1710527400-1710531000@tettenhalltennisclub.co.uk
SUMMARY:Adult Intermediates - 3 COURTS NEEDED
DESCRIPTION:
URL:https://tettenhalltennisclub.co.uk/event/adult-intermediates-3-courts-needed-27/
LOCATION:Tettenhall Tennis Club\, Danescourt Road\, Wolverhampton\, WV6 9BJ\, United Kingdom
CATEGORIES:Adult Coaching
ORGANIZER;CN="Simon Fellows":MAILTO:simonfellows1@outlook.com
END:VEVENT
BEGIN:VEVENT
DTSTART;TZID=UTC:20240308T183000
DTEND;TZID=UTC:20240308T193000
DTSTAMP:20260420T175649
CREATED:20240302T192149Z
LAST-MODIFIED:20240302T192149Z
UID:9496-1709922600-1709926200@tettenhalltennisclub.co.uk
SUMMARY:Adult Intermediates - 3 COURTS NEEDED
DESCRIPTION:
URL:https://tettenhalltennisclub.co.uk/event/adult-intermediates-3-courts-needed-26/
LOCATION:Tettenhall Tennis Club\, Danescourt Road\, Wolverhampton\, WV6 9BJ\, United Kingdom
CATEGORIES:Adult Coaching
ORGANIZER;CN="Simon Fellows":MAILTO:simonfellows1@outlook.com
END:VEVENT
BEGIN:VEVENT
DTSTART;TZID=UTC:20240301T183000
DTEND;TZID=UTC:20240301T193000
DTSTAMP:20260420T175649
CREATED:20240302T192108Z
LAST-MODIFIED:20240302T192108Z
UID:9494-1709317800-1709321400@tettenhalltennisclub.co.uk
SUMMARY:Adult Intermediates - 3 COURTS NEEDED
DESCRIPTION:
URL:https://tettenhalltennisclub.co.uk/event/adult-intermediates-3-courts-needed-25/
LOCATION:Tettenhall Tennis Club\, Danescourt Road\, Wolverhampton\, WV6 9BJ\, United Kingdom
CATEGORIES:Adult Coaching
ORGANIZER;CN="Simon Fellows":MAILTO:simonfellows1@outlook.com
END:VEVENT
BEGIN:VEVENT
DTSTART;TZID=UTC:20240223T183000
DTEND;TZID=UTC:20240223T193000
DTSTAMP:20260420T175649
CREATED:20240205T170308Z
LAST-MODIFIED:20240205T170308Z
UID:9433-1708713000-1708716600@tettenhalltennisclub.co.uk
SUMMARY:Adult Intermediates - 3 COURTS NEEDED
DESCRIPTION:
URL:https://tettenhalltennisclub.co.uk/event/adult-intermediates-3-courts-needed-24/
LOCATION:Tettenhall Tennis Club\, Danescourt Road\, Wolverhampton\, WV6 9BJ\, United Kingdom
CATEGORIES:Adult Coaching
ORGANIZER;CN="Simon Fellows":MAILTO:simonfellows1@outlook.com
END:VEVENT
END:VCALENDAR