BEGIN:VCALENDAR
VERSION:2.0
PRODID:-//Tettenhall Tennis Club - ECPv6.15.20//NONSGML v1.0//EN
CALSCALE:GREGORIAN
METHOD:PUBLISH
X-ORIGINAL-URL:https://tettenhalltennisclub.co.uk
X-WR-CALDESC:Events for Tettenhall Tennis Club
REFRESH-INTERVAL;VALUE=DURATION:PT1H
X-Robots-Tag:noindex
X-PUBLISHED-TTL:PT1H
BEGIN:VTIMEZONE
TZID:UTC
BEGIN:STANDARD
TZOFFSETFROM:+0000
TZOFFSETTO:+0000
TZNAME:UTC
DTSTART:20220101T000000
END:STANDARD
END:VTIMEZONE
BEGIN:VEVENT
DTSTART;TZID=UTC:20240607T183000
DTEND;TZID=UTC:20240607T193000
DTSTAMP:20260420T211649
CREATED:20240520T144539Z
LAST-MODIFIED:20240520T144539Z
UID:9760-1717785000-1717788600@tettenhalltennisclub.co.uk
SUMMARY:Adult intermediates - 3 COURTS NEEDED
DESCRIPTION:
URL:https://tettenhalltennisclub.co.uk/event/adult-intermediates-3-courts-needed-33/
LOCATION:Tettenhall Tennis Club\, Danescourt Road\, Wolverhampton\, WV6 9BJ\, United Kingdom
CATEGORIES:Adult Coaching
ORGANIZER;CN="Simon Fellows":MAILTO:simonfellows1@outlook.com
END:VEVENT
BEGIN:VEVENT
DTSTART;TZID=UTC:20240524T183000
DTEND;TZID=UTC:20240524T193000
DTSTAMP:20260420T211649
CREATED:20240430T195107Z
LAST-MODIFIED:20240430T195107Z
UID:9576-1716575400-1716579000@tettenhalltennisclub.co.uk
SUMMARY:Adult Intermediates - 3 COURTS NEEDED
DESCRIPTION:
URL:https://tettenhalltennisclub.co.uk/event/adult-intermediates-3-courts-needed-32/
LOCATION:Tettenhall Tennis Club\, Danescourt Road\, Wolverhampton\, WV6 9BJ\, United Kingdom
CATEGORIES:Adult Coaching
ORGANIZER;CN="Simon Fellows":MAILTO:simonfellows1@outlook.com
END:VEVENT
BEGIN:VEVENT
DTSTART;TZID=UTC:20240517T183000
DTEND;TZID=UTC:20240517T193000
DTSTAMP:20260420T211649
CREATED:20240430T195038Z
LAST-MODIFIED:20240430T195038Z
UID:9574-1715970600-1715974200@tettenhalltennisclub.co.uk
SUMMARY:Adult Intermediates - 3 COURTS NEEDED
DESCRIPTION:
URL:https://tettenhalltennisclub.co.uk/event/adult-intermediates-3-courts-needed-31/
LOCATION:Tettenhall Tennis Club\, Danescourt Road\, Wolverhampton\, WV6 9BJ\, United Kingdom
CATEGORIES:Adult Coaching
ORGANIZER;CN="Simon Fellows":MAILTO:simonfellows1@outlook.com
END:VEVENT
BEGIN:VEVENT
DTSTART;TZID=UTC:20240510T183000
DTEND;TZID=UTC:20240510T193000
DTSTAMP:20260420T211649
CREATED:20240430T195010Z
LAST-MODIFIED:20240430T195010Z
UID:9572-1715365800-1715369400@tettenhalltennisclub.co.uk
SUMMARY:Adult Intermediates - 3 COURTS NEEDED
DESCRIPTION:
URL:https://tettenhalltennisclub.co.uk/event/adult-intermediates-3-courts-needed-30/
LOCATION:Tettenhall Tennis Club\, Danescourt Road\, Wolverhampton\, WV6 9BJ\, United Kingdom
CATEGORIES:Adult Coaching
ORGANIZER;CN="Simon Fellows":MAILTO:simonfellows1@outlook.com
END:VEVENT
BEGIN:VEVENT
DTSTART;TZID=UTC:20240503T183000
DTEND;TZID=UTC:20240503T193000
DTSTAMP:20260420T211649
CREATED:20240430T194940Z
LAST-MODIFIED:20240430T194940Z
UID:9570-1714761000-1714764600@tettenhalltennisclub.co.uk
SUMMARY:Adult Intermediates - 3 COURTS NEEDED
DESCRIPTION:
URL:https://tettenhalltennisclub.co.uk/event/adult-intermediates-3-courts-needed-29/
LOCATION:Tettenhall Tennis Club\, Danescourt Road\, Wolverhampton\, WV6 9BJ\, United Kingdom
CATEGORIES:Adult Coaching
ORGANIZER;CN="Simon Fellows":MAILTO:simonfellows1@outlook.com
END:VEVENT
BEGIN:VEVENT
DTSTART;TZID=UTC:20240322T183000
DTEND;TZID=UTC:20240322T193000
DTSTAMP:20260420T211649
CREATED:20240302T192305Z
LAST-MODIFIED:20240302T192305Z
UID:9500-1711132200-1711135800@tettenhalltennisclub.co.uk
SUMMARY:Adult Intermediates - 3 COURTS NEEDED
DESCRIPTION:
URL:https://tettenhalltennisclub.co.uk/event/adult-intermediates-3-courts-needed-28/
LOCATION:Tettenhall Tennis Club\, Danescourt Road\, Wolverhampton\, WV6 9BJ\, United Kingdom
CATEGORIES:Adult Coaching
ORGANIZER;CN="Simon Fellows":MAILTO:simonfellows1@outlook.com
END:VEVENT
BEGIN:VEVENT
DTSTART;TZID=UTC:20240315T183000
DTEND;TZID=UTC:20240315T193000
DTSTAMP:20260420T211649
CREATED:20240302T192231Z
LAST-MODIFIED:20240302T192231Z
UID:9498-1710527400-1710531000@tettenhalltennisclub.co.uk
SUMMARY:Adult Intermediates - 3 COURTS NEEDED
DESCRIPTION:
URL:https://tettenhalltennisclub.co.uk/event/adult-intermediates-3-courts-needed-27/
LOCATION:Tettenhall Tennis Club\, Danescourt Road\, Wolverhampton\, WV6 9BJ\, United Kingdom
CATEGORIES:Adult Coaching
ORGANIZER;CN="Simon Fellows":MAILTO:simonfellows1@outlook.com
END:VEVENT
BEGIN:VEVENT
DTSTART;TZID=UTC:20240308T183000
DTEND;TZID=UTC:20240308T193000
DTSTAMP:20260420T211649
CREATED:20240302T192149Z
LAST-MODIFIED:20240302T192149Z
UID:9496-1709922600-1709926200@tettenhalltennisclub.co.uk
SUMMARY:Adult Intermediates - 3 COURTS NEEDED
DESCRIPTION:
URL:https://tettenhalltennisclub.co.uk/event/adult-intermediates-3-courts-needed-26/
LOCATION:Tettenhall Tennis Club\, Danescourt Road\, Wolverhampton\, WV6 9BJ\, United Kingdom
CATEGORIES:Adult Coaching
ORGANIZER;CN="Simon Fellows":MAILTO:simonfellows1@outlook.com
END:VEVENT
BEGIN:VEVENT
DTSTART;TZID=UTC:20240301T183000
DTEND;TZID=UTC:20240301T193000
DTSTAMP:20260420T211649
CREATED:20240302T192108Z
LAST-MODIFIED:20240302T192108Z
UID:9494-1709317800-1709321400@tettenhalltennisclub.co.uk
SUMMARY:Adult Intermediates - 3 COURTS NEEDED
DESCRIPTION:
URL:https://tettenhalltennisclub.co.uk/event/adult-intermediates-3-courts-needed-25/
LOCATION:Tettenhall Tennis Club\, Danescourt Road\, Wolverhampton\, WV6 9BJ\, United Kingdom
CATEGORIES:Adult Coaching
ORGANIZER;CN="Simon Fellows":MAILTO:simonfellows1@outlook.com
END:VEVENT
BEGIN:VEVENT
DTSTART;TZID=UTC:20240223T183000
DTEND;TZID=UTC:20240223T193000
DTSTAMP:20260420T211649
CREATED:20240205T170308Z
LAST-MODIFIED:20240205T170308Z
UID:9433-1708713000-1708716600@tettenhalltennisclub.co.uk
SUMMARY:Adult Intermediates - 3 COURTS NEEDED
DESCRIPTION:
URL:https://tettenhalltennisclub.co.uk/event/adult-intermediates-3-courts-needed-24/
LOCATION:Tettenhall Tennis Club\, Danescourt Road\, Wolverhampton\, WV6 9BJ\, United Kingdom
CATEGORIES:Adult Coaching
ORGANIZER;CN="Simon Fellows":MAILTO:simonfellows1@outlook.com
END:VEVENT
BEGIN:VEVENT
DTSTART;TZID=UTC:20240216T183000
DTEND;TZID=UTC:20240216T193000
DTSTAMP:20260420T211649
CREATED:20240205T170230Z
LAST-MODIFIED:20240205T170230Z
UID:9431-1708108200-1708111800@tettenhalltennisclub.co.uk
SUMMARY:Adult Intermediates - 3 COURTS NEEDED
DESCRIPTION:
URL:https://tettenhalltennisclub.co.uk/event/adult-intermediates-3-courts-needed-23/
LOCATION:Tettenhall Tennis Club\, Danescourt Road\, Wolverhampton\, WV6 9BJ\, United Kingdom
CATEGORIES:Adult Coaching
ORGANIZER;CN="Simon Fellows":MAILTO:simonfellows1@outlook.com
END:VEVENT
BEGIN:VEVENT
DTSTART;TZID=UTC:20240209T183000
DTEND;TZID=UTC:20240209T193000
DTSTAMP:20260420T211649
CREATED:20240205T170158Z
LAST-MODIFIED:20240205T170158Z
UID:9429-1707503400-1707507000@tettenhalltennisclub.co.uk
SUMMARY:Adult Intermediates - 3 COURTS NEEDED
DESCRIPTION:
URL:https://tettenhalltennisclub.co.uk/event/adult-intermediates-3-courts-needed-22/
LOCATION:Tettenhall Tennis Club\, Danescourt Road\, Wolverhampton\, WV6 9BJ\, United Kingdom
CATEGORIES:Adult Coaching
ORGANIZER;CN="Simon Fellows":MAILTO:simonfellows1@outlook.com
END:VEVENT
BEGIN:VEVENT
DTSTART;TZID=UTC:20240202T183000
DTEND;TZID=UTC:20240202T193000
DTSTAMP:20260420T211649
CREATED:20240205T170132Z
LAST-MODIFIED:20240205T170132Z
UID:9427-1706898600-1706902200@tettenhalltennisclub.co.uk
SUMMARY:Adult Intermediates - 3 COURTS NEEDED
DESCRIPTION:
URL:https://tettenhalltennisclub.co.uk/event/adult-intermediates-3-courts-needed-21/
LOCATION:Tettenhall Tennis Club\, Danescourt Road\, Wolverhampton\, WV6 9BJ\, United Kingdom
CATEGORIES:Adult Coaching
ORGANIZER;CN="Simon Fellows":MAILTO:simonfellows1@outlook.com
END:VEVENT
BEGIN:VEVENT
DTSTART;TZID=UTC:20240126T183000
DTEND;TZID=UTC:20240126T193000
DTSTAMP:20260420T211649
CREATED:20240108T091311Z
LAST-MODIFIED:20240108T091311Z
UID:9315-1706293800-1706297400@tettenhalltennisclub.co.uk
SUMMARY:Adult Intermediates – 3 COURTS NEEDED
DESCRIPTION:
URL:https://tettenhalltennisclub.co.uk/event/adult-intermediates-3-courts-needed-20/
LOCATION:Tettenhall Tennis Club\, Danescourt Road\, Wolverhampton\, WV6 9BJ\, United Kingdom
CATEGORIES:Adult Coaching
ORGANIZER;CN="Simon Fellows":MAILTO:simonfellows1@outlook.com
END:VEVENT
BEGIN:VEVENT
DTSTART;TZID=UTC:20240119T183000
DTEND;TZID=UTC:20240119T193000
DTSTAMP:20260420T211649
CREATED:20240108T091210Z
LAST-MODIFIED:20240108T091210Z
UID:9313-1705689000-1705692600@tettenhalltennisclub.co.uk
SUMMARY:Adult Intermediates – 3 COURTS NEEDED
DESCRIPTION:
URL:https://tettenhalltennisclub.co.uk/event/adult-intermediates-3-courts-needed-19/
LOCATION:Tettenhall Tennis Club\, Danescourt Road\, Wolverhampton\, WV6 9BJ\, United Kingdom
CATEGORIES:Adult Coaching
ORGANIZER;CN="Simon Fellows":MAILTO:simonfellows1@outlook.com
END:VEVENT
BEGIN:VEVENT
DTSTART;TZID=UTC:20240112T183000
DTEND;TZID=UTC:20240112T193000
DTSTAMP:20260420T211649
CREATED:20240108T091038Z
LAST-MODIFIED:20240108T091038Z
UID:9311-1705084200-1705087800@tettenhalltennisclub.co.uk
SUMMARY:Adult Intermediates – 3 COURTS NEEDED
DESCRIPTION:
URL:https://tettenhalltennisclub.co.uk/event/adult-intermediates-3-courts-needed-18/
LOCATION:Tettenhall Tennis Club\, Danescourt Road\, Wolverhampton\, WV6 9BJ\, United Kingdom
CATEGORIES:Adult Coaching
ORGANIZER;CN="Simon Fellows":MAILTO:simonfellows1@outlook.com
END:VEVENT
BEGIN:VEVENT
DTSTART;TZID=UTC:20240105T183000
DTEND;TZID=UTC:20240105T193000
DTSTAMP:20260420T211649
CREATED:20240108T090831Z
LAST-MODIFIED:20240108T090831Z
UID:9309-1704479400-1704483000@tettenhalltennisclub.co.uk
SUMMARY:Adult Intermediates – 3 COURTS NEEDED
DESCRIPTION:
URL:https://tettenhalltennisclub.co.uk/event/adult-intermediates-3-courts-needed-17/
LOCATION:Tettenhall Tennis Club\, Danescourt Road\, Wolverhampton\, WV6 9BJ\, United Kingdom
CATEGORIES:Adult Coaching
ORGANIZER;CN="Simon Fellows":MAILTO:simonfellows1@outlook.com
END:VEVENT
BEGIN:VEVENT
DTSTART;TZID=UTC:20231222T183000
DTEND;TZID=UTC:20231222T193000
DTSTAMP:20260420T211649
CREATED:20231201T192857Z
LAST-MODIFIED:20231201T192857Z
UID:9275-1703269800-1703273400@tettenhalltennisclub.co.uk
SUMMARY:Adult Intermediates - 3 COURTS NEEDED
DESCRIPTION:
URL:https://tettenhalltennisclub.co.uk/event/adult-intermediates-3-courts-needed-16/
LOCATION:Tettenhall Tennis Club\, Danescourt Road\, Wolverhampton\, WV6 9BJ\, United Kingdom
CATEGORIES:Adult Coaching
ORGANIZER;CN="Simon Fellows":MAILTO:simonfellows1@outlook.com
END:VEVENT
BEGIN:VEVENT
DTSTART;TZID=UTC:20231215T183000
DTEND;TZID=UTC:20231215T193000
DTSTAMP:20260420T211649
CREATED:20231201T192826Z
LAST-MODIFIED:20231201T192826Z
UID:9273-1702665000-1702668600@tettenhalltennisclub.co.uk
SUMMARY:Adult Intermediates - 3 COURTS NEEDED
DESCRIPTION:
URL:https://tettenhalltennisclub.co.uk/event/adult-intermediates-3-courts-needed-15/
LOCATION:Tettenhall Tennis Club\, Danescourt Road\, Wolverhampton\, WV6 9BJ\, United Kingdom
CATEGORIES:Adult Coaching
ORGANIZER;CN="Simon Fellows":MAILTO:simonfellows1@outlook.com
END:VEVENT
BEGIN:VEVENT
DTSTART;TZID=UTC:20231208T183000
DTEND;TZID=UTC:20231208T193000
DTSTAMP:20260420T211649
CREATED:20231201T192803Z
LAST-MODIFIED:20231201T192803Z
UID:9271-1702060200-1702063800@tettenhalltennisclub.co.uk
SUMMARY:Adult Intermediates - 3 COURTS NEEDED
DESCRIPTION:
URL:https://tettenhalltennisclub.co.uk/event/adult-intermediates-3-courts-needed-14/
LOCATION:Tettenhall Tennis Club\, Danescourt Road\, Wolverhampton\, WV6 9BJ\, United Kingdom
CATEGORIES:Adult Coaching
ORGANIZER;CN="Simon Fellows":MAILTO:simonfellows1@outlook.com
END:VEVENT
BEGIN:VEVENT
DTSTART;TZID=UTC:20231201T183000
DTEND;TZID=UTC:20231201T193000
DTSTAMP:20260420T211649
CREATED:20231201T192730Z
LAST-MODIFIED:20231201T192730Z
UID:9269-1701455400-1701459000@tettenhalltennisclub.co.uk
SUMMARY:Adult Intermediates - 3 COURTS NEEDED
DESCRIPTION:
URL:https://tettenhalltennisclub.co.uk/event/adult-intermediates-3-courts-needed-13/
LOCATION:Tettenhall Tennis Club\, Danescourt Road\, Wolverhampton\, WV6 9BJ\, United Kingdom
CATEGORIES:Adult Coaching
ORGANIZER;CN="Simon Fellows":MAILTO:simonfellows1@outlook.com
END:VEVENT
BEGIN:VEVENT
DTSTART;TZID=UTC:20231127T183000
DTEND;TZID=UTC:20231127T200000
DTSTAMP:20260420T211649
CREATED:20231102T134151Z
LAST-MODIFIED:20231102T134151Z
UID:9197-1701109800-1701115200@tettenhalltennisclub.co.uk
SUMMARY:Club Coaching – 3 COURTS NEEDED
DESCRIPTION:
URL:https://tettenhalltennisclub.co.uk/event/club-coaching-3-courts-needed-15/
LOCATION:Tettenhall Tennis Club\, Danescourt Road\, Wolverhampton\, WV6 9BJ\, United Kingdom
CATEGORIES:Adult Coaching
ORGANIZER;CN="Simon Fellows":MAILTO:simonfellows1@outlook.com
END:VEVENT
BEGIN:VEVENT
DTSTART;TZID=UTC:20231124T183000
DTEND;TZID=UTC:20231124T193000
DTSTAMP:20260420T211649
CREATED:20231102T134021Z
LAST-MODIFIED:20231102T134021Z
UID:9193-1700850600-1700854200@tettenhalltennisclub.co.uk
SUMMARY:Adult Intermediates – 3 COURTS NEEDED
DESCRIPTION:
URL:https://tettenhalltennisclub.co.uk/event/adult-intermediates-3-courts-needed-12/
LOCATION:Tettenhall Tennis Club\, Danescourt Road\, Wolverhampton\, WV6 9BJ\, United Kingdom
CATEGORIES:Adult Coaching
ORGANIZER;CN="Simon Fellows":MAILTO:simonfellows1@outlook.com
END:VEVENT
BEGIN:VEVENT
DTSTART;TZID=UTC:20231120T183000
DTEND;TZID=UTC:20231120T200000
DTSTAMP:20260420T211649
CREATED:20231102T134126Z
LAST-MODIFIED:20231102T134126Z
UID:9195-1700505000-1700510400@tettenhalltennisclub.co.uk
SUMMARY:Club Coaching – 3 COURTS NEEDED
DESCRIPTION:
URL:https://tettenhalltennisclub.co.uk/event/club-coaching-3-courts-needed-14/
LOCATION:Tettenhall Tennis Club\, Danescourt Road\, Wolverhampton\, WV6 9BJ\, United Kingdom
CATEGORIES:Adult Coaching
ORGANIZER;CN="Simon Fellows":MAILTO:simonfellows1@outlook.com
END:VEVENT
BEGIN:VEVENT
DTSTART;TZID=UTC:20231117T183000
DTEND;TZID=UTC:20231117T193000
DTSTAMP:20260420T211649
CREATED:20231102T133953Z
LAST-MODIFIED:20231102T133953Z
UID:9191-1700245800-1700249400@tettenhalltennisclub.co.uk
SUMMARY:Adult Intermediates – 3 COURTS NEEDED
DESCRIPTION:
URL:https://tettenhalltennisclub.co.uk/event/adult-intermediates-3-courts-needed-11/
LOCATION:Tettenhall Tennis Club\, Danescourt Road\, Wolverhampton\, WV6 9BJ\, United Kingdom
CATEGORIES:Adult Coaching
ORGANIZER;CN="Simon Fellows":MAILTO:simonfellows1@outlook.com
END:VEVENT
BEGIN:VEVENT
DTSTART;TZID=UTC:20231113T183000
DTEND;TZID=UTC:20231113T200000
DTSTAMP:20260420T211649
CREATED:20231102T132831Z
LAST-MODIFIED:20231102T132906Z
UID:9167-1699900200-1699905600@tettenhalltennisclub.co.uk
SUMMARY:Club Coaching – 3 COURTS NEEDED
DESCRIPTION:
URL:https://tettenhalltennisclub.co.uk/event/club-coaching-3-courts-needed-13/
LOCATION:Tettenhall Tennis Club\, Danescourt Road\, Wolverhampton\, WV6 9BJ\, United Kingdom
CATEGORIES:Adult Coaching
ORGANIZER;CN="Simon Fellows":MAILTO:simonfellows1@outlook.com
END:VEVENT
BEGIN:VEVENT
DTSTART;TZID=UTC:20231110T183000
DTEND;TZID=UTC:20231110T193000
DTSTAMP:20260420T211649
CREATED:20231102T132159Z
LAST-MODIFIED:20231102T132159Z
UID:9159-1699641000-1699644600@tettenhalltennisclub.co.uk
SUMMARY:Adult Intermediates – 3 COURTS NEEDED
DESCRIPTION:
URL:https://tettenhalltennisclub.co.uk/event/adult-intermediates-3-courts-needed-10/
LOCATION:Tettenhall Tennis Club\, Danescourt Road\, Wolverhampton\, WV6 9BJ\, United Kingdom
CATEGORIES:Adult Coaching
ORGANIZER;CN="Simon Fellows":MAILTO:simonfellows1@outlook.com
END:VEVENT
BEGIN:VEVENT
DTSTART;TZID=UTC:20231106T183000
DTEND;TZID=UTC:20231106T200000
DTSTAMP:20260420T211649
CREATED:20231023T140537Z
LAST-MODIFIED:20231023T140537Z
UID:9150-1699295400-1699300800@tettenhalltennisclub.co.uk
SUMMARY:Club Coaching – 3 COURTS NEEDED
DESCRIPTION:
URL:https://tettenhalltennisclub.co.uk/event/club-coaching-3-courts-needed-12/
LOCATION:Tettenhall Tennis Club\, Danescourt Road\, Wolverhampton\, WV6 9BJ\, United Kingdom
CATEGORIES:Adult Coaching
ORGANIZER;CN="Simon Fellows":MAILTO:simonfellows1@outlook.com
END:VEVENT
BEGIN:VEVENT
DTSTART;TZID=UTC:20231103T183000
DTEND;TZID=UTC:20231103T193000
DTSTAMP:20260420T211649
CREATED:20231023T110822Z
LAST-MODIFIED:20231023T111527Z
UID:9139-1699036200-1699039800@tettenhalltennisclub.co.uk
SUMMARY:Adult Intermediates – 3 COURTS NEEDED
DESCRIPTION:
URL:https://tettenhalltennisclub.co.uk/event/adult-intermediates-3-courts-needed-9/
LOCATION:Tettenhall Tennis Club\, Danescourt Road\, Wolverhampton\, WV6 9BJ\, United Kingdom
CATEGORIES:Adult Coaching
ORGANIZER;CN="Simon Fellows":MAILTO:simonfellows1@outlook.com
END:VEVENT
BEGIN:VEVENT
DTSTART;TZID=UTC:20231027T183000
DTEND;TZID=UTC:20231027T193000
DTSTAMP:20260420T211649
CREATED:20230930T214131Z
LAST-MODIFIED:20230930T214131Z
UID:9108-1698431400-1698435000@tettenhalltennisclub.co.uk
SUMMARY:Adult Intermediates - 3 COURTS NEEDED
DESCRIPTION:
URL:https://tettenhalltennisclub.co.uk/event/adult-intermediates-3-courts-needed-8/
LOCATION:Tettenhall Tennis Club\, Danescourt Road\, Wolverhampton\, WV6 9BJ\, United Kingdom
CATEGORIES:Adult Coaching
ORGANIZER;CN="Simon Fellows":MAILTO:simonfellows1@outlook.com
END:VEVENT
END:VCALENDAR