BEGIN:VCALENDAR
VERSION:2.0
PRODID:-//Tettenhall Tennis Club - ECPv6.15.20//NONSGML v1.0//EN
CALSCALE:GREGORIAN
METHOD:PUBLISH
X-WR-CALNAME:Tettenhall Tennis Club
X-ORIGINAL-URL:https://tettenhalltennisclub.co.uk
X-WR-CALDESC:Events for Tettenhall Tennis Club
REFRESH-INTERVAL;VALUE=DURATION:PT1H
X-Robots-Tag:noindex
X-PUBLISHED-TTL:PT1H
BEGIN:VTIMEZONE
TZID:UTC
BEGIN:STANDARD
TZOFFSETFROM:+0000
TZOFFSETTO:+0000
TZNAME:UTC
DTSTART:20230101T000000
END:STANDARD
END:VTIMEZONE
BEGIN:VEVENT
DTSTART;TZID=UTC:20250615T100000
DTEND;TZID=UTC:20250615T120000
DTSTAMP:20260421T003403
CREATED:20250531T210026Z
LAST-MODIFIED:20250531T210026Z
UID:10440-1749981600-1749988800@tettenhalltennisclub.co.uk
SUMMARY:Mix In
DESCRIPTION:
URL:https://tettenhalltennisclub.co.uk/event/mix-in-128/
LOCATION:Tettenhall Tennis Club\, Danescourt Road\, Wolverhampton\, WV6 9BJ\, United Kingdom
CATEGORIES:Club Tennis
END:VEVENT
BEGIN:VEVENT
DTSTART;TZID=UTC:20250614T133000
DTEND;TZID=UTC:20250614T153000
DTSTAMP:20260421T003403
CREATED:20250531T222303Z
LAST-MODIFIED:20250531T222303Z
UID:10565-1749907800-1749915000@tettenhalltennisclub.co.uk
SUMMARY:Club Afternoon - 3 COURTS NEEDED
DESCRIPTION:
URL:https://tettenhalltennisclub.co.uk/event/club-afternoon-3-courts-needed-10/
LOCATION:Tettenhall Tennis Club\, Danescourt Road\, Wolverhampton\, WV6 9BJ\, United Kingdom
CATEGORIES:Club Tennis
ORGANIZER;CN="Simon Fellows":MAILTO:simonfellows1@outlook.com
END:VEVENT
BEGIN:VEVENT
DTSTART;TZID=UTC:20250612T183000
DTEND;TZID=UTC:20250612T200000
DTSTAMP:20260421T003403
CREATED:20250531T220735Z
LAST-MODIFIED:20250531T220735Z
UID:10528-1749753000-1749758400@tettenhalltennisclub.co.uk
SUMMARY:Advanced Mix In - 3 COURTS NEEDED
DESCRIPTION:
URL:https://tettenhalltennisclub.co.uk/event/advanced-mix-in-3-courts-needed-2/
LOCATION:Tettenhall Tennis Club\, Danescourt Road\, Wolverhampton\, WV6 9BJ\, United Kingdom
CATEGORIES:Club Tennis
END:VEVENT
BEGIN:VEVENT
DTSTART;TZID=UTC:20250610T100000
DTEND;TZID=UTC:20250610T120000
DTSTAMP:20260421T003403
CREATED:20250519T201357Z
LAST-MODIFIED:20250519T201357Z
UID:10419-1749549600-1749556800@tettenhalltennisclub.co.uk
SUMMARY:Mix In
DESCRIPTION:
URL:https://tettenhalltennisclub.co.uk/event/mix-in-125/
LOCATION:Tettenhall Tennis Club\, Danescourt Road\, Wolverhampton\, WV6 9BJ\, United Kingdom
CATEGORIES:Club Tennis
END:VEVENT
BEGIN:VEVENT
DTSTART;TZID=UTC:20250605T183000
DTEND;TZID=UTC:20250605T200000
DTSTAMP:20260421T003403
CREATED:20250531T220700Z
LAST-MODIFIED:20250531T220700Z
UID:10526-1749148200-1749153600@tettenhalltennisclub.co.uk
SUMMARY:Advanced Mix In - 3 COURTS NEEDED
DESCRIPTION:
URL:https://tettenhalltennisclub.co.uk/event/advanced-mix-in-3-courts-needed/
LOCATION:Tettenhall Tennis Club\, Danescourt Road\, Wolverhampton\, WV6 9BJ\, United Kingdom
CATEGORIES:Club Tennis
END:VEVENT
BEGIN:VEVENT
DTSTART;TZID=UTC:20250603T100000
DTEND;TZID=UTC:20250603T120000
DTSTAMP:20260421T003403
CREATED:20250519T201320Z
LAST-MODIFIED:20250519T201320Z
UID:10417-1748944800-1748952000@tettenhalltennisclub.co.uk
SUMMARY:Mix In
DESCRIPTION:
URL:https://tettenhalltennisclub.co.uk/event/mix-in-124/
LOCATION:Tettenhall Tennis Club\, Danescourt Road\, Wolverhampton\, WV6 9BJ\, United Kingdom
CATEGORIES:Club Tennis
END:VEVENT
BEGIN:VEVENT
DTSTART;TZID=UTC:20250601T100000
DTEND;TZID=UTC:20250601T120000
DTSTAMP:20260421T003403
CREATED:20250531T205908Z
LAST-MODIFIED:20250531T205908Z
UID:10436-1748772000-1748779200@tettenhalltennisclub.co.uk
SUMMARY:Mix In
DESCRIPTION:
URL:https://tettenhalltennisclub.co.uk/event/mix-in-126/
LOCATION:Tettenhall Tennis Club\, Danescourt Road\, Wolverhampton\, WV6 9BJ\, United Kingdom
CATEGORIES:Club Tennis
END:VEVENT
BEGIN:VEVENT
DTSTART;TZID=UTC:20250327T183000
DTEND;TZID=UTC:20250327T200000
DTSTAMP:20260421T003403
CREATED:20250210T163743Z
LAST-MODIFIED:20250210T163743Z
UID:10303-1743100200-1743105600@tettenhalltennisclub.co.uk
SUMMARY:Advanced Mix In
DESCRIPTION:
URL:https://tettenhalltennisclub.co.uk/event/advanced-mix-in-58/
LOCATION:Tettenhall Tennis Club\, Danescourt Road\, Wolverhampton\, WV6 9BJ\, United Kingdom
CATEGORIES:Club Tennis
END:VEVENT
BEGIN:VEVENT
DTSTART;TZID=UTC:20250320T183000
DTEND;TZID=UTC:20250320T200000
DTSTAMP:20260421T003403
CREATED:20250210T163629Z
LAST-MODIFIED:20250210T163629Z
UID:10299-1742495400-1742500800@tettenhalltennisclub.co.uk
SUMMARY:Advanced Mix In
DESCRIPTION:
URL:https://tettenhalltennisclub.co.uk/event/advanced-mix-in-56/
LOCATION:Tettenhall Tennis Club\, Danescourt Road\, Wolverhampton\, WV6 9BJ\, United Kingdom
CATEGORIES:Club Tennis
END:VEVENT
BEGIN:VEVENT
DTSTART;TZID=UTC:20250313T183000
DTEND;TZID=UTC:20250313T200000
DTSTAMP:20260421T003403
CREATED:20250210T163603Z
LAST-MODIFIED:20250210T163603Z
UID:10297-1741890600-1741896000@tettenhalltennisclub.co.uk
SUMMARY:Advanced Mix In
DESCRIPTION:
URL:https://tettenhalltennisclub.co.uk/event/advanced-mix-in-55/
LOCATION:Tettenhall Tennis Club\, Danescourt Road\, Wolverhampton\, WV6 9BJ\, United Kingdom
CATEGORIES:Club Tennis
END:VEVENT
BEGIN:VEVENT
DTSTART;TZID=UTC:20250306T183000
DTEND;TZID=UTC:20250306T200000
DTSTAMP:20260421T003403
CREATED:20250210T163539Z
LAST-MODIFIED:20250210T163539Z
UID:10295-1741285800-1741291200@tettenhalltennisclub.co.uk
SUMMARY:Advanced Mix In
DESCRIPTION:
URL:https://tettenhalltennisclub.co.uk/event/advanced-mix-in-54/
LOCATION:Tettenhall Tennis Club\, Danescourt Road\, Wolverhampton\, WV6 9BJ\, United Kingdom
CATEGORIES:Club Tennis
END:VEVENT
BEGIN:VEVENT
DTSTART;TZID=UTC:20250227T183000
DTEND;TZID=UTC:20250227T200000
DTSTAMP:20260421T003403
CREATED:20250119T233419Z
LAST-MODIFIED:20250119T233419Z
UID:10213-1740681000-1740686400@tettenhalltennisclub.co.uk
SUMMARY:Advanced Mix In
DESCRIPTION:
URL:https://tettenhalltennisclub.co.uk/event/advanced-mix-in-53/
LOCATION:Tettenhall Tennis Club\, Danescourt Road\, Wolverhampton\, WV6 9BJ\, United Kingdom
CATEGORIES:Club Tennis
END:VEVENT
BEGIN:VEVENT
DTSTART;TZID=UTC:20250225T100000
DTEND;TZID=UTC:20250225T120000
DTSTAMP:20260421T003403
CREATED:20250119T232902Z
LAST-MODIFIED:20250119T232902Z
UID:10198-1740477600-1740484800@tettenhalltennisclub.co.uk
SUMMARY:Mix In
DESCRIPTION:
URL:https://tettenhalltennisclub.co.uk/event/mix-in-110/
LOCATION:Tettenhall Tennis Club\, Danescourt Road\, Wolverhampton\, WV6 9BJ\, United Kingdom
CATEGORIES:Club Tennis
END:VEVENT
BEGIN:VEVENT
DTSTART;TZID=UTC:20250220T183000
DTEND;TZID=UTC:20250220T200000
DTSTAMP:20260421T003403
CREATED:20250119T233329Z
LAST-MODIFIED:20250119T233329Z
UID:10211-1740076200-1740081600@tettenhalltennisclub.co.uk
SUMMARY:Advanced Mix In
DESCRIPTION:
URL:https://tettenhalltennisclub.co.uk/event/advanced-mix-in-52/
LOCATION:Tettenhall Tennis Club\, Danescourt Road\, Wolverhampton\, WV6 9BJ\, United Kingdom
CATEGORIES:Club Tennis
END:VEVENT
BEGIN:VEVENT
DTSTART;TZID=UTC:20250218T100000
DTEND;TZID=UTC:20250218T120000
DTSTAMP:20260421T003403
CREATED:20250119T232840Z
LAST-MODIFIED:20250119T232840Z
UID:10196-1739872800-1739880000@tettenhalltennisclub.co.uk
SUMMARY:Mix In
DESCRIPTION:
URL:https://tettenhalltennisclub.co.uk/event/mix-in-109/
LOCATION:Tettenhall Tennis Club\, Danescourt Road\, Wolverhampton\, WV6 9BJ\, United Kingdom
CATEGORIES:Club Tennis
END:VEVENT
BEGIN:VEVENT
DTSTART;TZID=UTC:20250213T183000
DTEND;TZID=UTC:20250213T200000
DTSTAMP:20260421T003403
CREATED:20250119T233300Z
LAST-MODIFIED:20250119T233300Z
UID:10209-1739471400-1739476800@tettenhalltennisclub.co.uk
SUMMARY:Advanced Mix In
DESCRIPTION:
URL:https://tettenhalltennisclub.co.uk/event/advanced-mix-in-51/
LOCATION:Tettenhall Tennis Club\, Danescourt Road\, Wolverhampton\, WV6 9BJ\, United Kingdom
CATEGORIES:Club Tennis
END:VEVENT
BEGIN:VEVENT
DTSTART;TZID=UTC:20250211T100000
DTEND;TZID=UTC:20250211T120000
DTSTAMP:20260421T003403
CREATED:20250119T232810Z
LAST-MODIFIED:20250119T232810Z
UID:10194-1739268000-1739275200@tettenhalltennisclub.co.uk
SUMMARY:Mix In
DESCRIPTION:
URL:https://tettenhalltennisclub.co.uk/event/mix-in-108/
LOCATION:Tettenhall Tennis Club\, Danescourt Road\, Wolverhampton\, WV6 9BJ\, United Kingdom
CATEGORIES:Club Tennis
END:VEVENT
BEGIN:VEVENT
DTSTART;TZID=UTC:20250206T183000
DTEND;TZID=UTC:20250206T200000
DTSTAMP:20260421T003403
CREATED:20250119T233235Z
LAST-MODIFIED:20250119T233235Z
UID:10207-1738866600-1738872000@tettenhalltennisclub.co.uk
SUMMARY:Advanced Mix In
DESCRIPTION:
URL:https://tettenhalltennisclub.co.uk/event/advanced-mix-in-50/
LOCATION:Tettenhall Tennis Club\, Danescourt Road\, Wolverhampton\, WV6 9BJ\, United Kingdom
CATEGORIES:Club Tennis
END:VEVENT
BEGIN:VEVENT
DTSTART;TZID=UTC:20250204T100000
DTEND;TZID=UTC:20250204T120000
DTSTAMP:20260421T003403
CREATED:20250119T232440Z
LAST-MODIFIED:20250119T232440Z
UID:10190-1738663200-1738670400@tettenhalltennisclub.co.uk
SUMMARY:Mix In
DESCRIPTION:
URL:https://tettenhalltennisclub.co.uk/event/mix-in-107/
LOCATION:Tettenhall Tennis Club\, Danescourt Road\, Wolverhampton\, WV6 9BJ\, United Kingdom
CATEGORIES:Club Tennis
END:VEVENT
BEGIN:VEVENT
DTSTART;TZID=UTC:20250130T183000
DTEND;TZID=UTC:20250130T200000
DTSTAMP:20260421T003403
CREATED:20250119T233034Z
LAST-MODIFIED:20250119T233034Z
UID:10202-1738261800-1738267200@tettenhalltennisclub.co.uk
SUMMARY:Advanced Mix In
DESCRIPTION:
URL:https://tettenhalltennisclub.co.uk/event/advanced-mix-in-49/
LOCATION:Tettenhall Tennis Club\, Danescourt Road\, Wolverhampton\, WV6 9BJ\, United Kingdom
CATEGORIES:Club Tennis
END:VEVENT
BEGIN:VEVENT
DTSTART;TZID=UTC:20250128T100000
DTEND;TZID=UTC:20250128T120000
DTSTAMP:20260421T003403
CREATED:20250119T232732Z
LAST-MODIFIED:20250119T232732Z
UID:10192-1738058400-1738065600@tettenhalltennisclub.co.uk
SUMMARY:Mix In
DESCRIPTION:
URL:https://tettenhalltennisclub.co.uk/event/mix-in-106/
LOCATION:Tettenhall Tennis Club\, Danescourt Road\, Wolverhampton\, WV6 9BJ\, United Kingdom
CATEGORIES:Club Tennis
END:VEVENT
BEGIN:VEVENT
DTSTART;TZID=UTC:20250123T183000
DTEND;TZID=UTC:20250123T200000
DTSTAMP:20260421T003403
CREATED:20250119T233204Z
LAST-MODIFIED:20250119T233204Z
UID:10205-1737657000-1737662400@tettenhalltennisclub.co.uk
SUMMARY:Advanced Mix In
DESCRIPTION:
URL:https://tettenhalltennisclub.co.uk/event/advanced-mix-in-48/
LOCATION:Tettenhall Tennis Club\, Danescourt Road\, Wolverhampton\, WV6 9BJ\, United Kingdom
CATEGORIES:Club Tennis
END:VEVENT
BEGIN:VEVENT
DTSTART;TZID=UTC:20250121T100000
DTEND;TZID=UTC:20250121T120000
DTSTAMP:20260421T003403
CREATED:20250119T232313Z
LAST-MODIFIED:20250119T232313Z
UID:10186-1737453600-1737460800@tettenhalltennisclub.co.uk
SUMMARY:Mix In
DESCRIPTION:
URL:https://tettenhalltennisclub.co.uk/event/mix-in-105/
LOCATION:Tettenhall Tennis Club\, Danescourt Road\, Wolverhampton\, WV6 9BJ\, United Kingdom
CATEGORIES:Club Tennis
END:VEVENT
BEGIN:VEVENT
DTSTART;TZID=UTC:20241031T183000
DTEND;TZID=UTC:20241031T200000
DTSTAMP:20260421T003403
CREATED:20241001T174126Z
LAST-MODIFIED:20241001T174126Z
UID:10098-1730399400-1730404800@tettenhalltennisclub.co.uk
SUMMARY:Advanced Mix In
DESCRIPTION:
URL:https://tettenhalltennisclub.co.uk/event/advanced-mix-in-47/
LOCATION:Tettenhall Tennis Club\, Danescourt Road\, Wolverhampton\, WV6 9BJ\, United Kingdom
CATEGORIES:Club Tennis
END:VEVENT
BEGIN:VEVENT
DTSTART;TZID=UTC:20241029T100000
DTEND;TZID=UTC:20241029T120000
DTSTAMP:20260421T003403
CREATED:20241001T173314Z
LAST-MODIFIED:20241001T173314Z
UID:10086-1730196000-1730203200@tettenhalltennisclub.co.uk
SUMMARY:Mix In
DESCRIPTION:
URL:https://tettenhalltennisclub.co.uk/event/mix-in-100/
LOCATION:Tettenhall Tennis Club\, Danescourt Road\, Wolverhampton\, WV6 9BJ\, United Kingdom
CATEGORIES:Club Tennis
END:VEVENT
BEGIN:VEVENT
DTSTART;TZID=UTC:20241027T100000
DTEND;TZID=UTC:20241027T120000
DTSTAMP:20260421T003403
CREATED:20241001T175320Z
LAST-MODIFIED:20241001T175320Z
UID:10122-1730023200-1730030400@tettenhalltennisclub.co.uk
SUMMARY:Mix In
DESCRIPTION:
URL:https://tettenhalltennisclub.co.uk/event/mix-in-104/
LOCATION:Tettenhall Tennis Club\, Danescourt Road\, Wolverhampton\, WV6 9BJ\, United Kingdom
CATEGORIES:Club Tennis
END:VEVENT
BEGIN:VEVENT
DTSTART;TZID=UTC:20241024T183000
DTEND;TZID=UTC:20241024T200000
DTSTAMP:20260421T003403
CREATED:20241001T174012Z
LAST-MODIFIED:20241001T174012Z
UID:10096-1729794600-1729800000@tettenhalltennisclub.co.uk
SUMMARY:Advanced Mix In
DESCRIPTION:
URL:https://tettenhalltennisclub.co.uk/event/advanced-mix-in-46/
LOCATION:Tettenhall Tennis Club\, Danescourt Road\, Wolverhampton\, WV6 9BJ\, United Kingdom
CATEGORIES:Club Tennis
END:VEVENT
BEGIN:VEVENT
DTSTART;TZID=UTC:20241022T080000
DTEND;TZID=UTC:20241022T120000
DTSTAMP:20260421T003403
CREATED:20241001T173237Z
LAST-MODIFIED:20241001T173237Z
UID:10084-1729584000-1729598400@tettenhalltennisclub.co.uk
SUMMARY:Mix In
DESCRIPTION:
URL:https://tettenhalltennisclub.co.uk/event/mix-in-99/
LOCATION:Tettenhall Tennis Club\, Danescourt Road\, Wolverhampton\, WV6 9BJ\, United Kingdom
CATEGORIES:Club Tennis
END:VEVENT
BEGIN:VEVENT
DTSTART;TZID=UTC:20241020T100000
DTEND;TZID=UTC:20241020T120000
DTSTAMP:20260421T003403
CREATED:20241001T175238Z
LAST-MODIFIED:20241001T175238Z
UID:10120-1729418400-1729425600@tettenhalltennisclub.co.uk
SUMMARY:Mix In
DESCRIPTION:
URL:https://tettenhalltennisclub.co.uk/event/mix-in-103/
LOCATION:Tettenhall Tennis Club\, Danescourt Road\, Wolverhampton\, WV6 9BJ\, United Kingdom
CATEGORIES:Club Tennis
END:VEVENT
BEGIN:VEVENT
DTSTART;TZID=UTC:20241019T133000
DTEND;TZID=UTC:20241019T153000
DTSTAMP:20260421T003403
CREATED:20241001T173724Z
LAST-MODIFIED:20241001T173724Z
UID:10088-1729344600-1729351800@tettenhalltennisclub.co.uk
SUMMARY:Club Afternoon - 3 COURTS NEEDED
DESCRIPTION:
URL:https://tettenhalltennisclub.co.uk/event/club-afternoon-3-courts-needed-9/
LOCATION:Tettenhall Tennis Club\, Danescourt Road\, Wolverhampton\, WV6 9BJ\, United Kingdom
CATEGORIES:Club Tennis
ORGANIZER;CN="Simon Fellows":MAILTO:simonfellows1@outlook.com
END:VEVENT
END:VCALENDAR