BEGIN:VCALENDAR
VERSION:2.0
PRODID:-//Tettenhall Tennis Club - ECPv6.15.20//NONSGML v1.0//EN
CALSCALE:GREGORIAN
METHOD:PUBLISH
X-ORIGINAL-URL:https://tettenhalltennisclub.co.uk
X-WR-CALDESC:Events for Tettenhall Tennis Club
REFRESH-INTERVAL;VALUE=DURATION:PT1H
X-Robots-Tag:noindex
X-PUBLISHED-TTL:PT1H
BEGIN:VTIMEZONE
TZID:UTC
BEGIN:STANDARD
TZOFFSETFROM:+0000
TZOFFSETTO:+0000
TZNAME:UTC
DTSTART:20230101T000000
END:STANDARD
END:VTIMEZONE
BEGIN:VEVENT
DTSTART;TZID=UTC:20240813T100000
DTEND;TZID=UTC:20240813T120000
DTSTAMP:20260421T104053
CREATED:20240801T215006Z
LAST-MODIFIED:20240801T215006Z
UID:9930-1723543200-1723550400@tettenhalltennisclub.co.uk
SUMMARY:Mix In
DESCRIPTION:
URL:https://tettenhalltennisclub.co.uk/event/mix-in-80/
LOCATION:Tettenhall Tennis Club\, Danescourt Road\, Wolverhampton\, WV6 9BJ\, United Kingdom
CATEGORIES:Club Tennis
END:VEVENT
BEGIN:VEVENT
DTSTART;TZID=UTC:20240811T100000
DTEND;TZID=UTC:20240811T120000
DTSTAMP:20260421T104053
CREATED:20240801T215650Z
LAST-MODIFIED:20240801T215650Z
UID:9938-1723370400-1723377600@tettenhalltennisclub.co.uk
SUMMARY:Mix In
DESCRIPTION:
URL:https://tettenhalltennisclub.co.uk/event/mix-in-84/
LOCATION:Tettenhall Tennis Club\, Danescourt Road\, Wolverhampton\, WV6 9BJ\, United Kingdom
CATEGORIES:Club Tennis
ORGANIZER;CN="Simon Fellows":MAILTO:simonfellows1@outlook.com
END:VEVENT
BEGIN:VEVENT
DTSTART;TZID=UTC:20240808T183000
DTEND;TZID=UTC:20240808T200000
DTSTAMP:20260421T104053
CREATED:20240801T220322Z
LAST-MODIFIED:20240801T220322Z
UID:9946-1723141800-1723147200@tettenhalltennisclub.co.uk
SUMMARY:Advanced Mix In
DESCRIPTION:
URL:https://tettenhalltennisclub.co.uk/event/advanced-mix-in-35/
LOCATION:Tettenhall Tennis Club\, Danescourt Road\, Wolverhampton\, WV6 9BJ\, United Kingdom
CATEGORIES:Club Tennis
END:VEVENT
BEGIN:VEVENT
DTSTART;TZID=UTC:20240806T100000
DTEND;TZID=UTC:20240806T120000
DTSTAMP:20260421T104053
CREATED:20240801T214726Z
LAST-MODIFIED:20240801T214726Z
UID:9928-1722938400-1722945600@tettenhalltennisclub.co.uk
SUMMARY:Mix In
DESCRIPTION:
URL:https://tettenhalltennisclub.co.uk/event/mix-in-77/
LOCATION:Tettenhall Tennis Club\, Danescourt Road\, Wolverhampton\, WV6 9BJ\, United Kingdom
CATEGORIES:Club Tennis
END:VEVENT
BEGIN:VEVENT
DTSTART;TZID=UTC:20240804T100000
DTEND;TZID=UTC:20240804T120000
DTSTAMP:20260421T104053
CREATED:20240801T215458Z
LAST-MODIFIED:20240801T215458Z
UID:9936-1722765600-1722772800@tettenhalltennisclub.co.uk
SUMMARY:Mix In
DESCRIPTION:
URL:https://tettenhalltennisclub.co.uk/event/mix-in-83/
LOCATION:Tettenhall Tennis Club\, Danescourt Road\, Wolverhampton\, WV6 9BJ\, United Kingdom
CATEGORIES:Club Tennis
ORGANIZER;CN="Simon Fellows":MAILTO:simonfellows1@outlook.com
END:VEVENT
BEGIN:VEVENT
DTSTART;TZID=UTC:20240801T183000
DTEND;TZID=UTC:20240801T200000
DTSTAMP:20260421T104053
CREATED:20240801T220158Z
LAST-MODIFIED:20240801T220158Z
UID:9944-1722537000-1722542400@tettenhalltennisclub.co.uk
SUMMARY:Advanced Mix In
DESCRIPTION:
URL:https://tettenhalltennisclub.co.uk/event/advanced-mix-in-34/
LOCATION:Tettenhall Tennis Club\, Danescourt Road\, Wolverhampton\, WV6 9BJ\, United Kingdom
CATEGORIES:Club Tennis
END:VEVENT
BEGIN:VEVENT
DTSTART;TZID=UTC:20240730T100000
DTEND;TZID=UTC:20240730T120000
DTSTAMP:20260421T104053
CREATED:20240520T144431Z
LAST-MODIFIED:20240520T144431Z
UID:9758-1722333600-1722340800@tettenhalltennisclub.co.uk
SUMMARY:Mix In
DESCRIPTION:
URL:https://tettenhalltennisclub.co.uk/event/mix-in-70/
LOCATION:Tettenhall Tennis Club\, Danescourt Road\, Wolverhampton\, WV6 9BJ\, United Kingdom
CATEGORIES:Club Tennis
END:VEVENT
BEGIN:VEVENT
DTSTART;TZID=UTC:20240728T100000
DTEND;TZID=UTC:20240728T120000
DTSTAMP:20260421T104053
CREATED:20240520T145416Z
LAST-MODIFIED:20240520T145416Z
UID:9792-1722160800-1722168000@tettenhalltennisclub.co.uk
SUMMARY:Mix In
DESCRIPTION:
URL:https://tettenhalltennisclub.co.uk/event/mix-in-78/
LOCATION:Tettenhall Tennis Club\, Danescourt Road\, Wolverhampton\, WV6 9BJ\, United Kingdom
CATEGORIES:Club Tennis
END:VEVENT
BEGIN:VEVENT
DTSTART;TZID=UTC:20240723T100000
DTEND;TZID=UTC:20240723T120000
DTSTAMP:20260421T104053
CREATED:20240520T144359Z
LAST-MODIFIED:20240520T144359Z
UID:9756-1721728800-1721736000@tettenhalltennisclub.co.uk
SUMMARY:Mix In
DESCRIPTION:
URL:https://tettenhalltennisclub.co.uk/event/mix-in-69/
LOCATION:Tettenhall Tennis Club\, Danescourt Road\, Wolverhampton\, WV6 9BJ\, United Kingdom
CATEGORIES:Club Tennis
END:VEVENT
BEGIN:VEVENT
DTSTART;TZID=UTC:20240721T100000
DTEND;TZID=UTC:20240721T120000
DTSTAMP:20260421T104053
CREATED:20240520T145452Z
LAST-MODIFIED:20240520T145452Z
UID:9794-1721556000-1721563200@tettenhalltennisclub.co.uk
SUMMARY:Mix In
DESCRIPTION:
URL:https://tettenhalltennisclub.co.uk/event/mix-in-79/
LOCATION:Tettenhall Tennis Club\, Danescourt Road\, Wolverhampton\, WV6 9BJ\, United Kingdom
CATEGORIES:Club Tennis
END:VEVENT
BEGIN:VEVENT
DTSTART;TZID=UTC:20240718T183000
DTEND;TZID=UTC:20240718T200000
DTSTAMP:20260421T104053
CREATED:20240520T144019Z
LAST-MODIFIED:20240520T144019Z
UID:9745-1721327400-1721332800@tettenhalltennisclub.co.uk
SUMMARY:Club Tennis
DESCRIPTION:
URL:https://tettenhalltennisclub.co.uk/event/club-tennis-8/
LOCATION:Tettenhall Tennis Club\, Danescourt Road\, Wolverhampton\, WV6 9BJ\, United Kingdom
CATEGORIES:Club Tennis
END:VEVENT
BEGIN:VEVENT
DTSTART;TZID=UTC:20240716T100000
DTEND;TZID=UTC:20240716T120000
DTSTAMP:20260421T104053
CREATED:20240520T144332Z
LAST-MODIFIED:20240520T144332Z
UID:9754-1721124000-1721131200@tettenhalltennisclub.co.uk
SUMMARY:Mix In
DESCRIPTION:
URL:https://tettenhalltennisclub.co.uk/event/mix-in-68/
LOCATION:Tettenhall Tennis Club\, Danescourt Road\, Wolverhampton\, WV6 9BJ\, United Kingdom
CATEGORIES:Club Tennis
END:VEVENT
BEGIN:VEVENT
DTSTART;TZID=UTC:20240714T100000
DTEND;TZID=UTC:20240714T140000
DTSTAMP:20260421T104053
CREATED:20240630T180056Z
LAST-MODIFIED:20240630T180056Z
UID:9852-1720951200-1720965600@tettenhalltennisclub.co.uk
SUMMARY:Doubles Club Champs finals
DESCRIPTION:
URL:https://tettenhalltennisclub.co.uk/event/doubles-club-champs-finals/
LOCATION:Tettenhall Tennis Club\, Danescourt Road\, Wolverhampton\, WV6 9BJ\, United Kingdom
CATEGORIES:Club Tennis
ORGANIZER;CN="Simon Fellows":MAILTO:simonfellows1@outlook.com
END:VEVENT
BEGIN:VEVENT
DTSTART;TZID=UTC:20240713T133000
DTEND;TZID=UTC:20240713T153000
DTSTAMP:20260421T104053
CREATED:20240630T175753Z
LAST-MODIFIED:20240630T175838Z
UID:9849-1720877400-1720884600@tettenhalltennisclub.co.uk
SUMMARY:Club Afternoon – 3 COURTS NEEDED
DESCRIPTION:
URL:https://tettenhalltennisclub.co.uk/event/club-afternoon-3-courts-needed-7/
LOCATION:Tettenhall Tennis Club\, Danescourt Road\, Wolverhampton\, WV6 9BJ\, United Kingdom
CATEGORIES:Club Tennis
ORGANIZER;CN="Simon Fellows":MAILTO:simonfellows1@outlook.com
END:VEVENT
BEGIN:VEVENT
DTSTART;TZID=UTC:20240711T183000
DTEND;TZID=UTC:20240711T200000
DTSTAMP:20260421T104053
CREATED:20240520T143952Z
LAST-MODIFIED:20240520T143952Z
UID:9743-1720722600-1720728000@tettenhalltennisclub.co.uk
SUMMARY:Club Tennis
DESCRIPTION:
URL:https://tettenhalltennisclub.co.uk/event/club-tennis-7/
LOCATION:Tettenhall Tennis Club\, Danescourt Road\, Wolverhampton\, WV6 9BJ\, United Kingdom
CATEGORIES:Club Tennis
END:VEVENT
BEGIN:VEVENT
DTSTART;TZID=UTC:20240709T100000
DTEND;TZID=UTC:20240709T120000
DTSTAMP:20260421T104053
CREATED:20240520T144301Z
LAST-MODIFIED:20240520T144301Z
UID:9752-1720519200-1720526400@tettenhalltennisclub.co.uk
SUMMARY:Mix In
DESCRIPTION:
URL:https://tettenhalltennisclub.co.uk/event/mix-in-67/
LOCATION:Tettenhall Tennis Club\, Danescourt Road\, Wolverhampton\, WV6 9BJ\, United Kingdom
CATEGORIES:Club Tennis
END:VEVENT
BEGIN:VEVENT
DTSTART;TZID=UTC:20240707T100000
DTEND;TZID=UTC:20240707T120000
DTSTAMP:20260421T104053
CREATED:20240520T145323Z
LAST-MODIFIED:20240520T145323Z
UID:9788-1720346400-1720353600@tettenhalltennisclub.co.uk
SUMMARY:Mix In
DESCRIPTION:
URL:https://tettenhalltennisclub.co.uk/event/mix-in-76/
LOCATION:Tettenhall Tennis Club\, Danescourt Road\, Wolverhampton\, WV6 9BJ\, United Kingdom
CATEGORIES:Club Tennis
END:VEVENT
BEGIN:VEVENT
DTSTART;TZID=UTC:20240704T183000
DTEND;TZID=UTC:20240704T200000
DTSTAMP:20260421T104053
CREATED:20240520T143927Z
LAST-MODIFIED:20240520T143927Z
UID:9741-1720117800-1720123200@tettenhalltennisclub.co.uk
SUMMARY:Club Tennis
DESCRIPTION:
URL:https://tettenhalltennisclub.co.uk/event/club-tennis-6/
LOCATION:Tettenhall Tennis Club\, Danescourt Road\, Wolverhampton\, WV6 9BJ\, United Kingdom
CATEGORIES:Club Tennis
END:VEVENT
BEGIN:VEVENT
DTSTART;TZID=UTC:20240702T100000
DTEND;TZID=UTC:20240702T120000
DTSTAMP:20260421T104053
CREATED:20240520T144143Z
LAST-MODIFIED:20240520T144143Z
UID:9749-1719914400-1719921600@tettenhalltennisclub.co.uk
SUMMARY:Mix In
DESCRIPTION:
URL:https://tettenhalltennisclub.co.uk/event/mix-in-64/
LOCATION:Tettenhall Tennis Club\, Danescourt Road\, Wolverhampton\, WV6 9BJ\, United Kingdom
CATEGORIES:Club Tennis
END:VEVENT
BEGIN:VEVENT
DTSTART;TZID=UTC:20240630T100000
DTEND;TZID=UTC:20240630T120000
DTSTAMP:20260421T104053
CREATED:20240520T145241Z
LAST-MODIFIED:20240520T145241Z
UID:9786-1719741600-1719748800@tettenhalltennisclub.co.uk
SUMMARY:Mix In
DESCRIPTION:
URL:https://tettenhalltennisclub.co.uk/event/mix-in-75/
LOCATION:Tettenhall Tennis Club\, Danescourt Road\, Wolverhampton\, WV6 9BJ\, United Kingdom
CATEGORIES:Club Tennis
END:VEVENT
BEGIN:VEVENT
DTSTART;TZID=UTC:20240627T183000
DTEND;TZID=UTC:20240627T200000
DTSTAMP:20260421T104053
CREATED:20240520T143905Z
LAST-MODIFIED:20240520T143905Z
UID:9739-1719513000-1719518400@tettenhalltennisclub.co.uk
SUMMARY:Club Tennis
DESCRIPTION:
URL:https://tettenhalltennisclub.co.uk/event/club-tennis-5/
LOCATION:Tettenhall Tennis Club\, Danescourt Road\, Wolverhampton\, WV6 9BJ\, United Kingdom
CATEGORIES:Club Tennis
END:VEVENT
BEGIN:VEVENT
DTSTART;TZID=UTC:20240625T100000
DTEND;TZID=UTC:20240625T120000
DTSTAMP:20260421T104053
CREATED:20240520T141429Z
LAST-MODIFIED:20240520T141429Z
UID:9679-1719309600-1719316800@tettenhalltennisclub.co.uk
SUMMARY:Mix In
DESCRIPTION:
URL:https://tettenhalltennisclub.co.uk/event/mix-in-66/
LOCATION:Tettenhall Tennis Club\, Danescourt Road\, Wolverhampton\, WV6 9BJ\, United Kingdom
CATEGORIES:Club Tennis
END:VEVENT
BEGIN:VEVENT
DTSTART;TZID=UTC:20240623T100000
DTEND;TZID=UTC:20240623T120000
DTSTAMP:20260421T104053
CREATED:20240520T145219Z
LAST-MODIFIED:20240520T145219Z
UID:9784-1719136800-1719144000@tettenhalltennisclub.co.uk
SUMMARY:Mix In
DESCRIPTION:
URL:https://tettenhalltennisclub.co.uk/event/mix-in-74/
LOCATION:Tettenhall Tennis Club\, Danescourt Road\, Wolverhampton\, WV6 9BJ\, United Kingdom
CATEGORIES:Club Tennis
END:VEVENT
BEGIN:VEVENT
DTSTART;TZID=UTC:20240620T183000
DTEND;TZID=UTC:20240620T200000
DTSTAMP:20260421T104053
CREATED:20240520T143841Z
LAST-MODIFIED:20240520T143841Z
UID:9737-1718908200-1718913600@tettenhalltennisclub.co.uk
SUMMARY:Club Tennis
DESCRIPTION:
URL:https://tettenhalltennisclub.co.uk/event/club-tennis-4/
LOCATION:Tettenhall Tennis Club\, Danescourt Road\, Wolverhampton\, WV6 9BJ\, United Kingdom
CATEGORIES:Club Tennis
END:VEVENT
BEGIN:VEVENT
DTSTART;TZID=UTC:20240619T173000
DTEND;TZID=UTC:20240619T183000
DTSTAMP:20260421T104053
CREATED:20240520T143428Z
LAST-MODIFIED:20240520T143428Z
UID:9725-1718818200-1718821800@tettenhalltennisclub.co.uk
SUMMARY:Club Tennis
DESCRIPTION:
URL:https://tettenhalltennisclub.co.uk/event/club-tennis-3/
LOCATION:Tettenhall Tennis Club\, Danescourt Road\, Wolverhampton\, WV6 9BJ\, United Kingdom
CATEGORIES:Club Tennis
END:VEVENT
BEGIN:VEVENT
DTSTART;TZID=UTC:20240618T100000
DTEND;TZID=UTC:20240618T120000
DTSTAMP:20260421T104053
CREATED:20240520T141401Z
LAST-MODIFIED:20240520T141401Z
UID:9677-1718704800-1718712000@tettenhalltennisclub.co.uk
SUMMARY:Mix In
DESCRIPTION:
URL:https://tettenhalltennisclub.co.uk/event/mix-in-65/
LOCATION:Tettenhall Tennis Club\, Danescourt Road\, Wolverhampton\, WV6 9BJ\, United Kingdom
CATEGORIES:Club Tennis
END:VEVENT
BEGIN:VEVENT
DTSTART;TZID=UTC:20240616T100000
DTEND;TZID=UTC:20240616T120000
DTSTAMP:20260421T104053
CREATED:20240520T145155Z
LAST-MODIFIED:20240520T145155Z
UID:9782-1718532000-1718539200@tettenhalltennisclub.co.uk
SUMMARY:Mix In
DESCRIPTION:
URL:https://tettenhalltennisclub.co.uk/event/mix-in-73/
LOCATION:Tettenhall Tennis Club\, Danescourt Road\, Wolverhampton\, WV6 9BJ\, United Kingdom
CATEGORIES:Club Tennis
END:VEVENT
BEGIN:VEVENT
DTSTART;TZID=UTC:20240613T183000
DTEND;TZID=UTC:20240613T200000
DTSTAMP:20260421T104053
CREATED:20240520T143405Z
LAST-MODIFIED:20240520T143405Z
UID:9723-1718303400-1718308800@tettenhalltennisclub.co.uk
SUMMARY:Club Tennis
DESCRIPTION:
URL:https://tettenhalltennisclub.co.uk/event/club-tennis-2/
LOCATION:Tettenhall Tennis Club\, Danescourt Road\, Wolverhampton\, WV6 9BJ\, United Kingdom
CATEGORIES:Club Tennis
END:VEVENT
BEGIN:VEVENT
DTSTART;TZID=UTC:20240611T100000
DTEND;TZID=UTC:20240611T120000
DTSTAMP:20260421T104053
CREATED:20240520T142604Z
LAST-MODIFIED:20240520T142604Z
UID:9700-1718100000-1718107200@tettenhalltennisclub.co.uk
SUMMARY:Mix In
DESCRIPTION:
URL:https://tettenhalltennisclub.co.uk/event/mix-in-63/
LOCATION:Tettenhall Tennis Club\, Danescourt Road\, Wolverhampton\, WV6 9BJ\, United Kingdom
CATEGORIES:Club Tennis
ORGANIZER;CN="Simon Fellows":MAILTO:simonfellows1@outlook.com
END:VEVENT
BEGIN:VEVENT
DTSTART;TZID=UTC:20240609T100000
DTEND;TZID=UTC:20240609T120000
DTSTAMP:20260421T104053
CREATED:20240520T145132Z
LAST-MODIFIED:20240520T145132Z
UID:9780-1717927200-1717934400@tettenhalltennisclub.co.uk
SUMMARY:Mix In
DESCRIPTION:
URL:https://tettenhalltennisclub.co.uk/event/mix-in-72/
LOCATION:Tettenhall Tennis Club\, Danescourt Road\, Wolverhampton\, WV6 9BJ\, United Kingdom
CATEGORIES:Club Tennis
END:VEVENT
END:VCALENDAR