BEGIN:VCALENDAR
VERSION:2.0
PRODID:-//Tettenhall Tennis Club - ECPv6.15.20//NONSGML v1.0//EN
CALSCALE:GREGORIAN
METHOD:PUBLISH
X-ORIGINAL-URL:https://tettenhalltennisclub.co.uk
X-WR-CALDESC:Events for Tettenhall Tennis Club
REFRESH-INTERVAL;VALUE=DURATION:PT1H
X-Robots-Tag:noindex
X-PUBLISHED-TTL:PT1H
BEGIN:VTIMEZONE
TZID:UTC
BEGIN:STANDARD
TZOFFSETFROM:+0000
TZOFFSETTO:+0000
TZNAME:UTC
DTSTART:20230101T000000
END:STANDARD
END:VTIMEZONE
BEGIN:VEVENT
DTSTART;TZID=UTC:20240609T100000
DTEND;TZID=UTC:20240609T120000
DTSTAMP:20260421T154713
CREATED:20240520T145132Z
LAST-MODIFIED:20240520T145132Z
UID:9780-1717927200-1717934400@tettenhalltennisclub.co.uk
SUMMARY:Mix In
DESCRIPTION:
URL:https://tettenhalltennisclub.co.uk/event/mix-in-72/
LOCATION:Tettenhall Tennis Club\, Danescourt Road\, Wolverhampton\, WV6 9BJ\, United Kingdom
CATEGORIES:Club Tennis
END:VEVENT
BEGIN:VEVENT
DTSTART;TZID=UTC:20240606T183000
DTEND;TZID=UTC:20240606T200000
DTSTAMP:20260421T154713
CREATED:20240520T143339Z
LAST-MODIFIED:20240520T143339Z
UID:9721-1717698600-1717704000@tettenhalltennisclub.co.uk
SUMMARY:Club Tennis
DESCRIPTION:
URL:https://tettenhalltennisclub.co.uk/event/club-tennis/
LOCATION:Tettenhall Tennis Club\, Danescourt Road\, Wolverhampton\, WV6 9BJ\, United Kingdom
CATEGORIES:Club Tennis
END:VEVENT
BEGIN:VEVENT
DTSTART;TZID=UTC:20240604T100000
DTEND;TZID=UTC:20240604T120000
DTSTAMP:20260421T154713
CREATED:20240520T140949Z
LAST-MODIFIED:20240520T140949Z
UID:9670-1717495200-1717502400@tettenhalltennisclub.co.uk
SUMMARY:Mix In
DESCRIPTION:
URL:https://tettenhalltennisclub.co.uk/event/mix-in-62/
LOCATION:Tettenhall Tennis Club\, Danescourt Road\, Wolverhampton\, WV6 9BJ\, United Kingdom
CATEGORIES:Club Tennis
END:VEVENT
BEGIN:VEVENT
DTSTART;TZID=UTC:20240602T100000
DTEND;TZID=UTC:20240602T120000
DTSTAMP:20260421T154713
CREATED:20240520T145111Z
LAST-MODIFIED:20240520T145111Z
UID:9778-1717322400-1717329600@tettenhalltennisclub.co.uk
SUMMARY:Mix In
DESCRIPTION:
URL:https://tettenhalltennisclub.co.uk/event/mix-in-71/
LOCATION:Tettenhall Tennis Club\, Danescourt Road\, Wolverhampton\, WV6 9BJ\, United Kingdom
CATEGORIES:Club Tennis
END:VEVENT
BEGIN:VEVENT
DTSTART;TZID=UTC:20240526T100000
DTEND;TZID=UTC:20240526T123000
DTSTAMP:20260421T154713
CREATED:20240430T195614Z
LAST-MODIFIED:20240430T195614Z
UID:9584-1716717600-1716726600@tettenhalltennisclub.co.uk
SUMMARY:Mix In
DESCRIPTION:
URL:https://tettenhalltennisclub.co.uk/event/mix-in-58/
LOCATION:Tettenhall Tennis Club\, Danescourt Road\, Wolverhampton\, WV6 9BJ\, United Kingdom
CATEGORIES:Club Tennis
END:VEVENT
BEGIN:VEVENT
DTSTART;TZID=UTC:20240523T183000
DTEND;TZID=UTC:20240523T200000
DTSTAMP:20260421T154713
CREATED:20240430T194627Z
LAST-MODIFIED:20240430T194627Z
UID:9568-1716489000-1716494400@tettenhalltennisclub.co.uk
SUMMARY:Advanced Mix In
DESCRIPTION:
URL:https://tettenhalltennisclub.co.uk/event/advanced-mix-in-33/
LOCATION:Tettenhall Tennis Club\, Danescourt Road\, Wolverhampton\, WV6 9BJ\, United Kingdom
CATEGORIES:Club Tennis
END:VEVENT
BEGIN:VEVENT
DTSTART;TZID=UTC:20240521T100000
DTEND;TZID=UTC:20240521T120000
DTSTAMP:20260421T154713
CREATED:20240430T200013Z
LAST-MODIFIED:20240430T200013Z
UID:9590-1716285600-1716292800@tettenhalltennisclub.co.uk
SUMMARY:Mix In
DESCRIPTION:
URL:https://tettenhalltennisclub.co.uk/event/mix-in-61/
LOCATION:Tettenhall Tennis Club\, Danescourt Road\, Wolverhampton\, WV6 9BJ\, United Kingdom
CATEGORIES:Club Tennis
END:VEVENT
BEGIN:VEVENT
DTSTART;TZID=UTC:20240520T183000
DTEND;TZID=UTC:20240520T200000
DTSTAMP:20260421T154713
CREATED:20240501T073106Z
LAST-MODIFIED:20240501T073106Z
UID:9612-1716229800-1716235200@tettenhalltennisclub.co.uk
SUMMARY:Club Coaching – 3 COURTS NEEDED
DESCRIPTION:
URL:https://tettenhalltennisclub.co.uk/event/club-coaching-3-courts-needed-31/
LOCATION:Tettenhall Tennis Club\, Danescourt Road\, Wolverhampton\, WV6 9BJ\, United Kingdom
CATEGORIES:Club Tennis
ORGANIZER;CN="Simon Fellows":MAILTO:simonfellows1@outlook.com
END:VEVENT
BEGIN:VEVENT
DTSTART;TZID=UTC:20240519T100000
DTEND;TZID=UTC:20240519T123000
DTSTAMP:20260421T154713
CREATED:20240430T195538Z
LAST-MODIFIED:20240430T195538Z
UID:9582-1716112800-1716121800@tettenhalltennisclub.co.uk
SUMMARY:Mix In
DESCRIPTION:
URL:https://tettenhalltennisclub.co.uk/event/mix-in-57/
LOCATION:Tettenhall Tennis Club\, Danescourt Road\, Wolverhampton\, WV6 9BJ\, United Kingdom
CATEGORIES:Club Tennis
END:VEVENT
BEGIN:VEVENT
DTSTART;TZID=UTC:20240516T183000
DTEND;TZID=UTC:20240516T200000
DTSTAMP:20260421T154713
CREATED:20240430T194545Z
LAST-MODIFIED:20240430T194545Z
UID:9566-1715884200-1715889600@tettenhalltennisclub.co.uk
SUMMARY:Advanced Mix In
DESCRIPTION:
URL:https://tettenhalltennisclub.co.uk/event/advanced-mix-in-32/
LOCATION:Tettenhall Tennis Club\, Danescourt Road\, Wolverhampton\, WV6 9BJ\, United Kingdom
CATEGORIES:Club Tennis
END:VEVENT
BEGIN:VEVENT
DTSTART;TZID=UTC:20240514T100000
DTEND;TZID=UTC:20240514T120000
DTSTAMP:20260421T154713
CREATED:20240430T195934Z
LAST-MODIFIED:20240430T195934Z
UID:9588-1715680800-1715688000@tettenhalltennisclub.co.uk
SUMMARY:Mix In
DESCRIPTION:
URL:https://tettenhalltennisclub.co.uk/event/mix-in-60/
LOCATION:Tettenhall Tennis Club\, Danescourt Road\, Wolverhampton\, WV6 9BJ\, United Kingdom
CATEGORIES:Club Tennis
END:VEVENT
BEGIN:VEVENT
DTSTART;TZID=UTC:20240513T183000
DTEND;TZID=UTC:20240513T200000
DTSTAMP:20260421T154713
CREATED:20240501T073039Z
LAST-MODIFIED:20240501T073039Z
UID:9610-1715625000-1715630400@tettenhalltennisclub.co.uk
SUMMARY:Club Coaching – 3 COURTS NEEDED
DESCRIPTION:
URL:https://tettenhalltennisclub.co.uk/event/club-coaching-3-courts-needed-30/
LOCATION:Tettenhall Tennis Club\, Danescourt Road\, Wolverhampton\, WV6 9BJ\, United Kingdom
CATEGORIES:Club Tennis
ORGANIZER;CN="Simon Fellows":MAILTO:simonfellows1@outlook.com
END:VEVENT
BEGIN:VEVENT
DTSTART;TZID=UTC:20240512T100000
DTEND;TZID=UTC:20240512T123000
DTSTAMP:20260421T154713
CREATED:20240430T195510Z
LAST-MODIFIED:20240430T195510Z
UID:9580-1715508000-1715517000@tettenhalltennisclub.co.uk
SUMMARY:Mix In
DESCRIPTION:
URL:https://tettenhalltennisclub.co.uk/event/mix-in-56/
LOCATION:Tettenhall Tennis Club\, Danescourt Road\, Wolverhampton\, WV6 9BJ\, United Kingdom
CATEGORIES:Club Tennis
END:VEVENT
BEGIN:VEVENT
DTSTART;TZID=UTC:20240509T183000
DTEND;TZID=UTC:20240509T200000
DTSTAMP:20260421T154713
CREATED:20240430T194517Z
LAST-MODIFIED:20240430T194517Z
UID:9564-1715279400-1715284800@tettenhalltennisclub.co.uk
SUMMARY:Advanced Mix In
DESCRIPTION:
URL:https://tettenhalltennisclub.co.uk/event/advanced-mix-in-31/
LOCATION:Tettenhall Tennis Club\, Danescourt Road\, Wolverhampton\, WV6 9BJ\, United Kingdom
CATEGORIES:Club Tennis
END:VEVENT
BEGIN:VEVENT
DTSTART;TZID=UTC:20240507T100000
DTEND;TZID=UTC:20240507T120000
DTSTAMP:20260421T154713
CREATED:20240430T195900Z
LAST-MODIFIED:20240430T195900Z
UID:9586-1715076000-1715083200@tettenhalltennisclub.co.uk
SUMMARY:Mix In
DESCRIPTION:
URL:https://tettenhalltennisclub.co.uk/event/mix-in-59/
LOCATION:Tettenhall Tennis Club\, Danescourt Road\, Wolverhampton\, WV6 9BJ\, United Kingdom
CATEGORIES:Club Tennis
END:VEVENT
BEGIN:VEVENT
DTSTART;TZID=UTC:20240506T183000
DTEND;TZID=UTC:20240506T200000
DTSTAMP:20260421T154713
CREATED:20240501T073012Z
LAST-MODIFIED:20240501T073012Z
UID:9608-1715020200-1715025600@tettenhalltennisclub.co.uk
SUMMARY:Club Coaching – 3 COURTS NEEDED
DESCRIPTION:
URL:https://tettenhalltennisclub.co.uk/event/club-coaching-3-courts-needed-29/
LOCATION:Tettenhall Tennis Club\, Danescourt Road\, Wolverhampton\, WV6 9BJ\, United Kingdom
CATEGORIES:Club Tennis
ORGANIZER;CN="Simon Fellows":MAILTO:simonfellows1@outlook.com
END:VEVENT
BEGIN:VEVENT
DTSTART;TZID=UTC:20240505T100000
DTEND;TZID=UTC:20240505T123000
DTSTAMP:20260421T154713
CREATED:20240430T195441Z
LAST-MODIFIED:20240430T195441Z
UID:9578-1714903200-1714912200@tettenhalltennisclub.co.uk
SUMMARY:Mix In
DESCRIPTION:
URL:https://tettenhalltennisclub.co.uk/event/mix-in-55/
LOCATION:Tettenhall Tennis Club\, Danescourt Road\, Wolverhampton\, WV6 9BJ\, United Kingdom
CATEGORIES:Club Tennis
END:VEVENT
BEGIN:VEVENT
DTSTART;TZID=UTC:20240504T133000
DTEND;TZID=UTC:20240504T153000
DTSTAMP:20260421T154713
CREATED:20240501T073411Z
LAST-MODIFIED:20240501T073411Z
UID:9614-1714829400-1714836600@tettenhalltennisclub.co.uk
SUMMARY:Club Afternoon – 3 COURTS NEEDED
DESCRIPTION:
URL:https://tettenhalltennisclub.co.uk/event/club-afternoon-3-courts-needed-6/
LOCATION:Tettenhall Tennis Club\, Danescourt Road\, Wolverhampton\, WV6 9BJ\, United Kingdom
CATEGORIES:Club Tennis
ORGANIZER;CN="Simon Fellows":MAILTO:simonfellows1@outlook.com
END:VEVENT
BEGIN:VEVENT
DTSTART;TZID=UTC:20240502T183000
DTEND;TZID=UTC:20240502T200000
DTSTAMP:20260421T154713
CREATED:20240430T194427Z
LAST-MODIFIED:20240430T194427Z
UID:9562-1714674600-1714680000@tettenhalltennisclub.co.uk
SUMMARY:Advanced Mix In
DESCRIPTION:
URL:https://tettenhalltennisclub.co.uk/event/advanced-mix-in-30/
LOCATION:Tettenhall Tennis Club\, Danescourt Road\, Wolverhampton\, WV6 9BJ\, United Kingdom
CATEGORIES:Club Tennis
END:VEVENT
BEGIN:VEVENT
DTSTART;TZID=UTC:20240324T100000
DTEND;TZID=UTC:20240324T120000
DTSTAMP:20260421T154713
CREATED:20240302T193605Z
LAST-MODIFIED:20240302T193605Z
UID:9508-1711274400-1711281600@tettenhalltennisclub.co.uk
SUMMARY:Mix In
DESCRIPTION:
URL:https://tettenhalltennisclub.co.uk/event/mix-in-54/
LOCATION:Tettenhall Tennis Club\, Danescourt Road\, Wolverhampton\, WV6 9BJ\, United Kingdom
CATEGORIES:Club Tennis
END:VEVENT
BEGIN:VEVENT
DTSTART;TZID=UTC:20240323T133000
DTEND;TZID=UTC:20240323T153000
DTSTAMP:20260421T154713
CREATED:20240302T195553Z
LAST-MODIFIED:20240302T195553Z
UID:9526-1711200600-1711207800@tettenhalltennisclub.co.uk
SUMMARY:Club Afternoon – 3 COURTS NEEDED
DESCRIPTION:
URL:https://tettenhalltennisclub.co.uk/event/club-afternoon-3-courts-needed-5/
LOCATION:Tettenhall Tennis Club\, Danescourt Road\, Wolverhampton\, WV6 9BJ\, United Kingdom
CATEGORIES:Club Tennis
ORGANIZER;CN="Simon Fellows":MAILTO:simonfellows1@outlook.com
END:VEVENT
BEGIN:VEVENT
DTSTART;TZID=UTC:20240321T183000
DTEND;TZID=UTC:20240321T200000
DTSTAMP:20260421T154713
CREATED:20240302T191914Z
LAST-MODIFIED:20240302T191914Z
UID:9492-1711045800-1711051200@tettenhalltennisclub.co.uk
SUMMARY:Advanced Mix In
DESCRIPTION:
URL:https://tettenhalltennisclub.co.uk/event/advanced-mix-in-29/
LOCATION:Tettenhall Tennis Club\, Danescourt Road\, Wolverhampton\, WV6 9BJ\, United Kingdom
CATEGORIES:Club Tennis
END:VEVENT
BEGIN:VEVENT
DTSTART;TZID=UTC:20240319T100000
DTEND;TZID=UTC:20240319T120000
DTSTAMP:20260421T154713
CREATED:20240302T190202Z
LAST-MODIFIED:20240302T190202Z
UID:9474-1710842400-1710849600@tettenhalltennisclub.co.uk
SUMMARY:Mix In
DESCRIPTION:
URL:https://tettenhalltennisclub.co.uk/event/mix-in-50/
LOCATION:Tettenhall Tennis Club\, Danescourt Road\, Wolverhampton\, WV6 9BJ\, United Kingdom
CATEGORIES:Club Tennis
END:VEVENT
BEGIN:VEVENT
DTSTART;TZID=UTC:20240317T100000
DTEND;TZID=UTC:20240317T120000
DTSTAMP:20260421T154713
CREATED:20240302T193431Z
LAST-MODIFIED:20240302T193431Z
UID:9506-1710669600-1710676800@tettenhalltennisclub.co.uk
SUMMARY:Mix In
DESCRIPTION:
URL:https://tettenhalltennisclub.co.uk/event/mix-in-53/
LOCATION:Tettenhall Tennis Club\, Danescourt Road\, Wolverhampton\, WV6 9BJ\, United Kingdom
CATEGORIES:Club Tennis
END:VEVENT
BEGIN:VEVENT
DTSTART;TZID=UTC:20240314T183000
DTEND;TZID=UTC:20240314T200000
DTSTAMP:20260421T154713
CREATED:20240302T191839Z
LAST-MODIFIED:20240302T191839Z
UID:9490-1710441000-1710446400@tettenhalltennisclub.co.uk
SUMMARY:Advanced Mix In
DESCRIPTION:
URL:https://tettenhalltennisclub.co.uk/event/advanced-mix-in-28/
LOCATION:Tettenhall Tennis Club\, Danescourt Road\, Wolverhampton\, WV6 9BJ\, United Kingdom
CATEGORIES:Club Tennis
END:VEVENT
BEGIN:VEVENT
DTSTART;TZID=UTC:20240312T100000
DTEND;TZID=UTC:20240312T120000
DTSTAMP:20260421T154713
CREATED:20240302T190125Z
LAST-MODIFIED:20240302T190125Z
UID:9472-1710237600-1710244800@tettenhalltennisclub.co.uk
SUMMARY:Mix In
DESCRIPTION:
URL:https://tettenhalltennisclub.co.uk/event/mix-in-49/
LOCATION:Tettenhall Tennis Club\, Danescourt Road\, Wolverhampton\, WV6 9BJ\, United Kingdom
CATEGORIES:Club Tennis
END:VEVENT
BEGIN:VEVENT
DTSTART;TZID=UTC:20240310T100000
DTEND;TZID=UTC:20240310T120000
DTSTAMP:20260421T154713
CREATED:20240302T193336Z
LAST-MODIFIED:20240302T193336Z
UID:9504-1710064800-1710072000@tettenhalltennisclub.co.uk
SUMMARY:Mix In
DESCRIPTION:
URL:https://tettenhalltennisclub.co.uk/event/mix-in-52/
LOCATION:Tettenhall Tennis Club\, Danescourt Road\, Wolverhampton\, WV6 9BJ\, United Kingdom
CATEGORIES:Club Tennis
END:VEVENT
BEGIN:VEVENT
DTSTART;TZID=UTC:20240307T183000
DTEND;TZID=UTC:20240307T200000
DTSTAMP:20260421T154713
CREATED:20240302T191759Z
LAST-MODIFIED:20240302T191759Z
UID:9488-1709836200-1709841600@tettenhalltennisclub.co.uk
SUMMARY:Advanced Mix In
DESCRIPTION:
URL:https://tettenhalltennisclub.co.uk/event/advanced-mix-in-27/
LOCATION:Tettenhall Tennis Club\, Danescourt Road\, Wolverhampton\, WV6 9BJ\, United Kingdom
CATEGORIES:Club Tennis
END:VEVENT
BEGIN:VEVENT
DTSTART;TZID=UTC:20240305T100000
DTEND;TZID=UTC:20240305T120000
DTSTAMP:20260421T154713
CREATED:20240302T190032Z
LAST-MODIFIED:20240302T190032Z
UID:9470-1709632800-1709640000@tettenhalltennisclub.co.uk
SUMMARY:Mix In
DESCRIPTION:
URL:https://tettenhalltennisclub.co.uk/event/mix-in-48/
LOCATION:Tettenhall Tennis Club\, Danescourt Road\, Wolverhampton\, WV6 9BJ\, United Kingdom
CATEGORIES:Club Tennis
END:VEVENT
BEGIN:VEVENT
DTSTART;TZID=UTC:20240303T100000
DTEND;TZID=UTC:20240303T123000
DTSTAMP:20260421T154713
CREATED:20240302T193243Z
LAST-MODIFIED:20240302T193243Z
UID:9502-1709460000-1709469000@tettenhalltennisclub.co.uk
SUMMARY:Mix In
DESCRIPTION:
URL:https://tettenhalltennisclub.co.uk/event/mix-in-51/
LOCATION:Tettenhall Tennis Club\, Danescourt Road\, Wolverhampton\, WV6 9BJ\, United Kingdom
CATEGORIES:Club Tennis
END:VEVENT
END:VCALENDAR