BEGIN:VCALENDAR
VERSION:2.0
PRODID:-//Tettenhall Tennis Club - ECPv6.15.20//NONSGML v1.0//EN
CALSCALE:GREGORIAN
METHOD:PUBLISH
X-ORIGINAL-URL:https://tettenhalltennisclub.co.uk
X-WR-CALDESC:Events for Tettenhall Tennis Club
REFRESH-INTERVAL;VALUE=DURATION:PT1H
X-Robots-Tag:noindex
X-PUBLISHED-TTL:PT1H
BEGIN:VTIMEZONE
TZID:UTC
BEGIN:STANDARD
TZOFFSETFROM:+0000
TZOFFSETTO:+0000
TZNAME:UTC
DTSTART:20220101T000000
END:STANDARD
END:VTIMEZONE
BEGIN:VEVENT
DTSTART;TZID=UTC:20240229T183000
DTEND;TZID=UTC:20240229T200000
DTSTAMP:20260421T204842
CREATED:20240205T170024Z
LAST-MODIFIED:20240205T170024Z
UID:9425-1709231400-1709236800@tettenhalltennisclub.co.uk
SUMMARY:Advanced Mix In
DESCRIPTION:
URL:https://tettenhalltennisclub.co.uk/event/advanced-mix-in-26/
LOCATION:Tettenhall Tennis Club\, Danescourt Road\, Wolverhampton\, WV6 9BJ\, United Kingdom
CATEGORIES:Club Tennis
END:VEVENT
BEGIN:VEVENT
DTSTART;TZID=UTC:20240227T100000
DTEND;TZID=UTC:20240227T120000
DTSTAMP:20260421T204842
CREATED:20240205T165038Z
LAST-MODIFIED:20240205T165038Z
UID:9407-1709028000-1709035200@tettenhalltennisclub.co.uk
SUMMARY:Mix In
DESCRIPTION:
URL:https://tettenhalltennisclub.co.uk/event/mix-in-43/
LOCATION:Tettenhall Tennis Club\, Danescourt Road\, Wolverhampton\, WV6 9BJ\, United Kingdom
CATEGORIES:Club Tennis
END:VEVENT
BEGIN:VEVENT
DTSTART;TZID=UTC:20240225T100000
DTEND;TZID=UTC:20240225T120000
DTSTAMP:20260421T204842
CREATED:20240205T170522Z
LAST-MODIFIED:20240205T170522Z
UID:9441-1708855200-1708862400@tettenhalltennisclub.co.uk
SUMMARY:Mix In
DESCRIPTION:
URL:https://tettenhalltennisclub.co.uk/event/mix-in-47/
LOCATION:Tettenhall Tennis Club\, Danescourt Road\, Wolverhampton\, WV6 9BJ\, United Kingdom
CATEGORIES:Club Tennis
END:VEVENT
BEGIN:VEVENT
DTSTART;TZID=UTC:20240222T183000
DTEND;TZID=UTC:20240222T200000
DTSTAMP:20260421T204842
CREATED:20240205T165956Z
LAST-MODIFIED:20240205T165956Z
UID:9423-1708626600-1708632000@tettenhalltennisclub.co.uk
SUMMARY:Advanced Mix In
DESCRIPTION:
URL:https://tettenhalltennisclub.co.uk/event/advanced-mix-in-25/
LOCATION:Tettenhall Tennis Club\, Danescourt Road\, Wolverhampton\, WV6 9BJ\, United Kingdom
CATEGORIES:Club Tennis
END:VEVENT
BEGIN:VEVENT
DTSTART;TZID=UTC:20240220T100000
DTEND;TZID=UTC:20240220T120000
DTSTAMP:20260421T204842
CREATED:20240205T164529Z
LAST-MODIFIED:20240205T164529Z
UID:9395-1708423200-1708430400@tettenhalltennisclub.co.uk
SUMMARY:Mix In
DESCRIPTION:
URL:https://tettenhalltennisclub.co.uk/event/mix-in-41/
LOCATION:Tettenhall Tennis Club\, Danescourt Road\, Wolverhampton\, WV6 9BJ\, United Kingdom
CATEGORIES:Club Tennis
END:VEVENT
BEGIN:VEVENT
DTSTART;TZID=UTC:20240218T100000
DTEND;TZID=UTC:20240218T120000
DTSTAMP:20260421T204842
CREATED:20240205T170459Z
LAST-MODIFIED:20240205T170459Z
UID:9439-1708250400-1708257600@tettenhalltennisclub.co.uk
SUMMARY:Mix In
DESCRIPTION:
URL:https://tettenhalltennisclub.co.uk/event/mix-in-46/
LOCATION:Tettenhall Tennis Club\, Danescourt Road\, Wolverhampton\, WV6 9BJ\, United Kingdom
CATEGORIES:Club Tennis
END:VEVENT
BEGIN:VEVENT
DTSTART;TZID=UTC:20240215T183000
DTEND;TZID=UTC:20240215T200000
DTSTAMP:20260421T204842
CREATED:20240205T165925Z
LAST-MODIFIED:20240205T165925Z
UID:9421-1708021800-1708027200@tettenhalltennisclub.co.uk
SUMMARY:Advanced Mix In
DESCRIPTION:
URL:https://tettenhalltennisclub.co.uk/event/advanced-mix-in-24/
LOCATION:Tettenhall Tennis Club\, Danescourt Road\, Wolverhampton\, WV6 9BJ\, United Kingdom
CATEGORIES:Club Tennis
END:VEVENT
BEGIN:VEVENT
DTSTART;TZID=UTC:20240213T100000
DTEND;TZID=UTC:20240213T120000
DTSTAMP:20260421T204842
CREATED:20240205T164456Z
LAST-MODIFIED:20240205T164456Z
UID:9393-1707818400-1707825600@tettenhalltennisclub.co.uk
SUMMARY:Mix In
DESCRIPTION:
URL:https://tettenhalltennisclub.co.uk/event/mix-in-40/
LOCATION:Tettenhall Tennis Club\, Danescourt Road\, Wolverhampton\, WV6 9BJ\, United Kingdom
CATEGORIES:Club Tennis
END:VEVENT
BEGIN:VEVENT
DTSTART;TZID=UTC:20240211T100000
DTEND;TZID=UTC:20240211T120000
DTSTAMP:20260421T204842
CREATED:20240205T170434Z
LAST-MODIFIED:20240205T170434Z
UID:9437-1707645600-1707652800@tettenhalltennisclub.co.uk
SUMMARY:Mix In
DESCRIPTION:
URL:https://tettenhalltennisclub.co.uk/event/mix-in-45/
LOCATION:Tettenhall Tennis Club\, Danescourt Road\, Wolverhampton\, WV6 9BJ\, United Kingdom
CATEGORIES:Club Tennis
END:VEVENT
BEGIN:VEVENT
DTSTART;TZID=UTC:20240208T183000
DTEND;TZID=UTC:20240208T200000
DTSTAMP:20260421T204842
CREATED:20240205T165858Z
LAST-MODIFIED:20240205T165858Z
UID:9419-1707417000-1707422400@tettenhalltennisclub.co.uk
SUMMARY:Advanced Mix In
DESCRIPTION:
URL:https://tettenhalltennisclub.co.uk/event/advanced-mix-in-23/
LOCATION:Tettenhall Tennis Club\, Danescourt Road\, Wolverhampton\, WV6 9BJ\, United Kingdom
CATEGORIES:Club Tennis
END:VEVENT
BEGIN:VEVENT
DTSTART;TZID=UTC:20240206T100000
DTEND;TZID=UTC:20240206T120000
DTSTAMP:20260421T204842
CREATED:20240205T164414Z
LAST-MODIFIED:20240205T164414Z
UID:9391-1707213600-1707220800@tettenhalltennisclub.co.uk
SUMMARY:Mix In
DESCRIPTION:
URL:https://tettenhalltennisclub.co.uk/event/mix-in-39/
LOCATION:Tettenhall Tennis Club\, Danescourt Road\, Wolverhampton\, WV6 9BJ\, United Kingdom
CATEGORIES:Club Tennis
END:VEVENT
BEGIN:VEVENT
DTSTART;TZID=UTC:20240204T100000
DTEND;TZID=UTC:20240204T120000
DTSTAMP:20260421T204842
CREATED:20240205T170354Z
LAST-MODIFIED:20240205T170354Z
UID:9435-1707040800-1707048000@tettenhalltennisclub.co.uk
SUMMARY:Mix In
DESCRIPTION:
URL:https://tettenhalltennisclub.co.uk/event/mix-in-44/
LOCATION:Tettenhall Tennis Club\, Danescourt Road\, Wolverhampton\, WV6 9BJ\, United Kingdom
CATEGORIES:Club Tennis
END:VEVENT
BEGIN:VEVENT
DTSTART;TZID=UTC:20240201T183000
DTEND;TZID=UTC:20240201T200000
DTSTAMP:20260421T204842
CREATED:20240205T165826Z
LAST-MODIFIED:20240205T165826Z
UID:9417-1706812200-1706817600@tettenhalltennisclub.co.uk
SUMMARY:Advanced Mix In
DESCRIPTION:
URL:https://tettenhalltennisclub.co.uk/event/advanced-mix-in-22/
LOCATION:Tettenhall Tennis Club\, Danescourt Road\, Wolverhampton\, WV6 9BJ\, United Kingdom
CATEGORIES:Club Tennis
END:VEVENT
BEGIN:VEVENT
DTSTART;TZID=UTC:20240130T100000
DTEND;TZID=UTC:20240130T120000
DTSTAMP:20260421T204842
CREATED:20240108T103406Z
LAST-MODIFIED:20240108T103406Z
UID:9356-1706608800-1706616000@tettenhalltennisclub.co.uk
SUMMARY:Mix In
DESCRIPTION:
URL:https://tettenhalltennisclub.co.uk/event/mix-in-38/
LOCATION:Tettenhall Tennis Club\, Danescourt Road\, Wolverhampton\, WV6 9BJ\, United Kingdom
CATEGORIES:Club Tennis
END:VEVENT
BEGIN:VEVENT
DTSTART;TZID=UTC:20240128T100000
DTEND;TZID=UTC:20240128T120000
DTSTAMP:20260421T204842
CREATED:20240108T093918Z
LAST-MODIFIED:20240108T093918Z
UID:9323-1706436000-1706443200@tettenhalltennisclub.co.uk
SUMMARY:Mix In
DESCRIPTION:
URL:https://tettenhalltennisclub.co.uk/event/mix-in-34/
LOCATION:Tettenhall Tennis Club\, Danescourt Road\, Wolverhampton\, WV6 9BJ\, United Kingdom
CATEGORIES:Club Tennis
END:VEVENT
BEGIN:VEVENT
DTSTART;TZID=UTC:20240127T133000
DTEND;TZID=UTC:20240127T153000
DTSTAMP:20260421T204842
CREATED:20240108T105939Z
LAST-MODIFIED:20240108T105939Z
UID:9380-1706362200-1706369400@tettenhalltennisclub.co.uk
SUMMARY:Club Afternoon – 3 COURTS NEEDED
DESCRIPTION:
URL:https://tettenhalltennisclub.co.uk/event/club-afternoon-3-courts-needed-4/
LOCATION:Tettenhall Tennis Club\, Danescourt Road\, Wolverhampton\, WV6 9BJ\, United Kingdom
CATEGORIES:Club Tennis
ORGANIZER;CN="Simon Fellows":MAILTO:simonfellows1@outlook.com
END:VEVENT
BEGIN:VEVENT
DTSTART;TZID=UTC:20240125T183000
DTEND;TZID=UTC:20240125T200000
DTSTAMP:20260421T204842
CREATED:20240108T105824Z
LAST-MODIFIED:20240108T105824Z
UID:9378-1706207400-1706212800@tettenhalltennisclub.co.uk
SUMMARY:Advanced Mix In
DESCRIPTION:
URL:https://tettenhalltennisclub.co.uk/event/advanced-mix-in-21/
LOCATION:Tettenhall Tennis Club\, Danescourt Road\, Wolverhampton\, WV6 9BJ\, United Kingdom
CATEGORIES:Club Tennis
END:VEVENT
BEGIN:VEVENT
DTSTART;TZID=UTC:20240123T100000
DTEND;TZID=UTC:20240123T120000
DTSTAMP:20260421T204842
CREATED:20240108T103338Z
LAST-MODIFIED:20240108T103338Z
UID:9354-1706004000-1706011200@tettenhalltennisclub.co.uk
SUMMARY:Mix In
DESCRIPTION:
URL:https://tettenhalltennisclub.co.uk/event/mix-in-37/
LOCATION:Tettenhall Tennis Club\, Danescourt Road\, Wolverhampton\, WV6 9BJ\, United Kingdom
CATEGORIES:Club Tennis
END:VEVENT
BEGIN:VEVENT
DTSTART;TZID=UTC:20240121T100000
DTEND;TZID=UTC:20240121T120000
DTSTAMP:20260421T204842
CREATED:20240108T093822Z
LAST-MODIFIED:20240108T093822Z
UID:9321-1705831200-1705838400@tettenhalltennisclub.co.uk
SUMMARY:Mix In
DESCRIPTION:
URL:https://tettenhalltennisclub.co.uk/event/mix-in-33/
LOCATION:Tettenhall Tennis Club\, Danescourt Road\, Wolverhampton\, WV6 9BJ\, United Kingdom
CATEGORIES:Club Tennis
END:VEVENT
BEGIN:VEVENT
DTSTART;TZID=UTC:20240118T183000
DTEND;TZID=UTC:20240118T200000
DTSTAMP:20260421T204842
CREATED:20240108T105756Z
LAST-MODIFIED:20240108T105756Z
UID:9376-1705602600-1705608000@tettenhalltennisclub.co.uk
SUMMARY:Advanced Mix In
DESCRIPTION:
URL:https://tettenhalltennisclub.co.uk/event/advanced-mix-in-20/
LOCATION:Tettenhall Tennis Club\, Danescourt Road\, Wolverhampton\, WV6 9BJ\, United Kingdom
CATEGORIES:Club Tennis
END:VEVENT
BEGIN:VEVENT
DTSTART;TZID=UTC:20240116T100000
DTEND;TZID=UTC:20240116T120000
DTSTAMP:20260421T204842
CREATED:20240108T102823Z
LAST-MODIFIED:20240108T102823Z
UID:9352-1705399200-1705406400@tettenhalltennisclub.co.uk
SUMMARY:Mix In
DESCRIPTION:
URL:https://tettenhalltennisclub.co.uk/event/mix-in-36/
LOCATION:Tettenhall Tennis Club\, Danescourt Road\, Wolverhampton\, WV6 9BJ\, United Kingdom
CATEGORIES:Club Tennis
END:VEVENT
BEGIN:VEVENT
DTSTART;TZID=UTC:20240114T100000
DTEND;TZID=UTC:20240114T120000
DTSTAMP:20260421T204842
CREATED:20240108T093750Z
LAST-MODIFIED:20240108T093750Z
UID:9319-1705226400-1705233600@tettenhalltennisclub.co.uk
SUMMARY:Mix In
DESCRIPTION:
URL:https://tettenhalltennisclub.co.uk/event/mix-in-32/
LOCATION:Tettenhall Tennis Club\, Danescourt Road\, Wolverhampton\, WV6 9BJ\, United Kingdom
CATEGORIES:Club Tennis
END:VEVENT
BEGIN:VEVENT
DTSTART;TZID=UTC:20240111T183000
DTEND;TZID=UTC:20240111T200000
DTSTAMP:20260421T204842
CREATED:20240108T105724Z
LAST-MODIFIED:20240108T105724Z
UID:9374-1704997800-1705003200@tettenhalltennisclub.co.uk
SUMMARY:Advanced Mix In
DESCRIPTION:
URL:https://tettenhalltennisclub.co.uk/event/advanced-mix-in-19/
LOCATION:Tettenhall Tennis Club\, Danescourt Road\, Wolverhampton\, WV6 9BJ\, United Kingdom
CATEGORIES:Club Tennis
END:VEVENT
BEGIN:VEVENT
DTSTART;TZID=UTC:20240109T100000
DTEND;TZID=UTC:20240109T120000
DTSTAMP:20260421T204842
CREATED:20240108T102752Z
LAST-MODIFIED:20240108T102752Z
UID:9350-1704794400-1704801600@tettenhalltennisclub.co.uk
SUMMARY:Mix In
DESCRIPTION:
URL:https://tettenhalltennisclub.co.uk/event/mix-in-35/
LOCATION:Tettenhall Tennis Club\, Danescourt Road\, Wolverhampton\, WV6 9BJ\, United Kingdom
CATEGORIES:Club Tennis
END:VEVENT
BEGIN:VEVENT
DTSTART;TZID=UTC:20240107T100000
DTEND;TZID=UTC:20240107T120000
DTSTAMP:20260421T204842
CREATED:20240108T093555Z
LAST-MODIFIED:20240108T093555Z
UID:9317-1704621600-1704628800@tettenhalltennisclub.co.uk
SUMMARY:Mix In
DESCRIPTION:
URL:https://tettenhalltennisclub.co.uk/event/mix-in-31/
LOCATION:Tettenhall Tennis Club\, Danescourt Road\, Wolverhampton\, WV6 9BJ\, United Kingdom
CATEGORIES:Club Tennis
END:VEVENT
BEGIN:VEVENT
DTSTART;TZID=UTC:20231221T183000
DTEND;TZID=UTC:20231221T200000
DTSTAMP:20260421T204842
CREATED:20231201T192516Z
LAST-MODIFIED:20231201T192516Z
UID:9267-1703183400-1703188800@tettenhalltennisclub.co.uk
SUMMARY:Advanced Mix In
DESCRIPTION:
URL:https://tettenhalltennisclub.co.uk/event/advanced-mix-in-18/
LOCATION:Tettenhall Tennis Club\, Danescourt Road\, Wolverhampton\, WV6 9BJ\, United Kingdom
CATEGORIES:Club Tennis
END:VEVENT
BEGIN:VEVENT
DTSTART;TZID=UTC:20231219T100000
DTEND;TZID=UTC:20231219T120000
DTSTAMP:20260421T204842
CREATED:20231201T135857Z
LAST-MODIFIED:20231201T135857Z
UID:9246-1702980000-1702987200@tettenhalltennisclub.co.uk
SUMMARY:Mix In
DESCRIPTION:
URL:https://tettenhalltennisclub.co.uk/event/mix-in-27/
LOCATION:Tettenhall Tennis Club\, Danescourt Road\, Wolverhampton\, WV6 9BJ\, United Kingdom
CATEGORIES:Club Tennis
END:VEVENT
BEGIN:VEVENT
DTSTART;TZID=UTC:20231217T100000
DTEND;TZID=UTC:20231217T120000
DTSTAMP:20260421T204842
CREATED:20231202T004743Z
LAST-MODIFIED:20231202T004743Z
UID:9282-1702807200-1702814400@tettenhalltennisclub.co.uk
SUMMARY:Mix In
DESCRIPTION:
URL:https://tettenhalltennisclub.co.uk/event/mix-in-30/
LOCATION:Tettenhall Tennis Club\, Danescourt Road\, Wolverhampton\, WV6 9BJ\, United Kingdom
CATEGORIES:Club Tennis
END:VEVENT
BEGIN:VEVENT
DTSTART;TZID=UTC:20231214T183000
DTEND;TZID=UTC:20231214T200000
DTSTAMP:20260421T204842
CREATED:20231201T192450Z
LAST-MODIFIED:20231201T192450Z
UID:9265-1702578600-1702584000@tettenhalltennisclub.co.uk
SUMMARY:Advanced Mix In
DESCRIPTION:
URL:https://tettenhalltennisclub.co.uk/event/advanced-mix-in-17/
LOCATION:Tettenhall Tennis Club\, Danescourt Road\, Wolverhampton\, WV6 9BJ\, United Kingdom
CATEGORIES:Club Tennis
END:VEVENT
BEGIN:VEVENT
DTSTART;TZID=UTC:20231212T100000
DTEND;TZID=UTC:20231212T120000
DTSTAMP:20260421T204842
CREATED:20231201T135824Z
LAST-MODIFIED:20231201T135824Z
UID:9244-1702375200-1702382400@tettenhalltennisclub.co.uk
SUMMARY:Mix In
DESCRIPTION:
URL:https://tettenhalltennisclub.co.uk/event/mix-in-26/
LOCATION:Tettenhall Tennis Club\, Danescourt Road\, Wolverhampton\, WV6 9BJ\, United Kingdom
CATEGORIES:Club Tennis
END:VEVENT
END:VCALENDAR