BEGIN:VCALENDAR
VERSION:2.0
PRODID:-//Tettenhall Tennis Club - ECPv6.15.20//NONSGML v1.0//EN
CALSCALE:GREGORIAN
METHOD:PUBLISH
X-WR-CALNAME:Tettenhall Tennis Club
X-ORIGINAL-URL:https://tettenhalltennisclub.co.uk
X-WR-CALDESC:Events for Tettenhall Tennis Club
REFRESH-INTERVAL;VALUE=DURATION:PT1H
X-Robots-Tag:noindex
X-PUBLISHED-TTL:PT1H
BEGIN:VTIMEZONE
TZID:UTC
BEGIN:STANDARD
TZOFFSETFROM:+0000
TZOFFSETTO:+0000
TZNAME:UTC
DTSTART:20220101T000000
END:STANDARD
END:VTIMEZONE
BEGIN:VEVENT
DTSTART;TZID=UTC:20231210T100000
DTEND;TZID=UTC:20231210T120000
DTSTAMP:20260422T022145
CREATED:20231202T004627Z
LAST-MODIFIED:20231202T004627Z
UID:9279-1702202400-1702209600@tettenhalltennisclub.co.uk
SUMMARY:Mix In
DESCRIPTION:
URL:https://tettenhalltennisclub.co.uk/event/mix-in-29/
LOCATION:Tettenhall Tennis Club\, Danescourt Road\, Wolverhampton\, WV6 9BJ\, United Kingdom
CATEGORIES:Club Tennis
END:VEVENT
BEGIN:VEVENT
DTSTART;TZID=UTC:20231207T183000
DTEND;TZID=UTC:20231207T200000
DTSTAMP:20260422T022145
CREATED:20231201T192421Z
LAST-MODIFIED:20231201T192421Z
UID:9263-1701973800-1701979200@tettenhalltennisclub.co.uk
SUMMARY:Advanced Mix In
DESCRIPTION:
URL:https://tettenhalltennisclub.co.uk/event/advanced-mix-in-16/
LOCATION:Tettenhall Tennis Club\, Danescourt Road\, Wolverhampton\, WV6 9BJ\, United Kingdom
CATEGORIES:Club Tennis
END:VEVENT
BEGIN:VEVENT
DTSTART;TZID=UTC:20231205T100000
DTEND;TZID=UTC:20231205T120000
DTSTAMP:20260422T022145
CREATED:20231201T135731Z
LAST-MODIFIED:20231201T135731Z
UID:9242-1701770400-1701777600@tettenhalltennisclub.co.uk
SUMMARY:Mix In
DESCRIPTION:
URL:https://tettenhalltennisclub.co.uk/event/mix-in-25/
LOCATION:Tettenhall Tennis Club\, Danescourt Road\, Wolverhampton\, WV6 9BJ\, United Kingdom
CATEGORIES:Club Tennis
END:VEVENT
BEGIN:VEVENT
DTSTART;TZID=UTC:20231203T100000
DTEND;TZID=UTC:20231203T120000
DTSTAMP:20260422T022145
CREATED:20231202T004544Z
LAST-MODIFIED:20231202T004544Z
UID:9277-1701597600-1701604800@tettenhalltennisclub.co.uk
SUMMARY:Mix In
DESCRIPTION:
URL:https://tettenhalltennisclub.co.uk/event/mix-in-28/
LOCATION:Tettenhall Tennis Club\, Danescourt Road\, Wolverhampton\, WV6 9BJ\, United Kingdom
CATEGORIES:Club Tennis
END:VEVENT
BEGIN:VEVENT
DTSTART;TZID=UTC:20231130T183000
DTEND;TZID=UTC:20231130T200000
DTSTAMP:20260422T022145
CREATED:20231102T133849Z
LAST-MODIFIED:20231102T133849Z
UID:9189-1701369000-1701374400@tettenhalltennisclub.co.uk
SUMMARY:Advanced Mix In
DESCRIPTION:
URL:https://tettenhalltennisclub.co.uk/event/advanced-mix-in-15/
LOCATION:Tettenhall Tennis Club\, Danescourt Road\, Wolverhampton\, WV6 9BJ\, United Kingdom
CATEGORIES:Club Tennis
END:VEVENT
BEGIN:VEVENT
DTSTART;TZID=UTC:20231128T100000
DTEND;TZID=UTC:20231128T120000
DTSTAMP:20260422T022145
CREATED:20231102T134256Z
LAST-MODIFIED:20231102T134256Z
UID:9201-1701165600-1701172800@tettenhalltennisclub.co.uk
SUMMARY:Mix In
DESCRIPTION:
URL:https://tettenhalltennisclub.co.uk/event/mix-in-22/
LOCATION:Tettenhall Tennis Club\, Danescourt Road\, Wolverhampton\, WV6 9BJ\, United Kingdom
CATEGORIES:Club Tennis
END:VEVENT
BEGIN:VEVENT
DTSTART;TZID=UTC:20231126T100000
DTEND;TZID=UTC:20231126T120000
DTSTAMP:20260422T022145
CREATED:20231102T134355Z
LAST-MODIFIED:20231102T134355Z
UID:9205-1700992800-1701000000@tettenhalltennisclub.co.uk
SUMMARY:Mix In
DESCRIPTION:
URL:https://tettenhalltennisclub.co.uk/event/mix-in-24/
LOCATION:Tettenhall Tennis Club\, Danescourt Road\, Wolverhampton\, WV6 9BJ\, United Kingdom
CATEGORIES:Club Tennis
END:VEVENT
BEGIN:VEVENT
DTSTART;TZID=UTC:20231123T183000
DTEND;TZID=UTC:20231123T200000
DTSTAMP:20260422T022145
CREATED:20231102T133818Z
LAST-MODIFIED:20231102T133818Z
UID:9187-1700764200-1700769600@tettenhalltennisclub.co.uk
SUMMARY:Advanced Mix In
DESCRIPTION:
URL:https://tettenhalltennisclub.co.uk/event/advanced-mix-in-14/
LOCATION:Tettenhall Tennis Club\, Danescourt Road\, Wolverhampton\, WV6 9BJ\, United Kingdom
CATEGORIES:Club Tennis
END:VEVENT
BEGIN:VEVENT
DTSTART;TZID=UTC:20231121T100000
DTEND;TZID=UTC:20231121T120000
DTSTAMP:20260422T022145
CREATED:20231102T134231Z
LAST-MODIFIED:20231102T134231Z
UID:9199-1700560800-1700568000@tettenhalltennisclub.co.uk
SUMMARY:Mix In
DESCRIPTION:
URL:https://tettenhalltennisclub.co.uk/event/mix-in-21/
LOCATION:Tettenhall Tennis Club\, Danescourt Road\, Wolverhampton\, WV6 9BJ\, United Kingdom
CATEGORIES:Club Tennis
END:VEVENT
BEGIN:VEVENT
DTSTART;TZID=UTC:20231119T100000
DTEND;TZID=UTC:20231119T120000
DTSTAMP:20260422T022145
CREATED:20231102T134332Z
LAST-MODIFIED:20231102T134332Z
UID:9203-1700388000-1700395200@tettenhalltennisclub.co.uk
SUMMARY:Mix In
DESCRIPTION:
URL:https://tettenhalltennisclub.co.uk/event/mix-in-23/
LOCATION:Tettenhall Tennis Club\, Danescourt Road\, Wolverhampton\, WV6 9BJ\, United Kingdom
CATEGORIES:Club Tennis
END:VEVENT
BEGIN:VEVENT
DTSTART;TZID=UTC:20231116T183000
DTEND;TZID=UTC:20231116T200000
DTSTAMP:20260422T022145
CREATED:20231102T133625Z
LAST-MODIFIED:20231102T133656Z
UID:9185-1700159400-1700164800@tettenhalltennisclub.co.uk
SUMMARY:Advanced Mix In
DESCRIPTION:
URL:https://tettenhalltennisclub.co.uk/event/advanced-mix-in-13/
LOCATION:Tettenhall Tennis Club\, Danescourt Road\, Wolverhampton\, WV6 9BJ\, United Kingdom
CATEGORIES:Club Tennis
END:VEVENT
BEGIN:VEVENT
DTSTART;TZID=UTC:20231114T100000
DTEND;TZID=UTC:20231114T120000
DTSTAMP:20260422T022145
CREATED:20231102T133004Z
LAST-MODIFIED:20231102T133004Z
UID:9169-1699956000-1699963200@tettenhalltennisclub.co.uk
SUMMARY:Mix In
DESCRIPTION:
URL:https://tettenhalltennisclub.co.uk/event/mix-in-20/
LOCATION:Tettenhall Tennis Club\, Danescourt Road\, Wolverhampton\, WV6 9BJ\, United Kingdom
CATEGORIES:Club Tennis
END:VEVENT
BEGIN:VEVENT
DTSTART;TZID=UTC:20231112T100000
DTEND;TZID=UTC:20231112T120000
DTSTAMP:20260422T022145
CREATED:20231102T132504Z
LAST-MODIFIED:20231102T132504Z
UID:9161-1699783200-1699790400@tettenhalltennisclub.co.uk
SUMMARY:Mix In
DESCRIPTION:
URL:https://tettenhalltennisclub.co.uk/event/mix-in-19/
LOCATION:Tettenhall Tennis Club\, Danescourt Road\, Wolverhampton\, WV6 9BJ\, United Kingdom
CATEGORIES:Club Tennis
END:VEVENT
BEGIN:VEVENT
DTSTART;TZID=UTC:20231109T183000
DTEND;TZID=UTC:20231109T200000
DTSTAMP:20260422T022145
CREATED:20231024T080655Z
LAST-MODIFIED:20231024T080756Z
UID:9156-1699554600-1699560000@tettenhalltennisclub.co.uk
SUMMARY:Advanced Mix In
DESCRIPTION:
URL:https://tettenhalltennisclub.co.uk/event/advanced-mix-in-12/
LOCATION:Tettenhall Tennis Club\, Danescourt Road\, Wolverhampton\, WV6 9BJ\, United Kingdom
CATEGORIES:Club Tennis
END:VEVENT
BEGIN:VEVENT
DTSTART;TZID=UTC:20231107T100000
DTEND;TZID=UTC:20231107T120000
DTSTAMP:20260422T022145
CREATED:20231023T140636Z
LAST-MODIFIED:20231023T140636Z
UID:9152-1699351200-1699358400@tettenhalltennisclub.co.uk
SUMMARY:Mix In
DESCRIPTION:
URL:https://tettenhalltennisclub.co.uk/event/mix-in-18/
LOCATION:Tettenhall Tennis Club\, Danescourt Road\, Wolverhampton\, WV6 9BJ\, United Kingdom
CATEGORIES:Club Tennis
END:VEVENT
BEGIN:VEVENT
DTSTART;TZID=UTC:20231105T100000
DTEND;TZID=UTC:20231105T120000
DTSTAMP:20260422T022145
CREATED:20231023T111108Z
LAST-MODIFIED:20231023T140222Z
UID:9143-1699178400-1699185600@tettenhalltennisclub.co.uk
SUMMARY:Mix In
DESCRIPTION:
URL:https://tettenhalltennisclub.co.uk/event/mix-in-17/
LOCATION:Tettenhall Tennis Club\, Danescourt Road\, Wolverhampton\, WV6 9BJ\, United Kingdom
CATEGORIES:Club Tennis
END:VEVENT
BEGIN:VEVENT
DTSTART;TZID=UTC:20231102T183000
DTEND;TZID=UTC:20231102T200000
DTSTAMP:20260422T022145
CREATED:20231023T110735Z
LAST-MODIFIED:20231023T111511Z
UID:9137-1698949800-1698955200@tettenhalltennisclub.co.uk
SUMMARY:Advanced Mix In
DESCRIPTION:
URL:https://tettenhalltennisclub.co.uk/event/advanced-mix-in-11/
LOCATION:Tettenhall Tennis Club\, Danescourt Road\, Wolverhampton\, WV6 9BJ\, United Kingdom
CATEGORIES:Club Tennis
END:VEVENT
BEGIN:VEVENT
DTSTART;TZID=UTC:20231031T100000
DTEND;TZID=UTC:20231031T120000
DTSTAMP:20260422T022145
CREATED:20230930T212746Z
LAST-MODIFIED:20230930T212746Z
UID:9084-1698746400-1698753600@tettenhalltennisclub.co.uk
SUMMARY:Mix In
DESCRIPTION:
URL:https://tettenhalltennisclub.co.uk/event/mix-in-13/
LOCATION:Tettenhall Tennis Club\, Danescourt Road\, Wolverhampton\, WV6 9BJ\, United Kingdom
CATEGORIES:Club Tennis
END:VEVENT
BEGIN:VEVENT
DTSTART;TZID=UTC:20231029T100000
DTEND;TZID=UTC:20231029T120000
DTSTAMP:20260422T022145
CREATED:20230930T214630Z
LAST-MODIFIED:20230930T214630Z
UID:9116-1698573600-1698580800@tettenhalltennisclub.co.uk
SUMMARY:Mix In
DESCRIPTION:
URL:https://tettenhalltennisclub.co.uk/event/mix-in-16/
LOCATION:Tettenhall Tennis Club\, Danescourt Road\, Wolverhampton\, WV6 9BJ\, United Kingdom
CATEGORIES:Club Tennis
END:VEVENT
BEGIN:VEVENT
DTSTART;TZID=UTC:20231026T183000
DTEND;TZID=UTC:20231026T200000
DTSTAMP:20260422T022145
CREATED:20230930T213844Z
LAST-MODIFIED:20230930T213844Z
UID:9102-1698345000-1698350400@tettenhalltennisclub.co.uk
SUMMARY:Advanced Mix In
DESCRIPTION:
URL:https://tettenhalltennisclub.co.uk/event/advanced-mix-in-10/
LOCATION:Tettenhall Tennis Club\, Danescourt Road\, Wolverhampton\, WV6 9BJ\, United Kingdom
CATEGORIES:Club Tennis
END:VEVENT
BEGIN:VEVENT
DTSTART;TZID=UTC:20231024T100000
DTEND;TZID=UTC:20231024T120000
DTSTAMP:20260422T022145
CREATED:20230930T212658Z
LAST-MODIFIED:20230930T212658Z
UID:9082-1698141600-1698148800@tettenhalltennisclub.co.uk
SUMMARY:Mix In
DESCRIPTION:
URL:https://tettenhalltennisclub.co.uk/event/mix-in-12/
LOCATION:Tettenhall Tennis Club\, Danescourt Road\, Wolverhampton\, WV6 9BJ\, United Kingdom
CATEGORIES:Club Tennis
END:VEVENT
BEGIN:VEVENT
DTSTART;TZID=UTC:20231022T100000
DTEND;TZID=UTC:20231022T120000
DTSTAMP:20260422T022145
CREATED:20230930T214603Z
LAST-MODIFIED:20230930T214603Z
UID:9114-1697968800-1697976000@tettenhalltennisclub.co.uk
SUMMARY:Mix In
DESCRIPTION:
URL:https://tettenhalltennisclub.co.uk/event/mix-in-15/
LOCATION:Tettenhall Tennis Club\, Danescourt Road\, Wolverhampton\, WV6 9BJ\, United Kingdom
CATEGORIES:Club Tennis
END:VEVENT
BEGIN:VEVENT
DTSTART;TZID=UTC:20231019T183000
DTEND;TZID=UTC:20231019T200000
DTSTAMP:20260422T022145
CREATED:20230930T213752Z
LAST-MODIFIED:20230930T213752Z
UID:9100-1697740200-1697745600@tettenhalltennisclub.co.uk
SUMMARY:Advanced Mix In
DESCRIPTION:
URL:https://tettenhalltennisclub.co.uk/event/advanced-mix-in-9/
LOCATION:Tettenhall Tennis Club\, Danescourt Road\, Wolverhampton\, WV6 9BJ\, United Kingdom
CATEGORIES:Club Tennis
END:VEVENT
BEGIN:VEVENT
DTSTART;TZID=UTC:20231017T100000
DTEND;TZID=UTC:20231017T120000
DTSTAMP:20260422T022145
CREATED:20230930T212618Z
LAST-MODIFIED:20230930T212618Z
UID:9080-1697536800-1697544000@tettenhalltennisclub.co.uk
SUMMARY:Mix In
DESCRIPTION:
URL:https://tettenhalltennisclub.co.uk/event/mix-in-11/
LOCATION:Tettenhall Tennis Club\, Danescourt Road\, Wolverhampton\, WV6 9BJ\, United Kingdom
CATEGORIES:Club Tennis
END:VEVENT
BEGIN:VEVENT
DTSTART;TZID=UTC:20231015T100000
DTEND;TZID=UTC:20231015T120000
DTSTAMP:20260422T022145
CREATED:20230930T214525Z
LAST-MODIFIED:20230930T214525Z
UID:9112-1697364000-1697371200@tettenhalltennisclub.co.uk
SUMMARY:Mix In
DESCRIPTION:
URL:https://tettenhalltennisclub.co.uk/event/mix-in-14/
LOCATION:Tettenhall Tennis Club\, Danescourt Road\, Wolverhampton\, WV6 9BJ\, United Kingdom
CATEGORIES:Club Tennis
END:VEVENT
BEGIN:VEVENT
DTSTART;TZID=UTC:20231014T133000
DTEND;TZID=UTC:20231014T153000
DTSTAMP:20260422T022145
CREATED:20230930T214423Z
LAST-MODIFIED:20230930T214423Z
UID:9110-1697290200-1697297400@tettenhalltennisclub.co.uk
SUMMARY:Club Afternoon - 3 COURTS NEEDED
DESCRIPTION:
URL:https://tettenhalltennisclub.co.uk/event/club-afternoon-3-courts-needed-2/
LOCATION:Tettenhall Tennis Club\, Danescourt Road\, Wolverhampton\, WV6 9BJ\, United Kingdom
CATEGORIES:Club Tennis
ORGANIZER;CN="Simon Fellows":MAILTO:simonfellows1@outlook.com
END:VEVENT
BEGIN:VEVENT
DTSTART;TZID=UTC:20231012T183000
DTEND;TZID=UTC:20231012T200000
DTSTAMP:20260422T022145
CREATED:20230930T213719Z
LAST-MODIFIED:20230930T213719Z
UID:9098-1697135400-1697140800@tettenhalltennisclub.co.uk
SUMMARY:Advanced Mix In
DESCRIPTION:
URL:https://tettenhalltennisclub.co.uk/event/advanced-mix-in-8/
LOCATION:Tettenhall Tennis Club\, Danescourt Road\, Wolverhampton\, WV6 9BJ\, United Kingdom
CATEGORIES:Club Tennis
END:VEVENT
BEGIN:VEVENT
DTSTART;TZID=UTC:20231010T100000
DTEND;TZID=UTC:20231010T120000
DTSTAMP:20260422T022145
CREATED:20230930T212535Z
LAST-MODIFIED:20230930T212535Z
UID:9078-1696932000-1696939200@tettenhalltennisclub.co.uk
SUMMARY:Mix In
DESCRIPTION:
URL:https://tettenhalltennisclub.co.uk/event/mix-in-10/
LOCATION:Tettenhall Tennis Club\, Danescourt Road\, Wolverhampton\, WV6 9BJ\, United Kingdom
CATEGORIES:Club Tennis
END:VEVENT
BEGIN:VEVENT
DTSTART;TZID=UTC:20230831T183000
DTEND;TZID=UTC:20230831T200000
DTSTAMP:20260422T022145
CREATED:20230731T162331Z
LAST-MODIFIED:20230731T162331Z
UID:8957-1693506600-1693512000@tettenhalltennisclub.co.uk
SUMMARY:Advanced Mix In
DESCRIPTION:
URL:https://tettenhalltennisclub.co.uk/event/advanced-mix-in-5/
LOCATION:Tettenhall Tennis Club\, Danescourt Road\, Wolverhampton\, WV6 9BJ\, United Kingdom
CATEGORIES:Club Tennis
END:VEVENT
BEGIN:VEVENT
DTSTART;TZID=UTC:20230829T100000
DTEND;TZID=UTC:20230829T120000
DTSTAMP:20260422T022145
CREATED:20230731T162102Z
LAST-MODIFIED:20230731T162102Z
UID:8947-1693303200-1693310400@tettenhalltennisclub.co.uk
SUMMARY:Mix In
DESCRIPTION:
URL:https://tettenhalltennisclub.co.uk/event/mix-in-5/
LOCATION:Tettenhall Tennis Club\, Danescourt Road\, Wolverhampton\, WV6 9BJ\, United Kingdom
CATEGORIES:Club Tennis
END:VEVENT
END:VCALENDAR