BEGIN:VCALENDAR
VERSION:2.0
PRODID:-//Tettenhall Tennis Club - ECPv6.15.20//NONSGML v1.0//EN
CALSCALE:GREGORIAN
METHOD:PUBLISH
X-ORIGINAL-URL:https://tettenhalltennisclub.co.uk
X-WR-CALDESC:Events for Tettenhall Tennis Club
REFRESH-INTERVAL;VALUE=DURATION:PT1H
X-Robots-Tag:noindex
X-PUBLISHED-TTL:PT1H
BEGIN:VTIMEZONE
TZID:UTC
BEGIN:STANDARD
TZOFFSETFROM:+0000
TZOFFSETTO:+0000
TZNAME:UTC
DTSTART:20240101T000000
END:STANDARD
END:VTIMEZONE
BEGIN:VEVENT
DTSTART;TZID=UTC:20260201T100000
DTEND;TZID=UTC:20260201T120000
DTSTAMP:20260420T133118
CREATED:20260201T003252Z
LAST-MODIFIED:20260201T003252Z
UID:10991-1769940000-1769947200@tettenhalltennisclub.co.uk
SUMMARY:Mix In
DESCRIPTION:
URL:https://tettenhalltennisclub.co.uk/event/mix-in-180/
LOCATION:Tettenhall Tennis Club\, Danescourt Road\, Wolverhampton\, WV6 9BJ\, United Kingdom
CATEGORIES:Club Tennis
END:VEVENT
BEGIN:VEVENT
DTSTART;TZID=UTC:20260127T100000
DTEND;TZID=UTC:20260127T120000
DTSTAMP:20260420T133118
CREATED:20260101T215152Z
LAST-MODIFIED:20260101T215152Z
UID:10908-1769508000-1769515200@tettenhalltennisclub.co.uk
SUMMARY:Mix In
DESCRIPTION:
URL:https://tettenhalltennisclub.co.uk/event/mix-in-171/
LOCATION:Tettenhall Tennis Club\, Danescourt Road\, Wolverhampton\, WV6 9BJ\, United Kingdom
CATEGORIES:Club Tennis
END:VEVENT
BEGIN:VEVENT
DTSTART;TZID=UTC:20260125T100000
DTEND;TZID=UTC:20260125T120000
DTSTAMP:20260420T133118
CREATED:20260101T220112Z
LAST-MODIFIED:20260101T220112Z
UID:10930-1769335200-1769342400@tettenhalltennisclub.co.uk
SUMMARY:Mix In
DESCRIPTION:
URL:https://tettenhalltennisclub.co.uk/event/mix-in-175/
LOCATION:Tettenhall Tennis Club\, Danescourt Road\, Wolverhampton\, WV6 9BJ\, United Kingdom
CATEGORIES:Club Tennis
END:VEVENT
BEGIN:VEVENT
DTSTART;TZID=UTC:20260120T100000
DTEND;TZID=UTC:20260120T120000
DTSTAMP:20260420T133118
CREATED:20260101T215130Z
LAST-MODIFIED:20260101T215130Z
UID:10906-1768903200-1768910400@tettenhalltennisclub.co.uk
SUMMARY:Mix In
DESCRIPTION:
URL:https://tettenhalltennisclub.co.uk/event/mix-in-170/
LOCATION:Tettenhall Tennis Club\, Danescourt Road\, Wolverhampton\, WV6 9BJ\, United Kingdom
CATEGORIES:Club Tennis
END:VEVENT
BEGIN:VEVENT
DTSTART;TZID=UTC:20260118T100000
DTEND;TZID=UTC:20260118T120000
DTSTAMP:20260420T133118
CREATED:20260101T220046Z
LAST-MODIFIED:20260101T220046Z
UID:10928-1768730400-1768737600@tettenhalltennisclub.co.uk
SUMMARY:Mix In
DESCRIPTION:
URL:https://tettenhalltennisclub.co.uk/event/mix-in-174/
LOCATION:Tettenhall Tennis Club\, Danescourt Road\, Wolverhampton\, WV6 9BJ\, United Kingdom
CATEGORIES:Club Tennis
END:VEVENT
BEGIN:VEVENT
DTSTART;TZID=UTC:20260113T100000
DTEND;TZID=UTC:20260113T120000
DTSTAMP:20260420T133118
CREATED:20260101T215104Z
LAST-MODIFIED:20260101T215104Z
UID:10904-1768298400-1768305600@tettenhalltennisclub.co.uk
SUMMARY:Mix In
DESCRIPTION:
URL:https://tettenhalltennisclub.co.uk/event/mix-in-169/
LOCATION:Tettenhall Tennis Club\, Danescourt Road\, Wolverhampton\, WV6 9BJ\, United Kingdom
CATEGORIES:Club Tennis
END:VEVENT
BEGIN:VEVENT
DTSTART;TZID=UTC:20260111T100000
DTEND;TZID=UTC:20260111T120000
DTSTAMP:20260420T133118
CREATED:20260101T220027Z
LAST-MODIFIED:20260101T220027Z
UID:10926-1768125600-1768132800@tettenhalltennisclub.co.uk
SUMMARY:Mix In
DESCRIPTION:
URL:https://tettenhalltennisclub.co.uk/event/mix-in-173/
LOCATION:Tettenhall Tennis Club\, Danescourt Road\, Wolverhampton\, WV6 9BJ\, United Kingdom
CATEGORIES:Club Tennis
END:VEVENT
BEGIN:VEVENT
DTSTART;TZID=UTC:20260106T100000
DTEND;TZID=UTC:20260106T120000
DTSTAMP:20260420T133118
CREATED:20260101T215044Z
LAST-MODIFIED:20260101T215044Z
UID:10902-1767693600-1767700800@tettenhalltennisclub.co.uk
SUMMARY:Mix In
DESCRIPTION:
URL:https://tettenhalltennisclub.co.uk/event/mix-in-168/
LOCATION:Tettenhall Tennis Club\, Danescourt Road\, Wolverhampton\, WV6 9BJ\, United Kingdom
CATEGORIES:Club Tennis
END:VEVENT
BEGIN:VEVENT
DTSTART;TZID=UTC:20260104T100000
DTEND;TZID=UTC:20260104T120000
DTSTAMP:20260420T133118
CREATED:20260101T220001Z
LAST-MODIFIED:20260101T220001Z
UID:10924-1767520800-1767528000@tettenhalltennisclub.co.uk
SUMMARY:Mix In
DESCRIPTION:
URL:https://tettenhalltennisclub.co.uk/event/mix-in-172/
LOCATION:Tettenhall Tennis Club\, Danescourt Road\, Wolverhampton\, WV6 9BJ\, United Kingdom
CATEGORIES:Club Tennis
END:VEVENT
BEGIN:VEVENT
DTSTART;TZID=UTC:20251221T100000
DTEND;TZID=UTC:20251221T120000
DTSTAMP:20260420T133118
CREATED:20251123T163635Z
LAST-MODIFIED:20251123T163635Z
UID:10824-1766311200-1766318400@tettenhalltennisclub.co.uk
SUMMARY:Mix In
DESCRIPTION:
URL:https://tettenhalltennisclub.co.uk/event/mix-in-164/
LOCATION:Tettenhall Tennis Club\, Danescourt Road\, Wolverhampton\, WV6 9BJ\, United Kingdom
CATEGORIES:Club Tennis
END:VEVENT
BEGIN:VEVENT
DTSTART;TZID=UTC:20251217T183000
DTEND;TZID=UTC:20251217T200000
DTSTAMP:20260420T133118
CREATED:20251123T170514Z
LAST-MODIFIED:20251123T170514Z
UID:10872-1765996200-1766001600@tettenhalltennisclub.co.uk
SUMMARY:Team Practice
DESCRIPTION:
URL:https://tettenhalltennisclub.co.uk/event/team-practice-6/
LOCATION:Tettenhall Tennis Club\, Danescourt Road\, Wolverhampton\, WV6 9BJ\, United Kingdom
CATEGORIES:Club Tennis
ORGANIZER;CN="Simon Fellows":MAILTO:simonfellows1@outlook.com
END:VEVENT
BEGIN:VEVENT
DTSTART;TZID=UTC:20251216T100000
DTEND;TZID=UTC:20251216T120000
DTSTAMP:20260420T133118
CREATED:20251123T170822Z
LAST-MODIFIED:20251123T170822Z
UID:10878-1765879200-1765886400@tettenhalltennisclub.co.uk
SUMMARY:Mix In
DESCRIPTION:
URL:https://tettenhalltennisclub.co.uk/event/mix-in-167/
LOCATION:Tettenhall Tennis Club\, Danescourt Road\, Wolverhampton\, WV6 9BJ\, United Kingdom
CATEGORIES:Club Tennis
END:VEVENT
BEGIN:VEVENT
DTSTART;TZID=UTC:20251214T100000
DTEND;TZID=UTC:20251214T120000
DTSTAMP:20260420T133118
CREATED:20251123T163610Z
LAST-MODIFIED:20251123T163610Z
UID:10822-1765706400-1765713600@tettenhalltennisclub.co.uk
SUMMARY:Mix In
DESCRIPTION:
URL:https://tettenhalltennisclub.co.uk/event/mix-in-163/
LOCATION:Tettenhall Tennis Club\, Danescourt Road\, Wolverhampton\, WV6 9BJ\, United Kingdom
CATEGORIES:Club Tennis
END:VEVENT
BEGIN:VEVENT
DTSTART;TZID=UTC:20251213T133000
DTEND;TZID=UTC:20251213T153000
DTSTAMP:20260420T133118
CREATED:20251123T164616Z
LAST-MODIFIED:20251123T164616Z
UID:10844-1765632600-1765639800@tettenhalltennisclub.co.uk
SUMMARY:Club Afternoon – 3 COURTS NEEDED
DESCRIPTION:
URL:https://tettenhalltennisclub.co.uk/event/club-afternoon-3-courts-needed-13/
LOCATION:Tettenhall Tennis Club\, Danescourt Road\, Wolverhampton\, WV6 9BJ\, United Kingdom
CATEGORIES:Club Tennis
ORGANIZER;CN="Simon Fellows":MAILTO:simonfellows1@outlook.com
END:VEVENT
BEGIN:VEVENT
DTSTART;TZID=UTC:20251210T183000
DTEND;TZID=UTC:20251210T200000
DTSTAMP:20260420T133118
CREATED:20251123T170443Z
LAST-MODIFIED:20251123T170443Z
UID:10870-1765391400-1765396800@tettenhalltennisclub.co.uk
SUMMARY:Team Practice
DESCRIPTION:
URL:https://tettenhalltennisclub.co.uk/event/team-practice-5/
LOCATION:Tettenhall Tennis Club\, Danescourt Road\, Wolverhampton\, WV6 9BJ\, United Kingdom
CATEGORIES:Club Tennis
ORGANIZER;CN="Simon Fellows":MAILTO:simonfellows1@outlook.com
END:VEVENT
BEGIN:VEVENT
DTSTART;TZID=UTC:20251209T100000
DTEND;TZID=UTC:20251209T120000
DTSTAMP:20260420T133118
CREATED:20251123T170729Z
LAST-MODIFIED:20251123T170729Z
UID:10876-1765274400-1765281600@tettenhalltennisclub.co.uk
SUMMARY:Mix In
DESCRIPTION:
URL:https://tettenhalltennisclub.co.uk/event/mix-in-166/
LOCATION:Tettenhall Tennis Club\, Danescourt Road\, Wolverhampton\, WV6 9BJ\, United Kingdom
CATEGORIES:Club Tennis
END:VEVENT
BEGIN:VEVENT
DTSTART;TZID=UTC:20251207T100000
DTEND;TZID=UTC:20251207T120000
DTSTAMP:20260420T133118
CREATED:20251123T163543Z
LAST-MODIFIED:20251123T163543Z
UID:10820-1765101600-1765108800@tettenhalltennisclub.co.uk
SUMMARY:Mix In
DESCRIPTION:
URL:https://tettenhalltennisclub.co.uk/event/mix-in-162/
LOCATION:Tettenhall Tennis Club\, Danescourt Road\, Wolverhampton\, WV6 9BJ\, United Kingdom
CATEGORIES:Club Tennis
END:VEVENT
BEGIN:VEVENT
DTSTART;TZID=UTC:20251203T183000
DTEND;TZID=UTC:20251203T200000
DTSTAMP:20260420T133118
CREATED:20251123T170415Z
LAST-MODIFIED:20251123T170415Z
UID:10868-1764786600-1764792000@tettenhalltennisclub.co.uk
SUMMARY:Team Practice
DESCRIPTION:
URL:https://tettenhalltennisclub.co.uk/event/team-practice-4/
LOCATION:Tettenhall Tennis Club\, Danescourt Road\, Wolverhampton\, WV6 9BJ\, United Kingdom
CATEGORIES:Club Tennis
ORGANIZER;CN="Simon Fellows":MAILTO:simonfellows1@outlook.com
END:VEVENT
BEGIN:VEVENT
DTSTART;TZID=UTC:20251202T100000
DTEND;TZID=UTC:20251202T120000
DTSTAMP:20260420T133118
CREATED:20251123T170659Z
LAST-MODIFIED:20251123T170659Z
UID:10874-1764669600-1764676800@tettenhalltennisclub.co.uk
SUMMARY:Mix In
DESCRIPTION:
URL:https://tettenhalltennisclub.co.uk/event/mix-in-165/
LOCATION:Tettenhall Tennis Club\, Danescourt Road\, Wolverhampton\, WV6 9BJ\, United Kingdom
CATEGORIES:Club Tennis
END:VEVENT
BEGIN:VEVENT
DTSTART;TZID=UTC:20251130T100000
DTEND;TZID=UTC:20251130T120000
DTSTAMP:20260420T133118
CREATED:20251102T000901Z
LAST-MODIFIED:20251102T000901Z
UID:10769-1764496800-1764504000@tettenhalltennisclub.co.uk
SUMMARY:Mix In
DESCRIPTION:
URL:https://tettenhalltennisclub.co.uk/event/mix-in-161/
LOCATION:Tettenhall Tennis Club\, Danescourt Road\, Wolverhampton\, WV6 9BJ\, United Kingdom
CATEGORIES:Club Tennis
END:VEVENT
BEGIN:VEVENT
DTSTART;TZID=UTC:20251125T100000
DTEND;TZID=UTC:20251125T120000
DTSTAMP:20260420T133118
CREATED:20251102T000413Z
LAST-MODIFIED:20251102T000413Z
UID:10757-1764064800-1764072000@tettenhalltennisclub.co.uk
SUMMARY:Mix In
DESCRIPTION:
URL:https://tettenhalltennisclub.co.uk/event/mix-in-156/
LOCATION:Tettenhall Tennis Club\, Danescourt Road\, Wolverhampton\, WV6 9BJ\, United Kingdom
CATEGORIES:Club Tennis
END:VEVENT
BEGIN:VEVENT
DTSTART;TZID=UTC:20251123T100000
DTEND;TZID=UTC:20251123T120000
DTSTAMP:20260420T133118
CREATED:20251102T000838Z
LAST-MODIFIED:20251102T000838Z
UID:10767-1763892000-1763899200@tettenhalltennisclub.co.uk
SUMMARY:Mix In
DESCRIPTION:
URL:https://tettenhalltennisclub.co.uk/event/mix-in-160/
LOCATION:Tettenhall Tennis Club\, Danescourt Road\, Wolverhampton\, WV6 9BJ\, United Kingdom
CATEGORIES:Club Tennis
END:VEVENT
BEGIN:VEVENT
DTSTART;TZID=UTC:20251118T100000
DTEND;TZID=UTC:20251118T120000
DTSTAMP:20260420T133118
CREATED:20251102T000315Z
LAST-MODIFIED:20251102T000315Z
UID:10755-1763460000-1763467200@tettenhalltennisclub.co.uk
SUMMARY:Mix In
DESCRIPTION:
URL:https://tettenhalltennisclub.co.uk/event/mix-in-155/
LOCATION:Tettenhall Tennis Club\, Danescourt Road\, Wolverhampton\, WV6 9BJ\, United Kingdom
CATEGORIES:Club Tennis
END:VEVENT
BEGIN:VEVENT
DTSTART;TZID=UTC:20251116T100000
DTEND;TZID=UTC:20251116T120000
DTSTAMP:20260420T133118
CREATED:20251102T000813Z
LAST-MODIFIED:20251102T000813Z
UID:10765-1763287200-1763294400@tettenhalltennisclub.co.uk
SUMMARY:Mix In
DESCRIPTION:
URL:https://tettenhalltennisclub.co.uk/event/mix-in-159/
LOCATION:Tettenhall Tennis Club\, Danescourt Road\, Wolverhampton\, WV6 9BJ\, United Kingdom
CATEGORIES:Club Tennis
END:VEVENT
BEGIN:VEVENT
DTSTART;TZID=UTC:20251115T133000
DTEND;TZID=UTC:20251115T153000
DTSTAMP:20260420T133118
CREATED:20251102T000630Z
LAST-MODIFIED:20251102T000630Z
UID:10759-1763213400-1763220600@tettenhalltennisclub.co.uk
SUMMARY:Club Afternoon - 3 COURTS NEEDED
DESCRIPTION:
URL:https://tettenhalltennisclub.co.uk/event/club-afternoon-3-courts-needed-12/
LOCATION:Tettenhall Tennis Club\, Danescourt Road\, Wolverhampton\, WV6 9BJ\, United Kingdom
CATEGORIES:Club Tennis
ORGANIZER;CN="Simon Fellows":MAILTO:simonfellows1@outlook.com
END:VEVENT
BEGIN:VEVENT
DTSTART;TZID=UTC:20251111T100000
DTEND;TZID=UTC:20251111T120000
DTSTAMP:20260420T133118
CREATED:20251102T000247Z
LAST-MODIFIED:20251102T000247Z
UID:10753-1762855200-1762862400@tettenhalltennisclub.co.uk
SUMMARY:Mix In
DESCRIPTION:
URL:https://tettenhalltennisclub.co.uk/event/mix-in-154/
LOCATION:Tettenhall Tennis Club\, Danescourt Road\, Wolverhampton\, WV6 9BJ\, United Kingdom
CATEGORIES:Club Tennis
END:VEVENT
BEGIN:VEVENT
DTSTART;TZID=UTC:20251109T100000
DTEND;TZID=UTC:20251109T120000
DTSTAMP:20260420T133118
CREATED:20251102T000747Z
LAST-MODIFIED:20251102T000747Z
UID:10763-1762682400-1762689600@tettenhalltennisclub.co.uk
SUMMARY:Mix In
DESCRIPTION:
URL:https://tettenhalltennisclub.co.uk/event/mix-in-158/
LOCATION:Tettenhall Tennis Club\, Danescourt Road\, Wolverhampton\, WV6 9BJ\, United Kingdom
CATEGORIES:Club Tennis
END:VEVENT
BEGIN:VEVENT
DTSTART;TZID=UTC:20251104T100000
DTEND;TZID=UTC:20251104T120000
DTSTAMP:20260420T133118
CREATED:20251102T000225Z
LAST-MODIFIED:20251102T000225Z
UID:10751-1762250400-1762257600@tettenhalltennisclub.co.uk
SUMMARY:Mix In
DESCRIPTION:
URL:https://tettenhalltennisclub.co.uk/event/mix-in-153/
LOCATION:Tettenhall Tennis Club\, Danescourt Road\, Wolverhampton\, WV6 9BJ\, United Kingdom
CATEGORIES:Club Tennis
END:VEVENT
BEGIN:VEVENT
DTSTART;TZID=UTC:20251102T100000
DTEND;TZID=UTC:20251102T120000
DTSTAMP:20260420T133118
CREATED:20251102T000723Z
LAST-MODIFIED:20251102T000723Z
UID:10761-1762077600-1762084800@tettenhalltennisclub.co.uk
SUMMARY:Mix In
DESCRIPTION:
URL:https://tettenhalltennisclub.co.uk/event/mix-in-157/
LOCATION:Tettenhall Tennis Club\, Danescourt Road\, Wolverhampton\, WV6 9BJ\, United Kingdom
CATEGORIES:Club Tennis
END:VEVENT
BEGIN:VEVENT
DTSTART;TZID=UTC:20251029T183000
DTEND;TZID=UTC:20251029T200000
DTSTAMP:20260420T133118
CREATED:20250930T203036Z
LAST-MODIFIED:20250930T203036Z
UID:10680-1761762600-1761768000@tettenhalltennisclub.co.uk
SUMMARY:Team Practice
DESCRIPTION:
URL:https://tettenhalltennisclub.co.uk/event/team-practice-3/
LOCATION:Tettenhall Tennis Club\, Danescourt Road\, Wolverhampton\, WV6 9BJ\, United Kingdom
CATEGORIES:Club Tennis
ORGANIZER;CN="Simon Fellows":MAILTO:simonfellows1@outlook.com
END:VEVENT
END:VCALENDAR