BEGIN:VCALENDAR
VERSION:2.0
PRODID:-//Tettenhall Tennis Club - ECPv6.15.20//NONSGML v1.0//EN
CALSCALE:GREGORIAN
METHOD:PUBLISH
X-ORIGINAL-URL:https://tettenhalltennisclub.co.uk
X-WR-CALDESC:Events for Tettenhall Tennis Club
REFRESH-INTERVAL;VALUE=DURATION:PT1H
X-Robots-Tag:noindex
X-PUBLISHED-TTL:PT1H
BEGIN:VTIMEZONE
TZID:UTC
BEGIN:STANDARD
TZOFFSETFROM:+0000
TZOFFSETTO:+0000
TZNAME:UTC
DTSTART:20250101T000000
END:STANDARD
END:VTIMEZONE
BEGIN:VEVENT
DTSTART;TZID=UTC:20260315T100000
DTEND;TZID=UTC:20260315T120000
DTSTAMP:20260420T162133
CREATED:20260228T154916Z
LAST-MODIFIED:20260228T154916Z
UID:11082-1773568800-1773576000@tettenhalltennisclub.co.uk
SUMMARY:Mix In
DESCRIPTION:
URL:https://tettenhalltennisclub.co.uk/event/mix-in-191/
LOCATION:Tettenhall Tennis Club\, Danescourt Road\, Wolverhampton\, WV6 9BJ\, United Kingdom
CATEGORIES:Club Tennis
END:VEVENT
BEGIN:VEVENT
DTSTART;TZID=UTC:20260317T100000
DTEND;TZID=UTC:20260317T120000
DTSTAMP:20260420T162133
CREATED:20260228T153645Z
LAST-MODIFIED:20260228T153645Z
UID:11056-1773741600-1773748800@tettenhalltennisclub.co.uk
SUMMARY:Mix In
DESCRIPTION:
URL:https://tettenhalltennisclub.co.uk/event/mix-in-186/
LOCATION:Tettenhall Tennis Club\, Danescourt Road\, Wolverhampton\, WV6 9BJ\, United Kingdom
CATEGORIES:Club Tennis
END:VEVENT
BEGIN:VEVENT
DTSTART;TZID=UTC:20260322T100000
DTEND;TZID=UTC:20260322T120000
DTSTAMP:20260420T162133
CREATED:20260228T154937Z
LAST-MODIFIED:20260228T154937Z
UID:11084-1774173600-1774180800@tettenhalltennisclub.co.uk
SUMMARY:Mix In
DESCRIPTION:
URL:https://tettenhalltennisclub.co.uk/event/mix-in-192/
LOCATION:Tettenhall Tennis Club\, Danescourt Road\, Wolverhampton\, WV6 9BJ\, United Kingdom
CATEGORIES:Club Tennis
END:VEVENT
BEGIN:VEVENT
DTSTART;TZID=UTC:20260324T100000
DTEND;TZID=UTC:20260324T120000
DTSTAMP:20260420T162133
CREATED:20260228T153713Z
LAST-MODIFIED:20260228T153713Z
UID:11058-1774346400-1774353600@tettenhalltennisclub.co.uk
SUMMARY:Mix In
DESCRIPTION:
URL:https://tettenhalltennisclub.co.uk/event/mix-in-187/
LOCATION:Tettenhall Tennis Club\, Danescourt Road\, Wolverhampton\, WV6 9BJ\, United Kingdom
CATEGORIES:Club Tennis
END:VEVENT
BEGIN:VEVENT
DTSTART;TZID=UTC:20260329T100000
DTEND;TZID=UTC:20260329T120000
DTSTAMP:20260420T162133
CREATED:20260228T154958Z
LAST-MODIFIED:20260228T154958Z
UID:11086-1774778400-1774785600@tettenhalltennisclub.co.uk
SUMMARY:Mix In
DESCRIPTION:
URL:https://tettenhalltennisclub.co.uk/event/mix-in-193/
LOCATION:Tettenhall Tennis Club\, Danescourt Road\, Wolverhampton\, WV6 9BJ\, United Kingdom
CATEGORIES:Club Tennis
END:VEVENT
BEGIN:VEVENT
DTSTART;TZID=UTC:20260331T100000
DTEND;TZID=UTC:20260331T120000
DTSTAMP:20260420T162133
CREATED:20260228T153753Z
LAST-MODIFIED:20260228T153753Z
UID:11060-1774951200-1774958400@tettenhalltennisclub.co.uk
SUMMARY:Mix In
DESCRIPTION:
URL:https://tettenhalltennisclub.co.uk/event/mix-in-188/
LOCATION:Tettenhall Tennis Club\, Danescourt Road\, Wolverhampton\, WV6 9BJ\, United Kingdom
CATEGORIES:Club Tennis
END:VEVENT
BEGIN:VEVENT
DTSTART;TZID=UTC:20260407T100000
DTEND;TZID=UTC:20260407T120000
DTSTAMP:20260420T162133
CREATED:20260331T170331Z
LAST-MODIFIED:20260331T170331Z
UID:11158-1775556000-1775563200@tettenhalltennisclub.co.uk
SUMMARY:Mix In
DESCRIPTION:
URL:https://tettenhalltennisclub.co.uk/event/mix-in-197/
LOCATION:Tettenhall Tennis Club\, Danescourt Road\, Wolverhampton\, WV6 9BJ\, United Kingdom
CATEGORIES:Club Tennis
END:VEVENT
BEGIN:VEVENT
DTSTART;TZID=UTC:20260412T100000
DTEND;TZID=UTC:20260412T120000
DTSTAMP:20260420T162133
CREATED:20260331T164319Z
LAST-MODIFIED:20260331T164319Z
UID:11132-1775988000-1775995200@tettenhalltennisclub.co.uk
SUMMARY:Mix In
DESCRIPTION:
URL:https://tettenhalltennisclub.co.uk/event/mix-in-194/
LOCATION:Tettenhall Tennis Club\, Danescourt Road\, Wolverhampton\, WV6 9BJ\, United Kingdom
CATEGORIES:Club Tennis
END:VEVENT
BEGIN:VEVENT
DTSTART;TZID=UTC:20260414T100000
DTEND;TZID=UTC:20260414T120000
DTSTAMP:20260420T162133
CREATED:20260331T170357Z
LAST-MODIFIED:20260331T170357Z
UID:11160-1776160800-1776168000@tettenhalltennisclub.co.uk
SUMMARY:Mix In
DESCRIPTION:
URL:https://tettenhalltennisclub.co.uk/event/mix-in-198/
LOCATION:Tettenhall Tennis Club\, Danescourt Road\, Wolverhampton\, WV6 9BJ\, United Kingdom
CATEGORIES:Club Tennis
END:VEVENT
BEGIN:VEVENT
DTSTART;TZID=UTC:20260421T100000
DTEND;TZID=UTC:20260421T120000
DTSTAMP:20260420T162133
CREATED:20260331T170420Z
LAST-MODIFIED:20260331T170420Z
UID:11162-1776765600-1776772800@tettenhalltennisclub.co.uk
SUMMARY:Mix In
DESCRIPTION:
URL:https://tettenhalltennisclub.co.uk/event/mix-in-199/
LOCATION:Tettenhall Tennis Club\, Danescourt Road\, Wolverhampton\, WV6 9BJ\, United Kingdom
CATEGORIES:Club Tennis
END:VEVENT
BEGIN:VEVENT
DTSTART;TZID=UTC:20260426T100000
DTEND;TZID=UTC:20260426T120000
DTSTAMP:20260420T162133
CREATED:20260331T164412Z
LAST-MODIFIED:20260331T164412Z
UID:11136-1777197600-1777204800@tettenhalltennisclub.co.uk
SUMMARY:Mix In
DESCRIPTION:
URL:https://tettenhalltennisclub.co.uk/event/mix-in-196/
LOCATION:Tettenhall Tennis Club\, Danescourt Road\, Wolverhampton\, WV6 9BJ\, United Kingdom
CATEGORIES:Club Tennis
END:VEVENT
BEGIN:VEVENT
DTSTART;TZID=UTC:20260428T100000
DTEND;TZID=UTC:20260428T120000
DTSTAMP:20260420T162133
CREATED:20260331T170455Z
LAST-MODIFIED:20260331T170455Z
UID:11164-1777370400-1777377600@tettenhalltennisclub.co.uk
SUMMARY:Mix In
DESCRIPTION:
URL:https://tettenhalltennisclub.co.uk/event/mix-in-200/
LOCATION:Tettenhall Tennis Club\, Danescourt Road\, Wolverhampton\, WV6 9BJ\, United Kingdom
CATEGORIES:Club Tennis
END:VEVENT
END:VCALENDAR