BEGIN:VCALENDAR
VERSION:2.0
PRODID:-//Tettenhall Tennis Club - ECPv6.15.20//NONSGML v1.0//EN
CALSCALE:GREGORIAN
METHOD:PUBLISH
X-WR-CALNAME:Tettenhall Tennis Club
X-ORIGINAL-URL:https://tettenhalltennisclub.co.uk
X-WR-CALDESC:Events for Tettenhall Tennis Club
REFRESH-INTERVAL;VALUE=DURATION:PT1H
X-Robots-Tag:noindex
X-PUBLISHED-TTL:PT1H
BEGIN:VTIMEZONE
TZID:UTC
BEGIN:STANDARD
TZOFFSETFROM:+0000
TZOFFSETTO:+0000
TZNAME:UTC
DTSTART:20240101T000000
END:STANDARD
END:VTIMEZONE
BEGIN:VEVENT
DTSTART;TZID=UTC:20251125T100000
DTEND;TZID=UTC:20251125T120000
DTSTAMP:20260420T163642
CREATED:20251102T000413Z
LAST-MODIFIED:20251102T000413Z
UID:10757-1764064800-1764072000@tettenhalltennisclub.co.uk
SUMMARY:Mix In
DESCRIPTION:
URL:https://tettenhalltennisclub.co.uk/event/mix-in-156/
LOCATION:Tettenhall Tennis Club\, Danescourt Road\, Wolverhampton\, WV6 9BJ\, United Kingdom
CATEGORIES:Club Tennis
END:VEVENT
BEGIN:VEVENT
DTSTART;TZID=UTC:20251123T100000
DTEND;TZID=UTC:20251123T120000
DTSTAMP:20260420T163642
CREATED:20251102T000838Z
LAST-MODIFIED:20251102T000838Z
UID:10767-1763892000-1763899200@tettenhalltennisclub.co.uk
SUMMARY:Mix In
DESCRIPTION:
URL:https://tettenhalltennisclub.co.uk/event/mix-in-160/
LOCATION:Tettenhall Tennis Club\, Danescourt Road\, Wolverhampton\, WV6 9BJ\, United Kingdom
CATEGORIES:Club Tennis
END:VEVENT
BEGIN:VEVENT
DTSTART;TZID=UTC:20251118T100000
DTEND;TZID=UTC:20251118T120000
DTSTAMP:20260420T163642
CREATED:20251102T000315Z
LAST-MODIFIED:20251102T000315Z
UID:10755-1763460000-1763467200@tettenhalltennisclub.co.uk
SUMMARY:Mix In
DESCRIPTION:
URL:https://tettenhalltennisclub.co.uk/event/mix-in-155/
LOCATION:Tettenhall Tennis Club\, Danescourt Road\, Wolverhampton\, WV6 9BJ\, United Kingdom
CATEGORIES:Club Tennis
END:VEVENT
BEGIN:VEVENT
DTSTART;TZID=UTC:20251116T100000
DTEND;TZID=UTC:20251116T120000
DTSTAMP:20260420T163642
CREATED:20251102T000813Z
LAST-MODIFIED:20251102T000813Z
UID:10765-1763287200-1763294400@tettenhalltennisclub.co.uk
SUMMARY:Mix In
DESCRIPTION:
URL:https://tettenhalltennisclub.co.uk/event/mix-in-159/
LOCATION:Tettenhall Tennis Club\, Danescourt Road\, Wolverhampton\, WV6 9BJ\, United Kingdom
CATEGORIES:Club Tennis
END:VEVENT
BEGIN:VEVENT
DTSTART;TZID=UTC:20251115T133000
DTEND;TZID=UTC:20251115T153000
DTSTAMP:20260420T163642
CREATED:20251102T000630Z
LAST-MODIFIED:20251102T000630Z
UID:10759-1763213400-1763220600@tettenhalltennisclub.co.uk
SUMMARY:Club Afternoon - 3 COURTS NEEDED
DESCRIPTION:
URL:https://tettenhalltennisclub.co.uk/event/club-afternoon-3-courts-needed-12/
LOCATION:Tettenhall Tennis Club\, Danescourt Road\, Wolverhampton\, WV6 9BJ\, United Kingdom
CATEGORIES:Club Tennis
ORGANIZER;CN="Simon Fellows":MAILTO:simonfellows1@outlook.com
END:VEVENT
BEGIN:VEVENT
DTSTART;TZID=UTC:20251111T100000
DTEND;TZID=UTC:20251111T120000
DTSTAMP:20260420T163642
CREATED:20251102T000247Z
LAST-MODIFIED:20251102T000247Z
UID:10753-1762855200-1762862400@tettenhalltennisclub.co.uk
SUMMARY:Mix In
DESCRIPTION:
URL:https://tettenhalltennisclub.co.uk/event/mix-in-154/
LOCATION:Tettenhall Tennis Club\, Danescourt Road\, Wolverhampton\, WV6 9BJ\, United Kingdom
CATEGORIES:Club Tennis
END:VEVENT
BEGIN:VEVENT
DTSTART;TZID=UTC:20251109T100000
DTEND;TZID=UTC:20251109T120000
DTSTAMP:20260420T163642
CREATED:20251102T000747Z
LAST-MODIFIED:20251102T000747Z
UID:10763-1762682400-1762689600@tettenhalltennisclub.co.uk
SUMMARY:Mix In
DESCRIPTION:
URL:https://tettenhalltennisclub.co.uk/event/mix-in-158/
LOCATION:Tettenhall Tennis Club\, Danescourt Road\, Wolverhampton\, WV6 9BJ\, United Kingdom
CATEGORIES:Club Tennis
END:VEVENT
BEGIN:VEVENT
DTSTART;TZID=UTC:20251104T100000
DTEND;TZID=UTC:20251104T120000
DTSTAMP:20260420T163642
CREATED:20251102T000225Z
LAST-MODIFIED:20251102T000225Z
UID:10751-1762250400-1762257600@tettenhalltennisclub.co.uk
SUMMARY:Mix In
DESCRIPTION:
URL:https://tettenhalltennisclub.co.uk/event/mix-in-153/
LOCATION:Tettenhall Tennis Club\, Danescourt Road\, Wolverhampton\, WV6 9BJ\, United Kingdom
CATEGORIES:Club Tennis
END:VEVENT
BEGIN:VEVENT
DTSTART;TZID=UTC:20251102T100000
DTEND;TZID=UTC:20251102T120000
DTSTAMP:20260420T163642
CREATED:20251102T000723Z
LAST-MODIFIED:20251102T000723Z
UID:10761-1762077600-1762084800@tettenhalltennisclub.co.uk
SUMMARY:Mix In
DESCRIPTION:
URL:https://tettenhalltennisclub.co.uk/event/mix-in-157/
LOCATION:Tettenhall Tennis Club\, Danescourt Road\, Wolverhampton\, WV6 9BJ\, United Kingdom
CATEGORIES:Club Tennis
END:VEVENT
BEGIN:VEVENT
DTSTART;TZID=UTC:20251029T183000
DTEND;TZID=UTC:20251029T200000
DTSTAMP:20260420T163642
CREATED:20250930T203036Z
LAST-MODIFIED:20250930T203036Z
UID:10680-1761762600-1761768000@tettenhalltennisclub.co.uk
SUMMARY:Team Practice
DESCRIPTION:
URL:https://tettenhalltennisclub.co.uk/event/team-practice-3/
LOCATION:Tettenhall Tennis Club\, Danescourt Road\, Wolverhampton\, WV6 9BJ\, United Kingdom
CATEGORIES:Club Tennis
ORGANIZER;CN="Simon Fellows":MAILTO:simonfellows1@outlook.com
END:VEVENT
BEGIN:VEVENT
DTSTART;TZID=UTC:20251028T100000
DTEND;TZID=UTC:20251028T120000
DTSTAMP:20260420T163642
CREATED:20250930T200725Z
LAST-MODIFIED:20250930T200725Z
UID:10660-1761645600-1761652800@tettenhalltennisclub.co.uk
SUMMARY:Mix In
DESCRIPTION:
URL:https://tettenhalltennisclub.co.uk/event/mix-in-152/
LOCATION:Tettenhall Tennis Club\, Danescourt Road\, Wolverhampton\, WV6 9BJ\, United Kingdom
CATEGORIES:Club Tennis
END:VEVENT
BEGIN:VEVENT
DTSTART;TZID=UTC:20251026T100000
DTEND;TZID=UTC:20251026T120000
DTSTAMP:20260420T163642
CREATED:20250930T200248Z
LAST-MODIFIED:20250930T200248Z
UID:10652-1761472800-1761480000@tettenhalltennisclub.co.uk
SUMMARY:Mix In
DESCRIPTION:
URL:https://tettenhalltennisclub.co.uk/event/mix-in-148/
LOCATION:Tettenhall Tennis Club\, Danescourt Road\, Wolverhampton\, WV6 9BJ\, United Kingdom
CATEGORIES:Club Tennis
END:VEVENT
BEGIN:VEVENT
DTSTART;TZID=UTC:20251022T183000
DTEND;TZID=UTC:20251022T200000
DTSTAMP:20260420T163642
CREATED:20250930T202957Z
LAST-MODIFIED:20250930T202957Z
UID:10678-1761157800-1761163200@tettenhalltennisclub.co.uk
SUMMARY:Team Practice
DESCRIPTION:
URL:https://tettenhalltennisclub.co.uk/event/team-practice-2/
LOCATION:Tettenhall Tennis Club\, Danescourt Road\, Wolverhampton\, WV6 9BJ\, United Kingdom
CATEGORIES:Club Tennis
ORGANIZER;CN="Simon Fellows":MAILTO:simonfellows1@outlook.com
END:VEVENT
BEGIN:VEVENT
DTSTART;TZID=UTC:20251021T100000
DTEND;TZID=UTC:20251021T120000
DTSTAMP:20260420T163642
CREATED:20250930T200645Z
LAST-MODIFIED:20250930T200645Z
UID:10658-1761040800-1761048000@tettenhalltennisclub.co.uk
SUMMARY:Mix In
DESCRIPTION:
URL:https://tettenhalltennisclub.co.uk/event/mix-in-151/
LOCATION:Tettenhall Tennis Club\, Danescourt Road\, Wolverhampton\, WV6 9BJ\, United Kingdom
CATEGORIES:Club Tennis
END:VEVENT
BEGIN:VEVENT
DTSTART;TZID=UTC:20251019T100000
DTEND;TZID=UTC:20251019T120000
DTSTAMP:20260420T163642
CREATED:20250930T200221Z
LAST-MODIFIED:20250930T200221Z
UID:10650-1760868000-1760875200@tettenhalltennisclub.co.uk
SUMMARY:Mix In
DESCRIPTION:
URL:https://tettenhalltennisclub.co.uk/event/mix-in-147/
LOCATION:Tettenhall Tennis Club\, Danescourt Road\, Wolverhampton\, WV6 9BJ\, United Kingdom
CATEGORIES:Club Tennis
END:VEVENT
BEGIN:VEVENT
DTSTART;TZID=UTC:20251018T133000
DTEND;TZID=UTC:20251018T153000
DTSTAMP:20260420T163642
CREATED:20250930T203359Z
LAST-MODIFIED:20251007T142005Z
UID:10682-1760794200-1760801400@tettenhalltennisclub.co.uk
SUMMARY:Club Afternoon - 3 COURTS NEEDED
DESCRIPTION:
URL:https://tettenhalltennisclub.co.uk/event/club-afternoon-3-courts-needed-11/
LOCATION:Tettenhall Tennis Club\, Danescourt Road\, Wolverhampton\, WV6 9BJ\, United Kingdom
CATEGORIES:Club Tennis
ORGANIZER;CN="Simon Fellows":MAILTO:simonfellows1@outlook.com
END:VEVENT
BEGIN:VEVENT
DTSTART;TZID=UTC:20251015T183000
DTEND;TZID=UTC:20251015T200000
DTSTAMP:20260420T163642
CREATED:20250930T202841Z
LAST-MODIFIED:20250930T202841Z
UID:10676-1760553000-1760558400@tettenhalltennisclub.co.uk
SUMMARY:Team Practice
DESCRIPTION:
URL:https://tettenhalltennisclub.co.uk/event/team-practice/
LOCATION:Tettenhall Tennis Club\, Danescourt Road\, Wolverhampton\, WV6 9BJ\, United Kingdom
CATEGORIES:Club Tennis
ORGANIZER;CN="Simon Fellows":MAILTO:simonfellows1@outlook.com
END:VEVENT
BEGIN:VEVENT
DTSTART;TZID=UTC:20251014T100000
DTEND;TZID=UTC:20251014T120000
DTSTAMP:20260420T163642
CREATED:20250930T200613Z
LAST-MODIFIED:20250930T200613Z
UID:10656-1760436000-1760443200@tettenhalltennisclub.co.uk
SUMMARY:Mix In
DESCRIPTION:
URL:https://tettenhalltennisclub.co.uk/event/mix-in-150/
LOCATION:Tettenhall Tennis Club\, Danescourt Road\, Wolverhampton\, WV6 9BJ\, United Kingdom
CATEGORIES:Club Tennis
END:VEVENT
BEGIN:VEVENT
DTSTART;TZID=UTC:20251012T100000
DTEND;TZID=UTC:20251012T120000
DTSTAMP:20260420T163642
CREATED:20250930T200133Z
LAST-MODIFIED:20250930T200133Z
UID:10648-1760263200-1760270400@tettenhalltennisclub.co.uk
SUMMARY:Mix In
DESCRIPTION:
URL:https://tettenhalltennisclub.co.uk/event/mix-in-146/
LOCATION:Tettenhall Tennis Club\, Danescourt Road\, Wolverhampton\, WV6 9BJ\, United Kingdom
CATEGORIES:Club Tennis
ORGANIZER;CN="Simon Fellows":MAILTO:simonfellows1@outlook.com
END:VEVENT
BEGIN:VEVENT
DTSTART;TZID=UTC:20251008T183000
DTEND;TZID=UTC:20251008T200000
DTSTAMP:20260420T163642
CREATED:20250930T202625Z
LAST-MODIFIED:20250930T202642Z
UID:10672-1759948200-1759953600@tettenhalltennisclub.co.uk
SUMMARY:Team Practice
DESCRIPTION:
URL:https://tettenhalltennisclub.co.uk/event/team-practise-2/
LOCATION:Tettenhall Tennis Club\, Danescourt Road\, Wolverhampton\, WV6 9BJ\, United Kingdom
CATEGORIES:Club Tennis
ORGANIZER;CN="Simon Fellows":MAILTO:simonfellows1@outlook.com
END:VEVENT
BEGIN:VEVENT
DTSTART;TZID=UTC:20251007T100000
DTEND;TZID=UTC:20251007T120000
DTSTAMP:20260420T163642
CREATED:20250930T200526Z
LAST-MODIFIED:20250930T200526Z
UID:10654-1759831200-1759838400@tettenhalltennisclub.co.uk
SUMMARY:Mix In
DESCRIPTION:
URL:https://tettenhalltennisclub.co.uk/event/mix-in-149/
LOCATION:Tettenhall Tennis Club\, Danescourt Road\, Wolverhampton\, WV6 9BJ\, United Kingdom
CATEGORIES:Club Tennis
END:VEVENT
BEGIN:VEVENT
DTSTART;TZID=UTC:20251005T100000
DTEND;TZID=UTC:20251005T120000
DTSTAMP:20260420T163642
CREATED:20250930T200047Z
LAST-MODIFIED:20250930T200047Z
UID:10646-1759658400-1759665600@tettenhalltennisclub.co.uk
SUMMARY:Mix In
DESCRIPTION:
URL:https://tettenhalltennisclub.co.uk/event/mix-in-145/
LOCATION:Tettenhall Tennis Club\, Danescourt Road\, Wolverhampton\, WV6 9BJ\, United Kingdom
CATEGORIES:Club Tennis
END:VEVENT
BEGIN:VEVENT
DTSTART;TZID=UTC:20251001T183000
DTEND;TZID=UTC:20251001T200000
DTSTAMP:20260420T163642
CREATED:20250930T202410Z
LAST-MODIFIED:20250930T202913Z
UID:10670-1759343400-1759348800@tettenhalltennisclub.co.uk
SUMMARY:Team Practice
DESCRIPTION:
URL:https://tettenhalltennisclub.co.uk/event/team-practise/
LOCATION:Tettenhall Tennis Club\, Danescourt Road\, Wolverhampton\, WV6 9BJ\, United Kingdom
CATEGORIES:Club Tennis
ORGANIZER;CN="Simon Fellows":MAILTO:simonfellows1@outlook.com
END:VEVENT
BEGIN:VEVENT
DTSTART;TZID=UTC:20250831T100000
DTEND;TZID=UTC:20250831T120000
DTSTAMP:20260420T163642
CREATED:20250623T130102Z
LAST-MODIFIED:20250623T130102Z
UID:10616-1756634400-1756641600@tettenhalltennisclub.co.uk
SUMMARY:Mix In
DESCRIPTION:
URL:https://tettenhalltennisclub.co.uk/event/mix-in-142/
LOCATION:Tettenhall Tennis Club\, Danescourt Road\, Wolverhampton\, WV6 9BJ\, United Kingdom
CATEGORIES:Club Tennis
END:VEVENT
BEGIN:VEVENT
DTSTART;TZID=UTC:20250828T183000
DTEND;TZID=UTC:20250828T200000
DTSTAMP:20260420T163642
CREATED:20250531T221441Z
LAST-MODIFIED:20250531T221441Z
UID:10552-1756405800-1756411200@tettenhalltennisclub.co.uk
SUMMARY:Advanced Mix In - 3 COURTS NEEDED
DESCRIPTION:
URL:https://tettenhalltennisclub.co.uk/event/advanced-mix-in-3-courts-needed-14/
LOCATION:Tettenhall Tennis Club\, Danescourt Road\, Wolverhampton\, WV6 9BJ\, United Kingdom
CATEGORIES:Club Tennis
END:VEVENT
BEGIN:VEVENT
DTSTART;TZID=UTC:20250826T100000
DTEND;TZID=UTC:20250826T120000
DTSTAMP:20260420T163642
CREATED:20250623T130210Z
LAST-MODIFIED:20250623T130210Z
UID:10620-1756202400-1756209600@tettenhalltennisclub.co.uk
SUMMARY:Mix In
DESCRIPTION:
URL:https://tettenhalltennisclub.co.uk/event/mix-in-144/
LOCATION:Tettenhall Tennis Club\, Danescourt Road\, Wolverhampton\, WV6 9BJ\, United Kingdom
CATEGORIES:Club Tennis
END:VEVENT
BEGIN:VEVENT
DTSTART;TZID=UTC:20250824T100000
DTEND;TZID=UTC:20250824T120000
DTSTAMP:20260420T163642
CREATED:20250623T130034Z
LAST-MODIFIED:20250623T130034Z
UID:10614-1756029600-1756036800@tettenhalltennisclub.co.uk
SUMMARY:Mix In
DESCRIPTION:
URL:https://tettenhalltennisclub.co.uk/event/mix-in-141/
LOCATION:Tettenhall Tennis Club\, Danescourt Road\, Wolverhampton\, WV6 9BJ\, United Kingdom
CATEGORIES:Club Tennis
END:VEVENT
BEGIN:VEVENT
DTSTART;TZID=UTC:20250821T183000
DTEND;TZID=UTC:20250821T200000
DTSTAMP:20260420T163642
CREATED:20250531T221416Z
LAST-MODIFIED:20250531T221416Z
UID:10550-1755801000-1755806400@tettenhalltennisclub.co.uk
SUMMARY:Advanced Mix In - 3 COURTS NEEDED
DESCRIPTION:
URL:https://tettenhalltennisclub.co.uk/event/advanced-mix-in-3-courts-needed-13/
LOCATION:Tettenhall Tennis Club\, Danescourt Road\, Wolverhampton\, WV6 9BJ\, United Kingdom
CATEGORIES:Club Tennis
END:VEVENT
BEGIN:VEVENT
DTSTART;TZID=UTC:20250819T100000
DTEND;TZID=UTC:20250819T120000
DTSTAMP:20260420T163642
CREATED:20250623T130145Z
LAST-MODIFIED:20250623T130145Z
UID:10618-1755597600-1755604800@tettenhalltennisclub.co.uk
SUMMARY:Mix In
DESCRIPTION:
URL:https://tettenhalltennisclub.co.uk/event/mix-in-143/
LOCATION:Tettenhall Tennis Club\, Danescourt Road\, Wolverhampton\, WV6 9BJ\, United Kingdom
CATEGORIES:Club Tennis
END:VEVENT
BEGIN:VEVENT
DTSTART;TZID=UTC:20250817T100000
DTEND;TZID=UTC:20250817T120000
DTSTAMP:20260420T163642
CREATED:20250623T125903Z
LAST-MODIFIED:20250623T125903Z
UID:10608-1755424800-1755432000@tettenhalltennisclub.co.uk
SUMMARY:Mix In
DESCRIPTION:
URL:https://tettenhalltennisclub.co.uk/event/mix-in-138/
LOCATION:Tettenhall Tennis Club\, Danescourt Road\, Wolverhampton\, WV6 9BJ\, United Kingdom
CATEGORIES:Club Tennis
END:VEVENT
END:VCALENDAR