BEGIN:VCALENDAR
VERSION:2.0
PRODID:-//Tettenhall Tennis Club - ECPv6.15.20//NONSGML v1.0//EN
CALSCALE:GREGORIAN
METHOD:PUBLISH
X-WR-CALNAME:Tettenhall Tennis Club
X-ORIGINAL-URL:https://tettenhalltennisclub.co.uk
X-WR-CALDESC:Events for Tettenhall Tennis Club
REFRESH-INTERVAL;VALUE=DURATION:PT1H
X-Robots-Tag:noindex
X-PUBLISHED-TTL:PT1H
BEGIN:VTIMEZONE
TZID:UTC
BEGIN:STANDARD
TZOFFSETFROM:+0000
TZOFFSETTO:+0000
TZNAME:UTC
DTSTART:20220101T000000
END:STANDARD
END:VTIMEZONE
BEGIN:VEVENT
DTSTART;TZID=UTC:20240306T173000
DTEND;TZID=UTC:20240306T183000
DTSTAMP:20260421T023003
CREATED:20240302T191350Z
LAST-MODIFIED:20240302T191350Z
UID:9482-1709746200-1709749800@tettenhalltennisclub.co.uk
SUMMARY:Free Junior Coaching – 3 COURTS NEEDED
DESCRIPTION:
URL:https://tettenhalltennisclub.co.uk/event/free-junior-coaching-3-courts-needed-20/
LOCATION:Tettenhall Tennis Club\, Danescourt Road\, Wolverhampton\, WV6 9BJ\, United Kingdom
CATEGORIES:Junior Coaching
ORGANIZER;CN="Simon Fellows":MAILTO:simonfellows1@outlook.com
END:VEVENT
BEGIN:VEVENT
DTSTART;TZID=UTC:20240228T173000
DTEND;TZID=UTC:20240228T183000
DTSTAMP:20260421T023003
CREATED:20240205T165301Z
LAST-MODIFIED:20240205T165301Z
UID:9415-1709141400-1709145000@tettenhalltennisclub.co.uk
SUMMARY:Free Junior Coaching - 3 COURTS NEEDED
DESCRIPTION:
URL:https://tettenhalltennisclub.co.uk/event/free-junior-coaching-3-courts-needed-19/
LOCATION:Tettenhall Tennis Club\, Danescourt Road\, Wolverhampton\, WV6 9BJ\, United Kingdom
CATEGORIES:Junior Coaching
ORGANIZER;CN="Simon Fellows":MAILTO:simonfellows1@outlook.com
END:VEVENT
BEGIN:VEVENT
DTSTART;TZID=UTC:20240221T173000
DTEND;TZID=UTC:20240221T183000
DTSTAMP:20260421T023003
CREATED:20240205T165235Z
LAST-MODIFIED:20240205T165235Z
UID:9413-1708536600-1708540200@tettenhalltennisclub.co.uk
SUMMARY:Free Junior Coaching - 3 COURTS NEEDED
DESCRIPTION:
URL:https://tettenhalltennisclub.co.uk/event/free-junior-coaching-3-courts-needed-18/
LOCATION:Tettenhall Tennis Club\, Danescourt Road\, Wolverhampton\, WV6 9BJ\, United Kingdom
CATEGORIES:Junior Coaching
ORGANIZER;CN="Simon Fellows":MAILTO:simonfellows1@outlook.com
END:VEVENT
BEGIN:VEVENT
DTSTART;TZID=UTC:20240214T173000
DTEND;TZID=UTC:20240214T183000
DTSTAMP:20260421T023003
CREATED:20240205T165210Z
LAST-MODIFIED:20240205T165210Z
UID:9411-1707931800-1707935400@tettenhalltennisclub.co.uk
SUMMARY:Free Junior Coaching - 3 COURTS NEEDED
DESCRIPTION:
URL:https://tettenhalltennisclub.co.uk/event/free-junior-coaching-3-courts-needed-17/
LOCATION:Tettenhall Tennis Club\, Danescourt Road\, Wolverhampton\, WV6 9BJ\, United Kingdom
CATEGORIES:Junior Coaching
ORGANIZER;CN="Simon Fellows":MAILTO:simonfellows1@outlook.com
END:VEVENT
BEGIN:VEVENT
DTSTART;TZID=UTC:20240207T173000
DTEND;TZID=UTC:20240207T183000
DTSTAMP:20260421T023003
CREATED:20240205T165139Z
LAST-MODIFIED:20240205T165139Z
UID:9409-1707327000-1707330600@tettenhalltennisclub.co.uk
SUMMARY:Free Junior Coaching - 3 COURTS NEEDED
DESCRIPTION:
URL:https://tettenhalltennisclub.co.uk/event/free-junior-coaching-3-courts-needed-16/
LOCATION:Tettenhall Tennis Club\, Danescourt Road\, Wolverhampton\, WV6 9BJ\, United Kingdom
CATEGORIES:Junior Coaching
ORGANIZER;CN="Simon Fellows":MAILTO:simonfellows1@outlook.com
END:VEVENT
BEGIN:VEVENT
DTSTART;TZID=UTC:20240131T173000
DTEND;TZID=UTC:20240131T183000
DTSTAMP:20260421T023004
CREATED:20240108T105434Z
LAST-MODIFIED:20240108T105434Z
UID:9372-1706722200-1706725800@tettenhalltennisclub.co.uk
SUMMARY:Free Junior Coaching – 3 COURTS NEEDED
DESCRIPTION:
URL:https://tettenhalltennisclub.co.uk/event/free-junior-coaching-3-courts-needed-15/
LOCATION:Tettenhall Tennis Club\, Danescourt Road\, Wolverhampton\, WV6 9BJ\, United Kingdom
CATEGORIES:Junior Coaching
ORGANIZER;CN="Simon Fellows":MAILTO:simonfellows1@outlook.com
END:VEVENT
BEGIN:VEVENT
DTSTART;TZID=UTC:20240128T170000
DTEND;TZID=UTC:20240128T180000
DTSTAMP:20260421T023004
CREATED:20240108T101950Z
LAST-MODIFIED:20240108T101950Z
UID:9340-1706461200-1706464800@tettenhalltennisclub.co.uk
SUMMARY:Mini Green - 1 COURT NEEDED
DESCRIPTION:
URL:https://tettenhalltennisclub.co.uk/event/mini-green-1-court-needed-4/
LOCATION:Tettenhall Tennis Club\, Danescourt Road\, Wolverhampton\, WV6 9BJ\, United Kingdom
CATEGORIES:Junior Coaching
ORGANIZER;CN="Simon Fellows":MAILTO:simonfellows1@outlook.com
END:VEVENT
BEGIN:VEVENT
DTSTART;TZID=UTC:20240124T173000
DTEND;TZID=UTC:20240124T183000
DTSTAMP:20260421T023004
CREATED:20240108T105408Z
LAST-MODIFIED:20240108T105408Z
UID:9370-1706117400-1706121000@tettenhalltennisclub.co.uk
SUMMARY:Free Junior Coaching – 3 COURTS NEEDED
DESCRIPTION:
URL:https://tettenhalltennisclub.co.uk/event/free-junior-coaching-3-courts-needed-14/
LOCATION:Tettenhall Tennis Club\, Danescourt Road\, Wolverhampton\, WV6 9BJ\, United Kingdom
CATEGORIES:Junior Coaching
ORGANIZER;CN="Simon Fellows":MAILTO:simonfellows1@outlook.com
END:VEVENT
BEGIN:VEVENT
DTSTART;TZID=UTC:20240121T170000
DTEND;TZID=UTC:20240121T180000
DTSTAMP:20260421T023004
CREATED:20240108T101924Z
LAST-MODIFIED:20240108T101924Z
UID:9338-1705856400-1705860000@tettenhalltennisclub.co.uk
SUMMARY:Mini Green - 1 COURT NEEDED
DESCRIPTION:
URL:https://tettenhalltennisclub.co.uk/event/mini-green-1-court-needed-3/
LOCATION:Tettenhall Tennis Club\, Danescourt Road\, Wolverhampton\, WV6 9BJ\, United Kingdom
CATEGORIES:Junior Coaching
ORGANIZER;CN="Simon Fellows":MAILTO:simonfellows1@outlook.com
END:VEVENT
BEGIN:VEVENT
DTSTART;TZID=UTC:20240117T173000
DTEND;TZID=UTC:20240117T183000
DTSTAMP:20260421T023004
CREATED:20240108T105327Z
LAST-MODIFIED:20240108T105327Z
UID:9368-1705512600-1705516200@tettenhalltennisclub.co.uk
SUMMARY:Free Junior Coaching – 3 COURTS NEEDED
DESCRIPTION:
URL:https://tettenhalltennisclub.co.uk/event/free-junior-coaching-3-courts-needed-13/
LOCATION:Tettenhall Tennis Club\, Danescourt Road\, Wolverhampton\, WV6 9BJ\, United Kingdom
CATEGORIES:Junior Coaching
ORGANIZER;CN="Simon Fellows":MAILTO:simonfellows1@outlook.com
END:VEVENT
BEGIN:VEVENT
DTSTART;TZID=UTC:20240114T170000
DTEND;TZID=UTC:20240114T180000
DTSTAMP:20260421T023004
CREATED:20240108T101846Z
LAST-MODIFIED:20240108T101846Z
UID:9336-1705251600-1705255200@tettenhalltennisclub.co.uk
SUMMARY:Mini Green - 1 COURT NEEDED
DESCRIPTION:
URL:https://tettenhalltennisclub.co.uk/event/mini-green-1-court-needed-2/
LOCATION:Tettenhall Tennis Club\, Danescourt Road\, Wolverhampton\, WV6 9BJ\, United Kingdom
CATEGORIES:Junior Coaching
ORGANIZER;CN="Simon Fellows":MAILTO:simonfellows1@outlook.com
END:VEVENT
BEGIN:VEVENT
DTSTART;TZID=UTC:20240110T173000
DTEND;TZID=UTC:20240110T183000
DTSTAMP:20260421T023004
CREATED:20240108T105155Z
LAST-MODIFIED:20240108T105155Z
UID:9366-1704907800-1704911400@tettenhalltennisclub.co.uk
SUMMARY:Free Junior Coaching – 3 COURTS NEEDED
DESCRIPTION:
URL:https://tettenhalltennisclub.co.uk/event/free-junior-coaching-3-courts-needed-12/
LOCATION:Tettenhall Tennis Club\, Danescourt Road\, Wolverhampton\, WV6 9BJ\, United Kingdom
CATEGORIES:Junior Coaching
ORGANIZER;CN="Simon Fellows":MAILTO:simonfellows1@outlook.com
END:VEVENT
BEGIN:VEVENT
DTSTART;TZID=UTC:20240107T170000
DTEND;TZID=UTC:20240107T180000
DTSTAMP:20260421T023004
CREATED:20240108T094714Z
LAST-MODIFIED:20240108T094714Z
UID:9333-1704646800-1704650400@tettenhalltennisclub.co.uk
SUMMARY:Mini Green - 1 COURT NEEDED
DESCRIPTION:
URL:https://tettenhalltennisclub.co.uk/event/mini-green-1-court-needed/
LOCATION:Tettenhall Tennis Club\, Danescourt Road\, Wolverhampton\, WV6 9BJ\, United Kingdom
CATEGORIES:Junior Coaching
ORGANIZER;CN="Simon Fellows":MAILTO:simonfellows1@outlook.com
END:VEVENT
BEGIN:VEVENT
DTSTART;TZID=UTC:20231220T173000
DTEND;TZID=UTC:20231220T183000
DTSTAMP:20260421T023004
CREATED:20231201T192100Z
LAST-MODIFIED:20231201T192100Z
UID:9261-1703093400-1703097000@tettenhalltennisclub.co.uk
SUMMARY:Free Junior Coaching - 3 COURTS NEEDED
DESCRIPTION:
URL:https://tettenhalltennisclub.co.uk/event/free-junior-coaching-3-courts-needed-11/
LOCATION:Tettenhall Tennis Club\, Danescourt Road\, Wolverhampton\, WV6 9BJ\, United Kingdom
CATEGORIES:Junior Coaching
ORGANIZER;CN="Simon Fellows":MAILTO:simonfellows1@outlook.com
END:VEVENT
BEGIN:VEVENT
DTSTART;TZID=UTC:20231213T173000
DTEND;TZID=UTC:20231213T183000
DTSTAMP:20260421T023004
CREATED:20231201T192031Z
LAST-MODIFIED:20231201T192031Z
UID:9259-1702488600-1702492200@tettenhalltennisclub.co.uk
SUMMARY:Free Junior Coaching - 3 COURTS NEEDED
DESCRIPTION:
URL:https://tettenhalltennisclub.co.uk/event/free-junior-coaching-3-courts-needed-10/
LOCATION:Tettenhall Tennis Club\, Danescourt Road\, Wolverhampton\, WV6 9BJ\, United Kingdom
CATEGORIES:Junior Coaching
ORGANIZER;CN="Simon Fellows":MAILTO:simonfellows1@outlook.com
END:VEVENT
BEGIN:VEVENT
DTSTART;TZID=UTC:20231206T173000
DTEND;TZID=UTC:20231206T183000
DTSTAMP:20260421T023004
CREATED:20231201T192004Z
LAST-MODIFIED:20231201T192004Z
UID:9257-1701883800-1701887400@tettenhalltennisclub.co.uk
SUMMARY:Free Junior Coaching - 3 COURTS NEEDED
DESCRIPTION:
URL:https://tettenhalltennisclub.co.uk/event/free-junior-coaching-3-courts-needed-9/
LOCATION:Tettenhall Tennis Club\, Danescourt Road\, Wolverhampton\, WV6 9BJ\, United Kingdom
CATEGORIES:Junior Coaching
ORGANIZER;CN="Simon Fellows":MAILTO:simonfellows1@outlook.com
END:VEVENT
BEGIN:VEVENT
DTSTART;TZID=UTC:20231129T173000
DTEND;TZID=UTC:20231129T183000
DTSTAMP:20260421T023004
CREATED:20231102T133301Z
LAST-MODIFIED:20231102T133301Z
UID:9177-1701279000-1701282600@tettenhalltennisclub.co.uk
SUMMARY:Free Junior Coaching – 3 COURTS NEEDED
DESCRIPTION:
URL:https://tettenhalltennisclub.co.uk/event/free-junior-coaching-3-courts-needed-8/
LOCATION:Tettenhall Tennis Club\, Danescourt Road\, Wolverhampton\, WV6 9BJ\, United Kingdom
CATEGORIES:Junior Coaching
ORGANIZER;CN="Simon Fellows":MAILTO:simonfellows1@outlook.com
END:VEVENT
BEGIN:VEVENT
DTSTART;TZID=UTC:20231122T173000
DTEND;TZID=UTC:20231122T183000
DTSTAMP:20260421T023004
CREATED:20231102T133229Z
LAST-MODIFIED:20231102T133229Z
UID:9175-1700674200-1700677800@tettenhalltennisclub.co.uk
SUMMARY:Free Junior Coaching – 3 COURTS NEEDED
DESCRIPTION:
URL:https://tettenhalltennisclub.co.uk/event/free-junior-coaching-3-courts-needed-7/
LOCATION:Tettenhall Tennis Club\, Danescourt Road\, Wolverhampton\, WV6 9BJ\, United Kingdom
CATEGORIES:Junior Coaching
ORGANIZER;CN="Simon Fellows":MAILTO:simonfellows1@outlook.com
END:VEVENT
BEGIN:VEVENT
DTSTART;TZID=UTC:20231115T173000
DTEND;TZID=UTC:20231115T183000
DTSTAMP:20260421T023004
CREATED:20231102T133157Z
LAST-MODIFIED:20231102T133157Z
UID:9173-1700069400-1700073000@tettenhalltennisclub.co.uk
SUMMARY:Free Junior Coaching – 3 COURTS NEEDED
DESCRIPTION:
URL:https://tettenhalltennisclub.co.uk/event/free-junior-coaching-3-courts-needed-6/
LOCATION:Tettenhall Tennis Club\, Danescourt Road\, Wolverhampton\, WV6 9BJ\, United Kingdom
CATEGORIES:Junior Coaching
ORGANIZER;CN="Simon Fellows":MAILTO:simonfellows1@outlook.com
END:VEVENT
BEGIN:VEVENT
DTSTART;TZID=UTC:20231108T173000
DTEND;TZID=UTC:20231108T183000
DTSTAMP:20260421T023004
CREATED:20231102T133104Z
LAST-MODIFIED:20231102T133104Z
UID:9171-1699464600-1699468200@tettenhalltennisclub.co.uk
SUMMARY:Free Junior Coaching – 3 COURTS NEEDED
DESCRIPTION:
URL:https://tettenhalltennisclub.co.uk/event/free-junior-coaching-3-courts-needed-5/
LOCATION:Tettenhall Tennis Club\, Danescourt Road\, Wolverhampton\, WV6 9BJ\, United Kingdom
CATEGORIES:Junior Coaching
ORGANIZER;CN="Simon Fellows":MAILTO:simonfellows1@outlook.com
END:VEVENT
BEGIN:VEVENT
DTSTART;TZID=UTC:20231101T173000
DTEND;TZID=UTC:20231101T183000
DTSTAMP:20260421T023004
CREATED:20231023T110633Z
LAST-MODIFIED:20231023T111452Z
UID:9135-1698859800-1698863400@tettenhalltennisclub.co.uk
SUMMARY:Free Junior Coaching - 3 COURTS NEEDED
DESCRIPTION:
URL:https://tettenhalltennisclub.co.uk/event/free-junior-coaching-3-courts-needed-4/
LOCATION:Tettenhall Tennis Club\, Danescourt Road\, Wolverhampton\, WV6 9BJ\, United Kingdom
CATEGORIES:Junior Coaching
ORGANIZER;CN="Simon Fellows":MAILTO:simonfellows1@outlook.com
END:VEVENT
BEGIN:VEVENT
DTSTART;TZID=UTC:20231025T173000
DTEND;TZID=UTC:20231025T183000
DTSTAMP:20260421T023004
CREATED:20230930T213502Z
LAST-MODIFIED:20230930T213502Z
UID:9096-1698255000-1698258600@tettenhalltennisclub.co.uk
SUMMARY:Free Junior Coaching - 3 COURTS NEEDED
DESCRIPTION:
URL:https://tettenhalltennisclub.co.uk/event/free-junior-coaching-3-courts-needed-3/
LOCATION:Tettenhall Tennis Club\, Danescourt Road\, Wolverhampton\, WV6 9BJ\, United Kingdom
CATEGORIES:Junior Coaching
ORGANIZER;CN="Simon Fellows":MAILTO:simonfellows1@outlook.com
END:VEVENT
BEGIN:VEVENT
DTSTART;TZID=UTC:20231018T173000
DTEND;TZID=UTC:20231018T183000
DTSTAMP:20260421T023004
CREATED:20230930T213432Z
LAST-MODIFIED:20230930T213432Z
UID:9094-1697650200-1697653800@tettenhalltennisclub.co.uk
SUMMARY:Free Junior Coaching - 3 COURTS NEEDED
DESCRIPTION:
URL:https://tettenhalltennisclub.co.uk/event/free-junior-coaching-3-courts-needed-2/
LOCATION:Tettenhall Tennis Club\, Danescourt Road\, Wolverhampton\, WV6 9BJ\, United Kingdom
CATEGORIES:Junior Coaching
ORGANIZER;CN="Simon Fellows":MAILTO:simonfellows1@outlook.com
END:VEVENT
BEGIN:VEVENT
DTSTART;TZID=UTC:20231011T173000
DTEND;TZID=UTC:20231011T183000
DTSTAMP:20260421T023004
CREATED:20230930T213359Z
LAST-MODIFIED:20230930T213359Z
UID:9092-1697045400-1697049000@tettenhalltennisclub.co.uk
SUMMARY:Free Junior Coaching - 3 COURTS NEEDED
DESCRIPTION:
URL:https://tettenhalltennisclub.co.uk/event/free-junior-coaching-3-courts-needed/
LOCATION:Tettenhall Tennis Club\, Danescourt Road\, Wolverhampton\, WV6 9BJ\, United Kingdom
CATEGORIES:Junior Coaching
ORGANIZER;CN="Simon Fellows":MAILTO:simonfellows1@outlook.com
END:VEVENT
BEGIN:VEVENT
DTSTART;TZID=UTC:20230831T140000
DTEND;TZID=UTC:20230831T160000
DTSTAMP:20260421T023004
CREATED:20230731T161232Z
LAST-MODIFIED:20230731T161232Z
UID:8927-1693490400-1693497600@tettenhalltennisclub.co.uk
SUMMARY:Holiday Course - 3 COURTS NEEDED
DESCRIPTION:
URL:https://tettenhalltennisclub.co.uk/event/holiday-course-3-courts-needed-16/
LOCATION:Tettenhall Tennis Club\, Danescourt Road\, Wolverhampton\, WV6 9BJ\, United Kingdom
CATEGORIES:Junior Coaching
ORGANIZER;CN="Simon Fellows":MAILTO:simonfellows1@outlook.com
END:VEVENT
BEGIN:VEVENT
DTSTART;TZID=UTC:20230830T140000
DTEND;TZID=UTC:20230830T160000
DTSTAMP:20260421T023004
CREATED:20230731T161206Z
LAST-MODIFIED:20230731T161206Z
UID:8925-1693404000-1693411200@tettenhalltennisclub.co.uk
SUMMARY:Holiday Course - 3 COURTS NEEDED
DESCRIPTION:
URL:https://tettenhalltennisclub.co.uk/event/holiday-course-3-courts-needed-15/
LOCATION:Tettenhall Tennis Club\, Danescourt Road\, Wolverhampton\, WV6 9BJ\, United Kingdom
CATEGORIES:Junior Coaching
ORGANIZER;CN="Simon Fellows":MAILTO:simonfellows1@outlook.com
END:VEVENT
BEGIN:VEVENT
DTSTART;TZID=UTC:20230829T140000
DTEND;TZID=UTC:20230829T160000
DTSTAMP:20260421T023004
CREATED:20230731T161143Z
LAST-MODIFIED:20230731T161143Z
UID:8923-1693317600-1693324800@tettenhalltennisclub.co.uk
SUMMARY:Holiday Course - 3 COURTS NEEDED
DESCRIPTION:
URL:https://tettenhalltennisclub.co.uk/event/holiday-course-3-courts-needed-14/
LOCATION:Tettenhall Tennis Club\, Danescourt Road\, Wolverhampton\, WV6 9BJ\, United Kingdom
CATEGORIES:Junior Coaching
ORGANIZER;CN="Simon Fellows":MAILTO:simonfellows1@outlook.com
END:VEVENT
BEGIN:VEVENT
DTSTART;TZID=UTC:20230828T140000
DTEND;TZID=UTC:20230828T160000
DTSTAMP:20260421T023004
CREATED:20230731T161044Z
LAST-MODIFIED:20230731T161044Z
UID:8921-1693231200-1693238400@tettenhalltennisclub.co.uk
SUMMARY:Holiday Course - 3 COURTS NEEDED
DESCRIPTION:
URL:https://tettenhalltennisclub.co.uk/event/holiday-course-3-courts-needed-13/
LOCATION:Tettenhall Tennis Club\, Danescourt Road\, Wolverhampton\, WV6 9BJ\, United Kingdom
CATEGORIES:Junior Coaching
ORGANIZER;CN="Simon Fellows":MAILTO:simonfellows1@outlook.com
END:VEVENT
BEGIN:VEVENT
DTSTART;TZID=UTC:20230825T140000
DTEND;TZID=UTC:20230825T160000
DTSTAMP:20260421T023004
CREATED:20230731T161009Z
LAST-MODIFIED:20230731T161009Z
UID:8919-1692972000-1692979200@tettenhalltennisclub.co.uk
SUMMARY:Holiday Course - 3 COURTS NEEDED
DESCRIPTION:
URL:https://tettenhalltennisclub.co.uk/event/holiday-course-3-courts-needed-12/
LOCATION:Tettenhall Tennis Club\, Danescourt Road\, Wolverhampton\, WV6 9BJ\, United Kingdom
CATEGORIES:Junior Coaching
ORGANIZER;CN="Simon Fellows":MAILTO:simonfellows1@outlook.com
END:VEVENT
BEGIN:VEVENT
DTSTART;TZID=UTC:20230824T140000
DTEND;TZID=UTC:20230824T160000
DTSTAMP:20260421T023004
CREATED:20230731T160948Z
LAST-MODIFIED:20230731T160948Z
UID:8917-1692885600-1692892800@tettenhalltennisclub.co.uk
SUMMARY:Holiday Course - 3 COURTS NEEDED
DESCRIPTION:
URL:https://tettenhalltennisclub.co.uk/event/holiday-course-3-courts-needed-11/
LOCATION:Tettenhall Tennis Club\, Danescourt Road\, Wolverhampton\, WV6 9BJ\, United Kingdom
CATEGORIES:Junior Coaching
ORGANIZER;CN="Simon Fellows":MAILTO:simonfellows1@outlook.com
END:VEVENT
END:VCALENDAR