BEGIN:VCALENDAR
VERSION:2.0
PRODID:-//Tettenhall Tennis Club - ECPv6.15.20//NONSGML v1.0//EN
CALSCALE:GREGORIAN
METHOD:PUBLISH
X-WR-CALNAME:Tettenhall Tennis Club
X-ORIGINAL-URL:https://tettenhalltennisclub.co.uk
X-WR-CALDESC:Events for Tettenhall Tennis Club
REFRESH-INTERVAL;VALUE=DURATION:PT1H
X-Robots-Tag:noindex
X-PUBLISHED-TTL:PT1H
BEGIN:VTIMEZONE
TZID:UTC
BEGIN:STANDARD
TZOFFSETFROM:+0000
TZOFFSETTO:+0000
TZNAME:UTC
DTSTART:20230101T000000
END:STANDARD
END:VTIMEZONE
BEGIN:VEVENT
DTSTART;TZID=UTC:20250709T173000
DTEND;TZID=UTC:20250709T183000
DTSTAMP:20260420T163848
CREATED:20250531T220244Z
LAST-MODIFIED:20250531T220244Z
UID:10512-1752082200-1752085800@tettenhalltennisclub.co.uk
SUMMARY:Free Junior Coaching - 3 COURTS NEEDED
DESCRIPTION:
URL:https://tettenhalltennisclub.co.uk/event/free-junior-coaching-3-courts-needed-54/
LOCATION:Tettenhall Tennis Club\, Danescourt Road\, Wolverhampton\, WV6 9BJ\, United Kingdom
CATEGORIES:Junior Coaching
ORGANIZER;CN="Simon Fellows":MAILTO:simonfellows1@outlook.com
END:VEVENT
BEGIN:VEVENT
DTSTART;TZID=UTC:20250702T173000
DTEND;TZID=UTC:20250702T183000
DTSTAMP:20260420T163848
CREATED:20250623T124418Z
LAST-MODIFIED:20250623T124418Z
UID:10578-1751477400-1751481000@tettenhalltennisclub.co.uk
SUMMARY:Free Junior Coaching - 3 COURTS NEEDED
DESCRIPTION:
URL:https://tettenhalltennisclub.co.uk/event/free-junior-coaching-3-courts-needed-53/
LOCATION:Tettenhall Tennis Club\, Danescourt Road\, Wolverhampton\, WV6 9BJ\, United Kingdom
CATEGORIES:Junior Coaching
ORGANIZER;CN="Simon Fellows":MAILTO:simonfellows1@outlook.com
END:VEVENT
BEGIN:VEVENT
DTSTART;TZID=UTC:20250625T173000
DTEND;TZID=UTC:20250625T183000
DTSTAMP:20260420T163848
CREATED:20250531T220127Z
LAST-MODIFIED:20250531T220127Z
UID:10508-1750872600-1750876200@tettenhalltennisclub.co.uk
SUMMARY:Free Junior Coaching - 3 COURTS NEEDED
DESCRIPTION:
URL:https://tettenhalltennisclub.co.uk/event/free-junior-coaching-3-courts-needed-52/
LOCATION:Tettenhall Tennis Club\, Danescourt Road\, Wolverhampton\, WV6 9BJ\, United Kingdom
CATEGORIES:Junior Coaching
ORGANIZER;CN="Simon Fellows":MAILTO:simonfellows1@outlook.com
END:VEVENT
BEGIN:VEVENT
DTSTART;TZID=UTC:20250618T173000
DTEND;TZID=UTC:20250618T183000
DTSTAMP:20260420T163848
CREATED:20250531T220101Z
LAST-MODIFIED:20250531T220101Z
UID:10506-1750267800-1750271400@tettenhalltennisclub.co.uk
SUMMARY:Free Junior Coaching - 3 COURTS NEEDED
DESCRIPTION:
URL:https://tettenhalltennisclub.co.uk/event/free-junior-coaching-3-courts-needed-51/
LOCATION:Tettenhall Tennis Club\, Danescourt Road\, Wolverhampton\, WV6 9BJ\, United Kingdom
CATEGORIES:Junior Coaching
ORGANIZER;CN="Simon Fellows":MAILTO:simonfellows1@outlook.com
END:VEVENT
BEGIN:VEVENT
DTSTART;TZID=UTC:20250611T173000
DTEND;TZID=UTC:20250611T183000
DTSTAMP:20260420T163848
CREATED:20250531T220036Z
LAST-MODIFIED:20250531T220036Z
UID:10504-1749663000-1749666600@tettenhalltennisclub.co.uk
SUMMARY:Free Junior Coaching - 3 COURTS NEEDED
DESCRIPTION:
URL:https://tettenhalltennisclub.co.uk/event/free-junior-coaching-3-courts-needed-50/
LOCATION:Tettenhall Tennis Club\, Danescourt Road\, Wolverhampton\, WV6 9BJ\, United Kingdom
CATEGORIES:Junior Coaching
ORGANIZER;CN="Simon Fellows":MAILTO:simonfellows1@outlook.com
END:VEVENT
BEGIN:VEVENT
DTSTART;TZID=UTC:20250604T173000
DTEND;TZID=UTC:20250604T183000
DTSTAMP:20260420T163848
CREATED:20250531T220004Z
LAST-MODIFIED:20250531T220004Z
UID:10502-1749058200-1749061800@tettenhalltennisclub.co.uk
SUMMARY:Free Junior Coaching - 3 COURTS NEEDED
DESCRIPTION:
URL:https://tettenhalltennisclub.co.uk/event/free-junior-coaching-3-courts-needed-49/
LOCATION:Tettenhall Tennis Club\, Danescourt Road\, Wolverhampton\, WV6 9BJ\, United Kingdom
CATEGORIES:Junior Coaching
ORGANIZER;CN="Simon Fellows":MAILTO:simonfellows1@outlook.com
END:VEVENT
BEGIN:VEVENT
DTSTART;TZID=UTC:20250326T173000
DTEND;TZID=UTC:20250326T183000
DTSTAMP:20260420T163848
CREATED:20250210T142110Z
LAST-MODIFIED:20250210T142110Z
UID:10274-1743010200-1743013800@tettenhalltennisclub.co.uk
SUMMARY:Free Junior Coaching - 3 COURTS NEEDED
DESCRIPTION:
URL:https://tettenhalltennisclub.co.uk/event/free-junior-coaching-3-courts-needed-48/
LOCATION:Tettenhall Tennis Club\, Danescourt Road\, Wolverhampton\, WV6 9BJ\, United Kingdom
CATEGORIES:Junior Coaching
ORGANIZER;CN="Simon Fellows":MAILTO:simonfellows1@outlook.com
END:VEVENT
BEGIN:VEVENT
DTSTART;TZID=UTC:20250319T173000
DTEND;TZID=UTC:20250319T183000
DTSTAMP:20260420T163848
CREATED:20250210T142027Z
LAST-MODIFIED:20250210T142027Z
UID:10272-1742405400-1742409000@tettenhalltennisclub.co.uk
SUMMARY:Free Junior Coaching - 3 COURTS NEEDED
DESCRIPTION:
URL:https://tettenhalltennisclub.co.uk/event/free-junior-coaching-3-courts-needed-47/
LOCATION:Tettenhall Tennis Club\, Danescourt Road\, Wolverhampton\, WV6 9BJ\, United Kingdom
CATEGORIES:Junior Coaching
ORGANIZER;CN="Simon Fellows":MAILTO:simonfellows1@outlook.com
END:VEVENT
BEGIN:VEVENT
DTSTART;TZID=UTC:20250312T173000
DTEND;TZID=UTC:20250312T183000
DTSTAMP:20260420T163848
CREATED:20250210T141953Z
LAST-MODIFIED:20250210T141953Z
UID:10270-1741800600-1741804200@tettenhalltennisclub.co.uk
SUMMARY:Free Junior Coaching - 3 COURTS NEEDED
DESCRIPTION:
URL:https://tettenhalltennisclub.co.uk/event/free-junior-coaching-3-courts-needed-46/
LOCATION:Tettenhall Tennis Club\, Danescourt Road\, Wolverhampton\, WV6 9BJ\, United Kingdom
CATEGORIES:Junior Coaching
ORGANIZER;CN="Simon Fellows":MAILTO:simonfellows1@outlook.com
END:VEVENT
BEGIN:VEVENT
DTSTART;TZID=UTC:20250305T173000
DTEND;TZID=UTC:20250305T183000
DTSTAMP:20260420T163848
CREATED:20250210T141925Z
LAST-MODIFIED:20250210T141925Z
UID:10268-1741195800-1741199400@tettenhalltennisclub.co.uk
SUMMARY:Free Junior Coaching - 3 COURTS NEEDED
DESCRIPTION:
URL:https://tettenhalltennisclub.co.uk/event/free-junior-coaching-3-courts-needed-45/
LOCATION:Tettenhall Tennis Club\, Danescourt Road\, Wolverhampton\, WV6 9BJ\, United Kingdom
CATEGORIES:Junior Coaching
ORGANIZER;CN="Simon Fellows":MAILTO:simonfellows1@outlook.com
END:VEVENT
BEGIN:VEVENT
DTSTART;TZID=UTC:20250226T173000
DTEND;TZID=UTC:20250226T183000
DTSTAMP:20260420T163848
CREATED:20250210T141850Z
LAST-MODIFIED:20250210T141850Z
UID:10266-1740591000-1740594600@tettenhalltennisclub.co.uk
SUMMARY:Free Junior Coaching - 3 COURTS NEEDED
DESCRIPTION:
URL:https://tettenhalltennisclub.co.uk/event/free-junior-coaching-3-courts-needed-44/
LOCATION:Tettenhall Tennis Club\, Danescourt Road\, Wolverhampton\, WV6 9BJ\, United Kingdom
CATEGORIES:Junior Coaching
ORGANIZER;CN="Simon Fellows":MAILTO:simonfellows1@outlook.com
END:VEVENT
BEGIN:VEVENT
DTSTART;TZID=UTC:20250219T173000
DTEND;TZID=UTC:20250219T183000
DTSTAMP:20260420T163848
CREATED:20250210T141806Z
LAST-MODIFIED:20250210T141806Z
UID:10264-1739986200-1739989800@tettenhalltennisclub.co.uk
SUMMARY:Free Junior Coaching - 3 COURTS NEEDED
DESCRIPTION:
URL:https://tettenhalltennisclub.co.uk/event/free-junior-coaching-3-courts-needed-43/
LOCATION:Tettenhall Tennis Club\, Danescourt Road\, Wolverhampton\, WV6 9BJ\, United Kingdom
CATEGORIES:Junior Coaching
ORGANIZER;CN="Simon Fellows":MAILTO:simonfellows1@outlook.com
END:VEVENT
BEGIN:VEVENT
DTSTART;TZID=UTC:20250212T173000
DTEND;TZID=UTC:20250212T183000
DTSTAMP:20260420T163848
CREATED:20250210T141736Z
LAST-MODIFIED:20250210T141736Z
UID:10262-1739381400-1739385000@tettenhalltennisclub.co.uk
SUMMARY:Free Junior Coaching - 3 COURTS NEEDED
DESCRIPTION:
URL:https://tettenhalltennisclub.co.uk/event/free-junior-coaching-3-courts-needed-42/
LOCATION:Tettenhall Tennis Club\, Danescourt Road\, Wolverhampton\, WV6 9BJ\, United Kingdom
CATEGORIES:Junior Coaching
END:VEVENT
BEGIN:VEVENT
DTSTART;TZID=UTC:20250205T173000
DTEND;TZID=UTC:20250205T183000
DTSTAMP:20260420T163848
CREATED:20250210T141707Z
LAST-MODIFIED:20250210T141707Z
UID:10260-1738776600-1738780200@tettenhalltennisclub.co.uk
SUMMARY:Free Junior Coaching - 3 COURTS NEEDED
DESCRIPTION:
URL:https://tettenhalltennisclub.co.uk/event/free-junior-coaching-3-courts-needed-41/
LOCATION:Tettenhall Tennis Club\, Danescourt Road\, Wolverhampton\, WV6 9BJ\, United Kingdom
CATEGORIES:Junior Coaching
END:VEVENT
BEGIN:VEVENT
DTSTART;TZID=UTC:20241030T173000
DTEND;TZID=UTC:20241030T183000
DTSTAMP:20260420T163848
CREATED:20241001T172831Z
LAST-MODIFIED:20241001T172831Z
UID:10076-1730309400-1730313000@tettenhalltennisclub.co.uk
SUMMARY:Free Junior Coaching - 3 COURTS NEEDED
DESCRIPTION:
URL:https://tettenhalltennisclub.co.uk/event/free-junior-coaching-3-courts-needed-40/
LOCATION:Tettenhall Tennis Club\, Danescourt Road\, Wolverhampton\, WV6 9BJ\, United Kingdom
CATEGORIES:Junior Coaching
ORGANIZER;CN="Simon Fellows":MAILTO:simonfellows1@outlook.com
END:VEVENT
BEGIN:VEVENT
DTSTART;TZID=UTC:20241023T173000
DTEND;TZID=UTC:20241023T183000
DTSTAMP:20260420T163848
CREATED:20241001T172754Z
LAST-MODIFIED:20241001T172754Z
UID:10074-1729704600-1729708200@tettenhalltennisclub.co.uk
SUMMARY:Free Junior Coaching - 3 COURTS NEEDED
DESCRIPTION:
URL:https://tettenhalltennisclub.co.uk/event/free-junior-coaching-3-courts-needed-39/
LOCATION:Tettenhall Tennis Club\, Danescourt Road\, Wolverhampton\, WV6 9BJ\, United Kingdom
CATEGORIES:Junior Coaching
ORGANIZER;CN="Simon Fellows":MAILTO:simonfellows1@outlook.com
END:VEVENT
BEGIN:VEVENT
DTSTART;TZID=UTC:20241016T173000
DTEND;TZID=UTC:20241016T183000
DTSTAMP:20260420T163848
CREATED:20241001T172715Z
LAST-MODIFIED:20241001T172715Z
UID:10071-1729099800-1729103400@tettenhalltennisclub.co.uk
SUMMARY:Free Junior Coaching - 3 COURTS NEEDED
DESCRIPTION:
URL:https://tettenhalltennisclub.co.uk/event/free-junior-coaching-3-courts-needed-38/
LOCATION:Tettenhall Tennis Club\, Danescourt Road\, Wolverhampton\, WV6 9BJ\, United Kingdom
CATEGORIES:Junior Coaching
ORGANIZER;CN="Simon Fellows":MAILTO:simonfellows1@outlook.com
END:VEVENT
BEGIN:VEVENT
DTSTART;TZID=UTC:20241009T173000
DTEND;TZID=UTC:20241009T183000
DTSTAMP:20260420T163848
CREATED:20241001T172639Z
LAST-MODIFIED:20241001T172639Z
UID:10069-1728495000-1728498600@tettenhalltennisclub.co.uk
SUMMARY:Free Junior Coaching - 3 COURTS NEEDED
DESCRIPTION:
URL:https://tettenhalltennisclub.co.uk/event/free-junior-coaching-3-courts-needed-37/
LOCATION:Tettenhall Tennis Club\, Danescourt Road\, Wolverhampton\, WV6 9BJ\, United Kingdom
CATEGORIES:Junior Coaching
ORGANIZER;CN="Simon Fellows":MAILTO:simonfellows1@outlook.com
END:VEVENT
BEGIN:VEVENT
DTSTART;TZID=UTC:20241002T173000
DTEND;TZID=UTC:20241002T183000
DTSTAMP:20260420T163848
CREATED:20241001T172556Z
LAST-MODIFIED:20241001T172556Z
UID:10067-1727890200-1727893800@tettenhalltennisclub.co.uk
SUMMARY:Free Junior Coaching - 3 COURTS NEEDED
DESCRIPTION:
URL:https://tettenhalltennisclub.co.uk/event/free-junior-coaching-3-courts-needed-36/
LOCATION:Tettenhall Tennis Club\, Danescourt Road\, Wolverhampton\, WV6 9BJ\, United Kingdom
CATEGORIES:Junior Coaching
ORGANIZER;CN="Simon Fellows":MAILTO:simonfellows1@outlook.com
END:VEVENT
BEGIN:VEVENT
DTSTART;TZID=UTC:20240925T173000
DTEND;TZID=UTC:20240925T183000
DTSTAMP:20260420T163848
CREATED:20240916T170908Z
LAST-MODIFIED:20240916T170908Z
UID:9998-1727285400-1727289000@tettenhalltennisclub.co.uk
SUMMARY:Free Junior Members Coaching - 3 COURTS NEEDED
DESCRIPTION:
URL:https://tettenhalltennisclub.co.uk/event/free-junior-members-coaching-3-courts-needed-4/
LOCATION:Tettenhall Tennis Club\, Danescourt Road\, Wolverhampton\, WV6 9BJ\, United Kingdom
CATEGORIES:Junior Coaching
ORGANIZER;CN="Simon Fellows":MAILTO:simonfellows1@outlook.com
END:VEVENT
BEGIN:VEVENT
DTSTART;TZID=UTC:20240918T173000
DTEND;TZID=UTC:20240918T183000
DTSTAMP:20260420T163848
CREATED:20240916T170844Z
LAST-MODIFIED:20240916T170844Z
UID:9996-1726680600-1726684200@tettenhalltennisclub.co.uk
SUMMARY:Free Junior Members Coaching - 3 COURTS NEEDED
DESCRIPTION:
URL:https://tettenhalltennisclub.co.uk/event/free-junior-members-coaching-3-courts-needed-3/
LOCATION:Tettenhall Tennis Club\, Danescourt Road\, Wolverhampton\, WV6 9BJ\, United Kingdom
CATEGORIES:Junior Coaching
ORGANIZER;CN="Simon Fellows":MAILTO:simonfellows1@outlook.com
END:VEVENT
BEGIN:VEVENT
DTSTART;TZID=UTC:20240911T173000
DTEND;TZID=UTC:20240911T183000
DTSTAMP:20260420T163848
CREATED:20240916T170822Z
LAST-MODIFIED:20240916T170822Z
UID:9994-1726075800-1726079400@tettenhalltennisclub.co.uk
SUMMARY:Free Junior Members Coaching - 3 COURTS NEEDED
DESCRIPTION:
URL:https://tettenhalltennisclub.co.uk/event/free-junior-members-coaching-3-courts-needed-2/
LOCATION:Tettenhall Tennis Club\, Danescourt Road\, Wolverhampton\, WV6 9BJ\, United Kingdom
CATEGORIES:Junior Coaching
ORGANIZER;CN="Simon Fellows":MAILTO:simonfellows1@outlook.com
END:VEVENT
BEGIN:VEVENT
DTSTART;TZID=UTC:20240904T053000
DTEND;TZID=UTC:20240904T183000
DTSTAMP:20260420T163848
CREATED:20240916T170802Z
LAST-MODIFIED:20240916T170802Z
UID:9992-1725427800-1725474600@tettenhalltennisclub.co.uk
SUMMARY:Free Junior Members Coaching - 3 COURTS NEEDED
DESCRIPTION:
URL:https://tettenhalltennisclub.co.uk/event/free-junior-members-coaching-3-courts-needed/
LOCATION:Tettenhall Tennis Club\, Danescourt Road\, Wolverhampton\, WV6 9BJ\, United Kingdom
CATEGORIES:Junior Coaching
ORGANIZER;CN="Simon Fellows":MAILTO:simonfellows1@outlook.com
END:VEVENT
BEGIN:VEVENT
DTSTART;TZID=UTC:20240830T140000
DTEND;TZID=UTC:20240830T160000
DTSTAMP:20260420T163848
CREATED:20240801T211910Z
LAST-MODIFIED:20240801T211910Z
UID:9904-1725026400-1725033600@tettenhalltennisclub.co.uk
SUMMARY:Summer Holiday Course
DESCRIPTION:
URL:https://tettenhalltennisclub.co.uk/event/summer-holiday-course-23/
LOCATION:Tettenhall Tennis Club\, Danescourt Road\, Wolverhampton\, WV6 9BJ\, United Kingdom
CATEGORIES:Junior Coaching
ORGANIZER;CN="Simon Fellows":MAILTO:simonfellows1@outlook.com
END:VEVENT
BEGIN:VEVENT
DTSTART;TZID=UTC:20240829T140000
DTEND;TZID=UTC:20240829T160000
DTSTAMP:20260420T163848
CREATED:20240801T211830Z
LAST-MODIFIED:20240801T211830Z
UID:9902-1724940000-1724947200@tettenhalltennisclub.co.uk
SUMMARY:Summer Holiday Course
DESCRIPTION:
URL:https://tettenhalltennisclub.co.uk/event/summer-holiday-course-22/
LOCATION:Tettenhall Tennis Club\, Danescourt Road\, Wolverhampton\, WV6 9BJ\, United Kingdom
CATEGORIES:Junior Coaching
ORGANIZER;CN="Simon Fellows":MAILTO:simonfellows1@outlook.com
END:VEVENT
BEGIN:VEVENT
DTSTART;TZID=UTC:20240828T140000
DTEND;TZID=UTC:20240828T160000
DTSTAMP:20260420T163848
CREATED:20240801T211757Z
LAST-MODIFIED:20240801T211757Z
UID:9900-1724853600-1724860800@tettenhalltennisclub.co.uk
SUMMARY:Summer Holiday Course
DESCRIPTION:
URL:https://tettenhalltennisclub.co.uk/event/summer-holiday-course-21/
LOCATION:Tettenhall Tennis Club\, Danescourt Road\, Wolverhampton\, WV6 9BJ\, United Kingdom
CATEGORIES:Junior Coaching
ORGANIZER;CN="Simon Fellows":MAILTO:simonfellows1@outlook.com
END:VEVENT
BEGIN:VEVENT
DTSTART;TZID=UTC:20240827T140000
DTEND;TZID=UTC:20240827T160000
DTSTAMP:20260420T163848
CREATED:20240801T211727Z
LAST-MODIFIED:20240801T211727Z
UID:9898-1724767200-1724774400@tettenhalltennisclub.co.uk
SUMMARY:Summer Holiday Course
DESCRIPTION:
URL:https://tettenhalltennisclub.co.uk/event/summer-holiday-course-17/
LOCATION:Tettenhall Tennis Club\, Danescourt Road\, Wolverhampton\, WV6 9BJ\, United Kingdom
CATEGORIES:Junior Coaching
ORGANIZER;CN="Simon Fellows":MAILTO:simonfellows1@outlook.com
END:VEVENT
BEGIN:VEVENT
DTSTART;TZID=UTC:20240823T140000
DTEND;TZID=UTC:20240823T160000
DTSTAMP:20260420T163848
CREATED:20240801T210508Z
LAST-MODIFIED:20240801T210508Z
UID:9896-1724421600-1724428800@tettenhalltennisclub.co.uk
SUMMARY:Summer Holiday Course
DESCRIPTION:
URL:https://tettenhalltennisclub.co.uk/event/summer-holiday-course-20/
LOCATION:Tettenhall Tennis Club\, Danescourt Road\, Wolverhampton\, WV6 9BJ\, United Kingdom
CATEGORIES:Junior Coaching
ORGANIZER;CN="Simon Fellows":MAILTO:simonfellows1@outlook.com
END:VEVENT
BEGIN:VEVENT
DTSTART;TZID=UTC:20240822T140000
DTEND;TZID=UTC:20240822T160000
DTSTAMP:20260420T163848
CREATED:20240801T210441Z
LAST-MODIFIED:20240801T210441Z
UID:9894-1724335200-1724342400@tettenhalltennisclub.co.uk
SUMMARY:Summer Holiday Course
DESCRIPTION:
URL:https://tettenhalltennisclub.co.uk/event/summer-holiday-course-19/
LOCATION:Tettenhall Tennis Club\, Danescourt Road\, Wolverhampton\, WV6 9BJ\, United Kingdom
CATEGORIES:Junior Coaching
ORGANIZER;CN="Simon Fellows":MAILTO:simonfellows1@outlook.com
END:VEVENT
BEGIN:VEVENT
DTSTART;TZID=UTC:20240821T140000
DTEND;TZID=UTC:20240821T160000
DTSTAMP:20260420T163848
CREATED:20240801T210401Z
LAST-MODIFIED:20240801T210401Z
UID:9892-1724248800-1724256000@tettenhalltennisclub.co.uk
SUMMARY:Summer Holiday Course
DESCRIPTION:
URL:https://tettenhalltennisclub.co.uk/event/summer-holiday-course-18/
LOCATION:Tettenhall Tennis Club\, Danescourt Road\, Wolverhampton\, WV6 9BJ\, United Kingdom
CATEGORIES:Junior Coaching
ORGANIZER;CN="Simon Fellows":MAILTO:simonfellows1@outlook.com
END:VEVENT
END:VCALENDAR