BEGIN:VCALENDAR
VERSION:2.0
PRODID:-//Tettenhall Tennis Club - ECPv6.15.20//NONSGML v1.0//EN
CALSCALE:GREGORIAN
METHOD:PUBLISH
X-WR-CALNAME:Tettenhall Tennis Club
X-ORIGINAL-URL:https://tettenhalltennisclub.co.uk
X-WR-CALDESC:Events for Tettenhall Tennis Club
REFRESH-INTERVAL;VALUE=DURATION:PT1H
X-Robots-Tag:noindex
X-PUBLISHED-TTL:PT1H
BEGIN:VTIMEZONE
TZID:UTC
BEGIN:STANDARD
TZOFFSETFROM:+0000
TZOFFSETTO:+0000
TZNAME:UTC
DTSTART:20230101T000000
END:STANDARD
END:VTIMEZONE
BEGIN:VEVENT
DTSTART;TZID=UTC:20240730T140000
DTEND;TZID=UTC:20240730T160000
DTSTAMP:20260420T231525
CREATED:20240630T180812Z
LAST-MODIFIED:20240630T180812Z
UID:9866-1722348000-1722355200@tettenhalltennisclub.co.uk
SUMMARY:Summer Holiday Course
DESCRIPTION:
URL:https://tettenhalltennisclub.co.uk/event/summer-holiday-course-6/
LOCATION:Tettenhall Tennis Club\, Danescourt Road\, Wolverhampton\, WV6 9BJ\, United Kingdom
CATEGORIES:Junior Coaching
ORGANIZER;CN="Simon Fellows":MAILTO:simonfellows1@outlook.com
END:VEVENT
BEGIN:VEVENT
DTSTART;TZID=UTC:20240729T140000
DTEND;TZID=UTC:20240729T160000
DTSTAMP:20260420T231525
CREATED:20240630T180730Z
LAST-MODIFIED:20240630T180730Z
UID:9864-1722261600-1722268800@tettenhalltennisclub.co.uk
SUMMARY:Summer Holiday Course
DESCRIPTION:
URL:https://tettenhalltennisclub.co.uk/event/summer-holiday-course-5/
LOCATION:Tettenhall Tennis Club\, Danescourt Road\, Wolverhampton\, WV6 9BJ\, United Kingdom
CATEGORIES:Junior Coaching
ORGANIZER;CN="Simon Fellows":MAILTO:simonfellows1@outlook.com
END:VEVENT
BEGIN:VEVENT
DTSTART;TZID=UTC:20240726T140000
DTEND;TZID=UTC:20240726T160000
DTSTAMP:20260420T231525
CREATED:20240630T180652Z
LAST-MODIFIED:20240630T180652Z
UID:9862-1722002400-1722009600@tettenhalltennisclub.co.uk
SUMMARY:Summer Holiday Course
DESCRIPTION:
URL:https://tettenhalltennisclub.co.uk/event/summer-holiday-course-4/
LOCATION:Tettenhall Tennis Club\, Danescourt Road\, Wolverhampton\, WV6 9BJ\, United Kingdom
CATEGORIES:Junior Coaching
ORGANIZER;CN="Simon Fellows":MAILTO:simonfellows1@outlook.com
END:VEVENT
BEGIN:VEVENT
DTSTART;TZID=UTC:20240725T140000
DTEND;TZID=UTC:20240725T160000
DTSTAMP:20260420T231525
CREATED:20240630T180551Z
LAST-MODIFIED:20240630T180551Z
UID:9860-1721916000-1721923200@tettenhalltennisclub.co.uk
SUMMARY:Summer Holiday Course
DESCRIPTION:
URL:https://tettenhalltennisclub.co.uk/event/summer-holiday-course-3/
LOCATION:Tettenhall Tennis Club\, Danescourt Road\, Wolverhampton\, WV6 9BJ\, United Kingdom
CATEGORIES:Junior Coaching
ORGANIZER;CN="Simon Fellows":MAILTO:simonfellows1@outlook.com
END:VEVENT
BEGIN:VEVENT
DTSTART;TZID=UTC:20240724T173000
DTEND;TZID=UTC:20240724T183000
DTSTAMP:20260420T231525
CREATED:20240520T143217Z
LAST-MODIFIED:20240520T143217Z
UID:9717-1721842200-1721845800@tettenhalltennisclub.co.uk
SUMMARY:Free Junior Coaching - 3 COURTS NEEDED
DESCRIPTION:
URL:https://tettenhalltennisclub.co.uk/event/free-junior-coaching-3-courts-needed-34/
LOCATION:Tettenhall Tennis Club\, Danescourt Road\, Wolverhampton\, WV6 9BJ\, United Kingdom
CATEGORIES:Junior Coaching
ORGANIZER;CN="Simon Fellows":MAILTO:simonfellows1@outlook.com
END:VEVENT
BEGIN:VEVENT
DTSTART;TZID=UTC:20240724T140000
DTEND;TZID=UTC:20240724T160000
DTSTAMP:20260420T231525
CREATED:20240630T180504Z
LAST-MODIFIED:20240630T180504Z
UID:9858-1721829600-1721836800@tettenhalltennisclub.co.uk
SUMMARY:Summer Holiday Course
DESCRIPTION:
URL:https://tettenhalltennisclub.co.uk/event/summer-holiday-course-2/
LOCATION:Tettenhall Tennis Club\, Danescourt Road\, Wolverhampton\, WV6 9BJ\, United Kingdom
CATEGORIES:Junior Coaching
ORGANIZER;CN="Simon Fellows":MAILTO:simonfellows1@outlook.com
END:VEVENT
BEGIN:VEVENT
DTSTART;TZID=UTC:20240723T140000
DTEND;TZID=UTC:20240723T160000
DTSTAMP:20260420T231525
CREATED:20240630T180427Z
LAST-MODIFIED:20240630T180427Z
UID:9856-1721743200-1721750400@tettenhalltennisclub.co.uk
SUMMARY:Summer Holiday Course
DESCRIPTION:
URL:https://tettenhalltennisclub.co.uk/event/summer-holiday-course/
LOCATION:Tettenhall Tennis Club\, Danescourt Road\, Wolverhampton\, WV6 9BJ\, United Kingdom
CATEGORIES:Junior Coaching
ORGANIZER;CN="Simon Fellows":MAILTO:simonfellows1@outlook.com
END:VEVENT
BEGIN:VEVENT
DTSTART;TZID=UTC:20240717T173000
DTEND;TZID=UTC:20240717T183000
DTSTAMP:20260420T231525
CREATED:20240520T143151Z
LAST-MODIFIED:20240520T143151Z
UID:9715-1721237400-1721241000@tettenhalltennisclub.co.uk
SUMMARY:Free Junior Coaching - 3 COURTS NEEDED
DESCRIPTION:
URL:https://tettenhalltennisclub.co.uk/event/free-junior-coaching-3-courts-needed-33/
LOCATION:Tettenhall Tennis Club\, Danescourt Road\, Wolverhampton\, WV6 9BJ\, United Kingdom
CATEGORIES:Junior Coaching
ORGANIZER;CN="Simon Fellows":MAILTO:simonfellows1@outlook.com
END:VEVENT
BEGIN:VEVENT
DTSTART;TZID=UTC:20240710T173000
DTEND;TZID=UTC:20240710T183000
DTSTAMP:20260420T231525
CREATED:20240520T143112Z
LAST-MODIFIED:20240520T143112Z
UID:9713-1720632600-1720636200@tettenhalltennisclub.co.uk
SUMMARY:Free Junior Coaching - 3 COURTS NEEDED
DESCRIPTION:
URL:https://tettenhalltennisclub.co.uk/event/free-junior-coaching-3-courts-needed-32/
LOCATION:Tettenhall Tennis Club\, Danescourt Road\, Wolverhampton\, WV6 9BJ\, United Kingdom
CATEGORIES:Junior Coaching
ORGANIZER;CN="Simon Fellows":MAILTO:simonfellows1@outlook.com
END:VEVENT
BEGIN:VEVENT
DTSTART;TZID=UTC:20240703T173000
DTEND;TZID=UTC:20240703T183000
DTSTAMP:20260420T231525
CREATED:20240520T143044Z
LAST-MODIFIED:20240520T143044Z
UID:9711-1720027800-1720031400@tettenhalltennisclub.co.uk
SUMMARY:Free Junior Coaching - 3 COURTS NEEDED
DESCRIPTION:
URL:https://tettenhalltennisclub.co.uk/event/free-junior-coaching-3-courts-needed-31/
LOCATION:Tettenhall Tennis Club\, Danescourt Road\, Wolverhampton\, WV6 9BJ\, United Kingdom
CATEGORIES:Junior Coaching
ORGANIZER;CN="Simon Fellows":MAILTO:simonfellows1@outlook.com
END:VEVENT
BEGIN:VEVENT
DTSTART;TZID=UTC:20240626T173000
DTEND;TZID=UTC:20240626T183000
DTSTAMP:20260420T231525
CREATED:20240520T143009Z
LAST-MODIFIED:20240520T143009Z
UID:9709-1719423000-1719426600@tettenhalltennisclub.co.uk
SUMMARY:Free Junior Coaching - 3 COURTS NEEDED
DESCRIPTION:
URL:https://tettenhalltennisclub.co.uk/event/free-junior-coaching-3-courts-needed-30/
LOCATION:Tettenhall Tennis Club\, Danescourt Road\, Wolverhampton\, WV6 9BJ\, United Kingdom
CATEGORIES:Junior Coaching
ORGANIZER;CN="Simon Fellows":MAILTO:simonfellows1@outlook.com
END:VEVENT
BEGIN:VEVENT
DTSTART;TZID=UTC:20240619T173000
DTEND;TZID=UTC:20240619T183000
DTSTAMP:20260420T231525
CREATED:20240520T142945Z
LAST-MODIFIED:20240520T142945Z
UID:9707-1718818200-1718821800@tettenhalltennisclub.co.uk
SUMMARY:Free Junior Coaching - 3 COURTS NEEDED
DESCRIPTION:
URL:https://tettenhalltennisclub.co.uk/event/free-junior-coaching-3-courts-needed-29/
LOCATION:Tettenhall Tennis Club\, Danescourt Road\, Wolverhampton\, WV6 9BJ\, United Kingdom
CATEGORIES:Junior Coaching
ORGANIZER;CN="Simon Fellows":MAILTO:simonfellows1@outlook.com
END:VEVENT
BEGIN:VEVENT
DTSTART;TZID=UTC:20240612T173000
DTEND;TZID=UTC:20240612T183000
DTSTAMP:20260420T231525
CREATED:20240520T142852Z
LAST-MODIFIED:20240520T142852Z
UID:9705-1718213400-1718217000@tettenhalltennisclub.co.uk
SUMMARY:Free Junior Coaching - 3 COURTS NEEDED
DESCRIPTION:
URL:https://tettenhalltennisclub.co.uk/event/free-junior-coaching-3-courts-needed-28/
LOCATION:Tettenhall Tennis Club\, Danescourt Road\, Wolverhampton\, WV6 9BJ\, United Kingdom
CATEGORIES:Junior Coaching
ORGANIZER;CN="Simon Fellows":MAILTO:simonfellows1@outlook.com
END:VEVENT
BEGIN:VEVENT
DTSTART;TZID=UTC:20240605T173000
DTEND;TZID=UTC:20240605T183000
DTSTAMP:20260420T231525
CREATED:20240520T142829Z
LAST-MODIFIED:20240520T142829Z
UID:9703-1717608600-1717612200@tettenhalltennisclub.co.uk
SUMMARY:Free Junior Coaching - 3 COURTS NEEDED
DESCRIPTION:
URL:https://tettenhalltennisclub.co.uk/event/free-junior-coaching-3-courts-needed-27/
LOCATION:Tettenhall Tennis Club\, Danescourt Road\, Wolverhampton\, WV6 9BJ\, United Kingdom
CATEGORIES:Junior Coaching
ORGANIZER;CN="Simon Fellows":MAILTO:simonfellows1@outlook.com
END:VEVENT
BEGIN:VEVENT
DTSTART;TZID=UTC:20240522T173000
DTEND;TZID=UTC:20240522T183000
DTSTAMP:20260420T231525
CREATED:20240430T193717Z
LAST-MODIFIED:20240430T193717Z
UID:9560-1716399000-1716402600@tettenhalltennisclub.co.uk
SUMMARY:Free Junior Coaching – 3 COURTS NEEDED
DESCRIPTION:
URL:https://tettenhalltennisclub.co.uk/event/free-junior-coaching-3-courts-needed-26/
LOCATION:Tettenhall Tennis Club\, Danescourt Road\, Wolverhampton\, WV6 9BJ\, United Kingdom
CATEGORIES:Junior Coaching
ORGANIZER;CN="Simon Fellows":MAILTO:simonfellows1@outlook.com
END:VEVENT
BEGIN:VEVENT
DTSTART;TZID=UTC:20240515T173000
DTEND;TZID=UTC:20240515T183000
DTSTAMP:20260420T231525
CREATED:20240430T193651Z
LAST-MODIFIED:20240430T193651Z
UID:9558-1715794200-1715797800@tettenhalltennisclub.co.uk
SUMMARY:Free Junior Coaching – 3 COURTS NEEDED
DESCRIPTION:
URL:https://tettenhalltennisclub.co.uk/event/free-junior-coaching-3-courts-needed-25/
LOCATION:Tettenhall Tennis Club\, Danescourt Road\, Wolverhampton\, WV6 9BJ\, United Kingdom
CATEGORIES:Junior Coaching
ORGANIZER;CN="Simon Fellows":MAILTO:simonfellows1@outlook.com
END:VEVENT
BEGIN:VEVENT
DTSTART;TZID=UTC:20240508T173000
DTEND;TZID=UTC:20240508T183000
DTSTAMP:20260420T231525
CREATED:20240430T193611Z
LAST-MODIFIED:20240430T193611Z
UID:9556-1715189400-1715193000@tettenhalltennisclub.co.uk
SUMMARY:Free Junior Coaching – 3 COURTS NEEDED
DESCRIPTION:
URL:https://tettenhalltennisclub.co.uk/event/free-junior-coaching-3-courts-needed-24/
LOCATION:Tettenhall Tennis Club\, Danescourt Road\, Wolverhampton\, WV6 9BJ\, United Kingdom
CATEGORIES:Junior Coaching
ORGANIZER;CN="Simon Fellows":MAILTO:simonfellows1@outlook.com
END:VEVENT
BEGIN:VEVENT
DTSTART;TZID=UTC:20240501T173000
DTEND;TZID=UTC:20240501T183000
DTSTAMP:20260420T231525
CREATED:20240430T193541Z
LAST-MODIFIED:20240430T193541Z
UID:9554-1714584600-1714588200@tettenhalltennisclub.co.uk
SUMMARY:Free Junior Coaching – 3 COURTS NEEDED
DESCRIPTION:
URL:https://tettenhalltennisclub.co.uk/event/free-junior-coaching-3-courts-needed-23/
LOCATION:Tettenhall Tennis Club\, Danescourt Road\, Wolverhampton\, WV6 9BJ\, United Kingdom
CATEGORIES:Junior Coaching
ORGANIZER;CN="Simon Fellows":MAILTO:simonfellows1@outlook.com
END:VEVENT
BEGIN:VEVENT
DTSTART;TZID=UTC:20240320T173000
DTEND;TZID=UTC:20240320T183000
DTSTAMP:20260420T231525
CREATED:20240302T191520Z
LAST-MODIFIED:20240302T191520Z
UID:9486-1710955800-1710959400@tettenhalltennisclub.co.uk
SUMMARY:Free Junior Coaching – 3 COURTS NEEDED
DESCRIPTION:
URL:https://tettenhalltennisclub.co.uk/event/free-junior-coaching-3-courts-needed-22/
LOCATION:Tettenhall Tennis Club\, Danescourt Road\, Wolverhampton\, WV6 9BJ\, United Kingdom
CATEGORIES:Junior Coaching
ORGANIZER;CN="Simon Fellows":MAILTO:simonfellows1@outlook.com
END:VEVENT
BEGIN:VEVENT
DTSTART;TZID=UTC:20240313T173000
DTEND;TZID=UTC:20240313T183000
DTSTAMP:20260420T231525
CREATED:20240302T191437Z
LAST-MODIFIED:20240302T191437Z
UID:9484-1710351000-1710354600@tettenhalltennisclub.co.uk
SUMMARY:Free Junior Coaching – 3 COURTS NEEDED
DESCRIPTION:
URL:https://tettenhalltennisclub.co.uk/event/free-junior-coaching-3-courts-needed-21/
LOCATION:Tettenhall Tennis Club\, Danescourt Road\, Wolverhampton\, WV6 9BJ\, United Kingdom
CATEGORIES:Junior Coaching
ORGANIZER;CN="Simon Fellows":MAILTO:simonfellows1@outlook.com
END:VEVENT
BEGIN:VEVENT
DTSTART;TZID=UTC:20240306T173000
DTEND;TZID=UTC:20240306T183000
DTSTAMP:20260420T231525
CREATED:20240302T191350Z
LAST-MODIFIED:20240302T191350Z
UID:9482-1709746200-1709749800@tettenhalltennisclub.co.uk
SUMMARY:Free Junior Coaching – 3 COURTS NEEDED
DESCRIPTION:
URL:https://tettenhalltennisclub.co.uk/event/free-junior-coaching-3-courts-needed-20/
LOCATION:Tettenhall Tennis Club\, Danescourt Road\, Wolverhampton\, WV6 9BJ\, United Kingdom
CATEGORIES:Junior Coaching
ORGANIZER;CN="Simon Fellows":MAILTO:simonfellows1@outlook.com
END:VEVENT
BEGIN:VEVENT
DTSTART;TZID=UTC:20240228T173000
DTEND;TZID=UTC:20240228T183000
DTSTAMP:20260420T231525
CREATED:20240205T165301Z
LAST-MODIFIED:20240205T165301Z
UID:9415-1709141400-1709145000@tettenhalltennisclub.co.uk
SUMMARY:Free Junior Coaching - 3 COURTS NEEDED
DESCRIPTION:
URL:https://tettenhalltennisclub.co.uk/event/free-junior-coaching-3-courts-needed-19/
LOCATION:Tettenhall Tennis Club\, Danescourt Road\, Wolverhampton\, WV6 9BJ\, United Kingdom
CATEGORIES:Junior Coaching
ORGANIZER;CN="Simon Fellows":MAILTO:simonfellows1@outlook.com
END:VEVENT
BEGIN:VEVENT
DTSTART;TZID=UTC:20240221T173000
DTEND;TZID=UTC:20240221T183000
DTSTAMP:20260420T231525
CREATED:20240205T165235Z
LAST-MODIFIED:20240205T165235Z
UID:9413-1708536600-1708540200@tettenhalltennisclub.co.uk
SUMMARY:Free Junior Coaching - 3 COURTS NEEDED
DESCRIPTION:
URL:https://tettenhalltennisclub.co.uk/event/free-junior-coaching-3-courts-needed-18/
LOCATION:Tettenhall Tennis Club\, Danescourt Road\, Wolverhampton\, WV6 9BJ\, United Kingdom
CATEGORIES:Junior Coaching
ORGANIZER;CN="Simon Fellows":MAILTO:simonfellows1@outlook.com
END:VEVENT
BEGIN:VEVENT
DTSTART;TZID=UTC:20240214T173000
DTEND;TZID=UTC:20240214T183000
DTSTAMP:20260420T231525
CREATED:20240205T165210Z
LAST-MODIFIED:20240205T165210Z
UID:9411-1707931800-1707935400@tettenhalltennisclub.co.uk
SUMMARY:Free Junior Coaching - 3 COURTS NEEDED
DESCRIPTION:
URL:https://tettenhalltennisclub.co.uk/event/free-junior-coaching-3-courts-needed-17/
LOCATION:Tettenhall Tennis Club\, Danescourt Road\, Wolverhampton\, WV6 9BJ\, United Kingdom
CATEGORIES:Junior Coaching
ORGANIZER;CN="Simon Fellows":MAILTO:simonfellows1@outlook.com
END:VEVENT
BEGIN:VEVENT
DTSTART;TZID=UTC:20240207T173000
DTEND;TZID=UTC:20240207T183000
DTSTAMP:20260420T231525
CREATED:20240205T165139Z
LAST-MODIFIED:20240205T165139Z
UID:9409-1707327000-1707330600@tettenhalltennisclub.co.uk
SUMMARY:Free Junior Coaching - 3 COURTS NEEDED
DESCRIPTION:
URL:https://tettenhalltennisclub.co.uk/event/free-junior-coaching-3-courts-needed-16/
LOCATION:Tettenhall Tennis Club\, Danescourt Road\, Wolverhampton\, WV6 9BJ\, United Kingdom
CATEGORIES:Junior Coaching
ORGANIZER;CN="Simon Fellows":MAILTO:simonfellows1@outlook.com
END:VEVENT
BEGIN:VEVENT
DTSTART;TZID=UTC:20240131T173000
DTEND;TZID=UTC:20240131T183000
DTSTAMP:20260420T231525
CREATED:20240108T105434Z
LAST-MODIFIED:20240108T105434Z
UID:9372-1706722200-1706725800@tettenhalltennisclub.co.uk
SUMMARY:Free Junior Coaching – 3 COURTS NEEDED
DESCRIPTION:
URL:https://tettenhalltennisclub.co.uk/event/free-junior-coaching-3-courts-needed-15/
LOCATION:Tettenhall Tennis Club\, Danescourt Road\, Wolverhampton\, WV6 9BJ\, United Kingdom
CATEGORIES:Junior Coaching
ORGANIZER;CN="Simon Fellows":MAILTO:simonfellows1@outlook.com
END:VEVENT
BEGIN:VEVENT
DTSTART;TZID=UTC:20240128T170000
DTEND;TZID=UTC:20240128T180000
DTSTAMP:20260420T231525
CREATED:20240108T101950Z
LAST-MODIFIED:20240108T101950Z
UID:9340-1706461200-1706464800@tettenhalltennisclub.co.uk
SUMMARY:Mini Green - 1 COURT NEEDED
DESCRIPTION:
URL:https://tettenhalltennisclub.co.uk/event/mini-green-1-court-needed-4/
LOCATION:Tettenhall Tennis Club\, Danescourt Road\, Wolverhampton\, WV6 9BJ\, United Kingdom
CATEGORIES:Junior Coaching
ORGANIZER;CN="Simon Fellows":MAILTO:simonfellows1@outlook.com
END:VEVENT
BEGIN:VEVENT
DTSTART;TZID=UTC:20240124T173000
DTEND;TZID=UTC:20240124T183000
DTSTAMP:20260420T231525
CREATED:20240108T105408Z
LAST-MODIFIED:20240108T105408Z
UID:9370-1706117400-1706121000@tettenhalltennisclub.co.uk
SUMMARY:Free Junior Coaching – 3 COURTS NEEDED
DESCRIPTION:
URL:https://tettenhalltennisclub.co.uk/event/free-junior-coaching-3-courts-needed-14/
LOCATION:Tettenhall Tennis Club\, Danescourt Road\, Wolverhampton\, WV6 9BJ\, United Kingdom
CATEGORIES:Junior Coaching
ORGANIZER;CN="Simon Fellows":MAILTO:simonfellows1@outlook.com
END:VEVENT
BEGIN:VEVENT
DTSTART;TZID=UTC:20240121T170000
DTEND;TZID=UTC:20240121T180000
DTSTAMP:20260420T231525
CREATED:20240108T101924Z
LAST-MODIFIED:20240108T101924Z
UID:9338-1705856400-1705860000@tettenhalltennisclub.co.uk
SUMMARY:Mini Green - 1 COURT NEEDED
DESCRIPTION:
URL:https://tettenhalltennisclub.co.uk/event/mini-green-1-court-needed-3/
LOCATION:Tettenhall Tennis Club\, Danescourt Road\, Wolverhampton\, WV6 9BJ\, United Kingdom
CATEGORIES:Junior Coaching
ORGANIZER;CN="Simon Fellows":MAILTO:simonfellows1@outlook.com
END:VEVENT
BEGIN:VEVENT
DTSTART;TZID=UTC:20240117T173000
DTEND;TZID=UTC:20240117T183000
DTSTAMP:20260420T231525
CREATED:20240108T105327Z
LAST-MODIFIED:20240108T105327Z
UID:9368-1705512600-1705516200@tettenhalltennisclub.co.uk
SUMMARY:Free Junior Coaching – 3 COURTS NEEDED
DESCRIPTION:
URL:https://tettenhalltennisclub.co.uk/event/free-junior-coaching-3-courts-needed-13/
LOCATION:Tettenhall Tennis Club\, Danescourt Road\, Wolverhampton\, WV6 9BJ\, United Kingdom
CATEGORIES:Junior Coaching
ORGANIZER;CN="Simon Fellows":MAILTO:simonfellows1@outlook.com
END:VEVENT
END:VCALENDAR