BEGIN:VCALENDAR
VERSION:2.0
PRODID:-//Tettenhall Tennis Club - ECPv6.15.20//NONSGML v1.0//EN
CALSCALE:GREGORIAN
METHOD:PUBLISH
X-ORIGINAL-URL:https://tettenhalltennisclub.co.uk
X-WR-CALDESC:Events for Tettenhall Tennis Club
REFRESH-INTERVAL;VALUE=DURATION:PT1H
X-Robots-Tag:noindex
X-PUBLISHED-TTL:PT1H
BEGIN:VTIMEZONE
TZID:UTC
BEGIN:STANDARD
TZOFFSETFROM:+0000
TZOFFSETTO:+0000
TZNAME:UTC
DTSTART:20240101T000000
END:STANDARD
END:VTIMEZONE
BEGIN:VEVENT
DTSTART;TZID=UTC:20250720T150000
DTEND;TZID=UTC:20250720T170000
DTSTAMP:20260421T105041
CREATED:20250623T125214Z
LAST-MODIFIED:20250623T125214Z
UID:10592-1753023600-1753030800@tettenhalltennisclub.co.uk
SUMMARY:Mini Red - 3 COURTS NEEDED
DESCRIPTION:
URL:https://tettenhalltennisclub.co.uk/event/mini-red-3-courts-needed-51/
LOCATION:Tettenhall Tennis Club\, Danescourt Road\, Wolverhampton\, WV6 9BJ\, United Kingdom
CATEGORIES:Mini Coaching
ORGANIZER;CN="Simon Fellows":MAILTO:simonfellows1@outlook.com
END:VEVENT
BEGIN:VEVENT
DTSTART;TZID=UTC:20250720T170000
DTEND;TZID=UTC:20250720T180000
DTSTAMP:20260421T105041
CREATED:20250623T125341Z
LAST-MODIFIED:20250623T125341Z
UID:10598-1753030800-1753034400@tettenhalltennisclub.co.uk
SUMMARY:Mini Green - 1 COURT NEEDED
DESCRIPTION:
URL:https://tettenhalltennisclub.co.uk/event/mini-green-1-court-needed-48/
LOCATION:Tettenhall Tennis Club\, Danescourt Road\, Wolverhampton\, WV6 9BJ\, United Kingdom
CATEGORIES:Mini Coaching
ORGANIZER;CN="Simon Fellows":MAILTO:simonfellows1@outlook.com
END:VEVENT
END:VCALENDAR