BEGIN:VCALENDAR
VERSION:2.0
PRODID:-//Tettenhall Tennis Club - ECPv6.15.20//NONSGML v1.0//EN
CALSCALE:GREGORIAN
METHOD:PUBLISH
X-WR-CALNAME:Tettenhall Tennis Club
X-ORIGINAL-URL:https://tettenhalltennisclub.co.uk
X-WR-CALDESC:Events for Tettenhall Tennis Club
REFRESH-INTERVAL;VALUE=DURATION:PT1H
X-Robots-Tag:noindex
X-PUBLISHED-TTL:PT1H
BEGIN:VTIMEZONE
TZID:UTC
BEGIN:STANDARD
TZOFFSETFROM:+0000
TZOFFSETTO:+0000
TZNAME:UTC
DTSTART:20220101T000000
END:STANDARD
END:VTIMEZONE
BEGIN:VEVENT
DTSTART;VALUE=DATE:20230927
DTEND;VALUE=DATE:20230928
DTSTAMP:20260421T195200
CREATED:20230831T210359Z
LAST-MODIFIED:20230831T210359Z
UID:9047-1695772800-1695859199@tettenhalltennisclub.co.uk
SUMMARY:ALL COURTS OUT OF ACTION DUE TO RESURFACING
DESCRIPTION:
URL:https://tettenhalltennisclub.co.uk/event/all-courts-out-of-action-due-to-resurfacing-3/
LOCATION:Tettenhall Tennis Club\, Danescourt Road\, Wolverhampton\, WV6 9BJ\, United Kingdom
ORGANIZER;CN="Simon Fellows":MAILTO:simonfellows1@outlook.com
END:VEVENT
BEGIN:VEVENT
DTSTART;VALUE=DATE:20230926
DTEND;VALUE=DATE:20230927
DTSTAMP:20260421T195200
CREATED:20230831T210340Z
LAST-MODIFIED:20230831T210340Z
UID:9045-1695686400-1695772799@tettenhalltennisclub.co.uk
SUMMARY:ALL COURTS OUT OF ACTION DUE TO RESURFACING
DESCRIPTION:
URL:https://tettenhalltennisclub.co.uk/event/all-courts-out-of-action-due-to-resurfacing-2/
LOCATION:Tettenhall Tennis Club\, Danescourt Road\, Wolverhampton\, WV6 9BJ\, United Kingdom
ORGANIZER;CN="Simon Fellows":MAILTO:simonfellows1@outlook.com
END:VEVENT
BEGIN:VEVENT
DTSTART;VALUE=DATE:20230925
DTEND;VALUE=DATE:20230926
DTSTAMP:20260421T195200
CREATED:20230831T210312Z
LAST-MODIFIED:20230831T210312Z
UID:9043-1695600000-1695686399@tettenhalltennisclub.co.uk
SUMMARY:ALL COURTS OUT OF ACTION DUE TO RESURFACING
DESCRIPTION:
URL:https://tettenhalltennisclub.co.uk/event/all-courts-out-of-action-due-to-resurfacing/
LOCATION:Tettenhall Tennis Club\, Danescourt Road\, Wolverhampton\, WV6 9BJ\, United Kingdom
ORGANIZER;CN="Simon Fellows":MAILTO:simonfellows1@outlook.com
END:VEVENT
BEGIN:VEVENT
DTSTART;TZID=UTC:20230924T170000
DTEND;TZID=UTC:20230924T180000
DTSTAMP:20260421T195200
CREATED:20230831T205548Z
LAST-MODIFIED:20230831T205548Z
UID:9035-1695574800-1695578400@tettenhalltennisclub.co.uk
SUMMARY:Junior Coaching- 3 COURTS NEEDED
DESCRIPTION:
URL:https://tettenhalltennisclub.co.uk/event/junior-coaching-3-courts-needed-6/
LOCATION:Tettenhall Tennis Club\, Danescourt Road\, Wolverhampton\, WV6 9BJ\, United Kingdom
ORGANIZER;CN="Simon Fellows":MAILTO:simonfellows1@outlook.com
END:VEVENT
BEGIN:VEVENT
DTSTART;TZID=UTC:20230924T160000
DTEND;TZID=UTC:20230924T170000
DTSTAMP:20260421T195200
CREATED:20230831T205514Z
LAST-MODIFIED:20230831T205514Z
UID:9033-1695571200-1695574800@tettenhalltennisclub.co.uk
SUMMARY:Mini Orange Junior Coaching- 3 COURTS NEEDED
DESCRIPTION:
URL:https://tettenhalltennisclub.co.uk/event/mini-orange-junior-coaching-3-courts-needed-4/
LOCATION:Tettenhall Tennis Club\, Danescourt Road\, Wolverhampton\, WV6 9BJ\, United Kingdom
ORGANIZER;CN="Simon Fellows":MAILTO:simonfellows1@outlook.com
END:VEVENT
BEGIN:VEVENT
DTSTART;TZID=UTC:20230924T150000
DTEND;TZID=UTC:20230924T160000
DTSTAMP:20260421T195200
CREATED:20230831T205431Z
LAST-MODIFIED:20230831T205431Z
UID:9031-1695567600-1695571200@tettenhalltennisclub.co.uk
SUMMARY:Mini Red Junior Coaching- 3 COURTS NEEDED
DESCRIPTION:
URL:https://tettenhalltennisclub.co.uk/event/mini-red-junior-coaching-3-courts-needed-4/
LOCATION:Tettenhall Tennis Club\, Danescourt Road\, Wolverhampton\, WV6 9BJ\, United Kingdom
ORGANIZER;CN="Simon Fellows":MAILTO:simonfellows1@outlook.com
END:VEVENT
BEGIN:VEVENT
DTSTART;TZID=UTC:20230922T183000
DTEND;TZID=UTC:20230922T193000
DTSTAMP:20260421T195200
CREATED:20230831T205331Z
LAST-MODIFIED:20230831T205331Z
UID:9029-1695407400-1695411000@tettenhalltennisclub.co.uk
SUMMARY:Adult Intermediates- 3 COURTS NEEDED
DESCRIPTION:
URL:https://tettenhalltennisclub.co.uk/event/adult-intermediates-3-courts-needed-5/
LOCATION:Tettenhall Tennis Club\, Danescourt Road\, Wolverhampton\, WV6 9BJ\, United Kingdom
ORGANIZER;CN="Simon Fellows":MAILTO:simonfellows1@outlook.com
END:VEVENT
BEGIN:VEVENT
DTSTART;TZID=UTC:20230921T183000
DTEND;TZID=UTC:20230921T200000
DTSTAMP:20260421T195200
CREATED:20230831T205955Z
LAST-MODIFIED:20230831T205955Z
UID:9041-1695321000-1695326400@tettenhalltennisclub.co.uk
SUMMARY:Advanced Mix In
DESCRIPTION:
URL:https://tettenhalltennisclub.co.uk/event/advanced-mix-in-7/
LOCATION:Tettenhall Tennis Club\, Danescourt Road\, Wolverhampton\, WV6 9BJ\, United Kingdom
END:VEVENT
BEGIN:VEVENT
DTSTART;TZID=UTC:20230920T183000
DTEND;TZID=UTC:20230920T220000
DTSTAMP:20260421T195200
CREATED:20230831T205235Z
LAST-MODIFIED:20230831T205235Z
UID:9027-1695234600-1695247200@tettenhalltennisclub.co.uk
SUMMARY:Ladies Match Tettenhall VS Newbridge- 2 COURTS NEEDED
DESCRIPTION:
URL:https://tettenhalltennisclub.co.uk/event/ladies-match-tettenhall-vs-newbridge-2-courts-needed/
LOCATION:Tettenhall Tennis Club\, Danescourt Road\, Wolverhampton\, WV6 9BJ\, United Kingdom
END:VEVENT
BEGIN:VEVENT
DTSTART;TZID=UTC:20230920T173000
DTEND;TZID=UTC:20230920T183000
DTSTAMP:20260421T195200
CREATED:20230831T205019Z
LAST-MODIFIED:20230831T205019Z
UID:9025-1695231000-1695234600@tettenhalltennisclub.co.uk
SUMMARY:Junior Coaching- 3 COURTS NEEDED
DESCRIPTION:
URL:https://tettenhalltennisclub.co.uk/event/junior-coaching-3-courts-needed-5/
LOCATION:Tettenhall Tennis Club\, Danescourt Road\, Wolverhampton\, WV6 9BJ\, United Kingdom
ORGANIZER;CN="Simon Fellows":MAILTO:simonfellows1@outlook.com
END:VEVENT
BEGIN:VEVENT
DTSTART;TZID=UTC:20230918T183000
DTEND;TZID=UTC:20230918T200000
DTSTAMP:20260421T195200
CREATED:20230831T204938Z
LAST-MODIFIED:20230831T204938Z
UID:9023-1695061800-1695067200@tettenhalltennisclub.co.uk
SUMMARY:Club Coaching- 3 COURTS NEEDED
DESCRIPTION:
URL:https://tettenhalltennisclub.co.uk/event/club-coaching-3-courts-needed-8/
LOCATION:Tettenhall Tennis Club\, Danescourt Road\, Wolverhampton\, WV6 9BJ\, United Kingdom
ORGANIZER;CN="Simon Fellows":MAILTO:simonfellows1@outlook.com
END:VEVENT
BEGIN:VEVENT
DTSTART;TZID=UTC:20230917T170000
DTEND;TZID=UTC:20230917T180000
DTSTAMP:20260421T195200
CREATED:20230831T204848Z
LAST-MODIFIED:20230831T204848Z
UID:9021-1694970000-1694973600@tettenhalltennisclub.co.uk
SUMMARY:Junior Coaching- 3 COURTS NEEDED
DESCRIPTION:
URL:https://tettenhalltennisclub.co.uk/event/junior-coaching-3-courts-needed-4/
LOCATION:Tettenhall Tennis Club\, Danescourt Road\, Wolverhampton\, WV6 9BJ\, United Kingdom
ORGANIZER;CN="Simon Fellows":MAILTO:simonfellows1@outlook.com
END:VEVENT
BEGIN:VEVENT
DTSTART;TZID=UTC:20230917T160000
DTEND;TZID=UTC:20230917T170000
DTSTAMP:20260421T195200
CREATED:20230831T204801Z
LAST-MODIFIED:20230831T204801Z
UID:9019-1694966400-1694970000@tettenhalltennisclub.co.uk
SUMMARY:Mini Orange Junior Coaching- 3 COURTS NEEDED
DESCRIPTION:
URL:https://tettenhalltennisclub.co.uk/event/mini-orange-junior-coaching-3-courts-needed-3/
LOCATION:Tettenhall Tennis Club\, Danescourt Road\, Wolverhampton\, WV6 9BJ\, United Kingdom
ORGANIZER;CN="Simon Fellows":MAILTO:simonfellows1@outlook.com
END:VEVENT
BEGIN:VEVENT
DTSTART;TZID=UTC:20230917T150000
DTEND;TZID=UTC:20230917T160000
DTSTAMP:20260421T195200
CREATED:20230831T204716Z
LAST-MODIFIED:20230831T204716Z
UID:9017-1694962800-1694966400@tettenhalltennisclub.co.uk
SUMMARY:Mini Red Junior Coaching- 3 COURTS NEEDED
DESCRIPTION:
URL:https://tettenhalltennisclub.co.uk/event/mini-red-junior-coaching-3-courts-needed-3/
LOCATION:Tettenhall Tennis Club\, Danescourt Road\, Wolverhampton\, WV6 9BJ\, United Kingdom
ORGANIZER;CN="Simon Fellows":MAILTO:simonfellows1@outlook.com
END:VEVENT
BEGIN:VEVENT
DTSTART;TZID=UTC:20230915T183000
DTEND;TZID=UTC:20230915T193000
DTSTAMP:20260421T195200
CREATED:20230831T204502Z
LAST-MODIFIED:20230831T204502Z
UID:9015-1694802600-1694806200@tettenhalltennisclub.co.uk
SUMMARY:Adult Intermediates- 3 COURTS NEEDED
DESCRIPTION:
URL:https://tettenhalltennisclub.co.uk/event/adult-intermediates-3-courts-needed-4/
LOCATION:Tettenhall Tennis Club\, Danescourt Road\, Wolverhampton\, WV6 9BJ\, United Kingdom
ORGANIZER;CN="Simon Fellows":MAILTO:simonfellows1@outlook.com
END:VEVENT
BEGIN:VEVENT
DTSTART;TZID=UTC:20230914T183000
DTEND;TZID=UTC:20230914T200000
DTSTAMP:20260421T195200
CREATED:20230831T205917Z
LAST-MODIFIED:20230831T205917Z
UID:9039-1694716200-1694721600@tettenhalltennisclub.co.uk
SUMMARY:Advanced Mix In
DESCRIPTION:
URL:https://tettenhalltennisclub.co.uk/event/advanced-mix-in-6/
LOCATION:Tettenhall Tennis Club\, Danescourt Road\, Wolverhampton\, WV6 9BJ\, United Kingdom
END:VEVENT
BEGIN:VEVENT
DTSTART;TZID=UTC:20230913T173000
DTEND;TZID=UTC:20230913T183000
DTSTAMP:20260421T195200
CREATED:20230831T204304Z
LAST-MODIFIED:20230831T204304Z
UID:9011-1694626200-1694629800@tettenhalltennisclub.co.uk
SUMMARY:Junior Coaching- 3 COURTS NEEDED
DESCRIPTION:
URL:https://tettenhalltennisclub.co.uk/event/junior-coaching-3-courts-needed-3/
LOCATION:Tettenhall Tennis Club\, Danescourt Road\, Wolverhampton\, WV6 9BJ\, United Kingdom
ORGANIZER;CN="Simon Fellows":MAILTO:simonfellows1@outlook.com
END:VEVENT
BEGIN:VEVENT
DTSTART;TZID=UTC:20230913T143000
DTEND;TZID=UTC:20230913T154500
DTSTAMP:20260421T195200
CREATED:20230831T204414Z
LAST-MODIFIED:20230831T204414Z
UID:9013-1694615400-1694619900@tettenhalltennisclub.co.uk
SUMMARY:Tettenhall College Coaching- 3 COURTS NEEDED
DESCRIPTION:
URL:https://tettenhalltennisclub.co.uk/event/tettenhall-college-coaching-3-courts-needed/
LOCATION:Tettenhall Tennis Club\, Danescourt Road\, Wolverhampton\, WV6 9BJ\, United Kingdom
ORGANIZER;CN="Simon Fellows":MAILTO:simonfellows1@outlook.com
END:VEVENT
BEGIN:VEVENT
DTSTART;TZID=UTC:20230911T183000
DTEND;TZID=UTC:20230911T200000
DTSTAMP:20260421T195200
CREATED:20230831T204220Z
LAST-MODIFIED:20230831T204220Z
UID:9009-1694457000-1694462400@tettenhalltennisclub.co.uk
SUMMARY:Club Coaching- 3 COURTS NEEDED
DESCRIPTION:
URL:https://tettenhalltennisclub.co.uk/event/club-coaching-3-courts-needed-7/
LOCATION:Tettenhall Tennis Club\, Danescourt Road\, Wolverhampton\, WV6 9BJ\, United Kingdom
ORGANIZER;CN="Simon Fellows":MAILTO:simonfellows1@outlook.com
END:VEVENT
BEGIN:VEVENT
DTSTART;TZID=UTC:20230910T170000
DTEND;TZID=UTC:20230910T180000
DTSTAMP:20260421T195200
CREATED:20230831T204026Z
LAST-MODIFIED:20230831T204034Z
UID:9006-1694365200-1694368800@tettenhalltennisclub.co.uk
SUMMARY:Junior Coaching- 3 COURTS NEEDED
DESCRIPTION:
URL:https://tettenhalltennisclub.co.uk/event/junior-coaching-3courts-needed/
LOCATION:Tettenhall Tennis Club\, Danescourt Road\, Wolverhampton\, WV6 9BJ\, United Kingdom
ORGANIZER;CN="Simon Fellows":MAILTO:simonfellows1@outlook.com
END:VEVENT
BEGIN:VEVENT
DTSTART;TZID=UTC:20230910T160000
DTEND;TZID=UTC:20230910T170000
DTSTAMP:20260421T195200
CREATED:20230831T203946Z
LAST-MODIFIED:20230831T203946Z
UID:9004-1694361600-1694365200@tettenhalltennisclub.co.uk
SUMMARY:Mini Orange Junior Coaching- 3 COURTS NEEDED
DESCRIPTION:
URL:https://tettenhalltennisclub.co.uk/event/mini-orange-junior-coaching-3-courts-needed-2/
LOCATION:Tettenhall Tennis Club\, Danescourt Road\, Wolverhampton\, WV6 9BJ\, United Kingdom
ORGANIZER;CN="Simon Fellows":MAILTO:simonfellows1@outlook.com
END:VEVENT
BEGIN:VEVENT
DTSTART;TZID=UTC:20230910T150000
DTEND;TZID=UTC:20230910T160000
DTSTAMP:20260421T195200
CREATED:20230831T203857Z
LAST-MODIFIED:20230831T203857Z
UID:9002-1694358000-1694361600@tettenhalltennisclub.co.uk
SUMMARY:Mini Red Junior Coaching- 3 COURTS NEEDED
DESCRIPTION:
URL:https://tettenhalltennisclub.co.uk/event/mini-red-junior-coaching-3-courts-needed-2/
LOCATION:Tettenhall Tennis Club\, Danescourt Road\, Wolverhampton\, WV6 9BJ\, United Kingdom
ORGANIZER;CN="Simon Fellows":MAILTO:simonfellows1@outlook.com
END:VEVENT
BEGIN:VEVENT
DTSTART;TZID=UTC:20230909T133000
DTEND;TZID=UTC:20230909T153000
DTSTAMP:20260421T195200
CREATED:20230831T203650Z
LAST-MODIFIED:20230831T203650Z
UID:9000-1694266200-1694273400@tettenhalltennisclub.co.uk
SUMMARY:Club Afternoon- 3 COURTS NEEDED
DESCRIPTION:
URL:https://tettenhalltennisclub.co.uk/event/club-afternoon-3-courts-needed/
LOCATION:Tettenhall Tennis Club\, Danescourt Road\, Wolverhampton\, WV6 9BJ\, United Kingdom
ORGANIZER;CN="Simon Fellows":MAILTO:simonfellows1@outlook.com
END:VEVENT
BEGIN:VEVENT
DTSTART;TZID=UTC:20230908T183000
DTEND;TZID=UTC:20230908T193000
DTSTAMP:20260421T195200
CREATED:20230831T203543Z
LAST-MODIFIED:20230831T203543Z
UID:8998-1694197800-1694201400@tettenhalltennisclub.co.uk
SUMMARY:Adult Intermediates- 3 COURTS NEEDED
DESCRIPTION:
URL:https://tettenhalltennisclub.co.uk/event/adult-intermediates-3-courts-needed-3/
LOCATION:Tettenhall Tennis Club\, Danescourt Road\, Wolverhampton\, WV6 9BJ\, United Kingdom
ORGANIZER;CN="Simon Fellows":MAILTO:simonfellows1@outlook.com
END:VEVENT
BEGIN:VEVENT
DTSTART;TZID=UTC:20230907T183000
DTEND;TZID=UTC:20230907T200000
DTSTAMP:20260421T195200
CREATED:20230831T205840Z
LAST-MODIFIED:20230831T205840Z
UID:9037-1694111400-1694116800@tettenhalltennisclub.co.uk
SUMMARY:Advanced Mix In
DESCRIPTION:
URL:https://tettenhalltennisclub.co.uk/event/advanced-mix-in-4/
LOCATION:Tettenhall Tennis Club\, Danescourt Road\, Wolverhampton\, WV6 9BJ\, United Kingdom
END:VEVENT
BEGIN:VEVENT
DTSTART;TZID=UTC:20230906T173000
DTEND;TZID=UTC:20230906T183000
DTSTAMP:20260421T195200
CREATED:20230831T203348Z
LAST-MODIFIED:20230831T203348Z
UID:8996-1694021400-1694025000@tettenhalltennisclub.co.uk
SUMMARY:Junior Coaching- 3 COURTS NEEDED
DESCRIPTION:
URL:https://tettenhalltennisclub.co.uk/event/junior-coaching-3-courts-needed-2/
LOCATION:Tettenhall Tennis Club\, Danescourt Road\, Wolverhampton\, WV6 9BJ\, United Kingdom
ORGANIZER;CN="Simon Fellows":MAILTO:simonfellows1@outlook.com
END:VEVENT
BEGIN:VEVENT
DTSTART;TZID=UTC:20230904T183000
DTEND;TZID=UTC:20230904T200000
DTSTAMP:20260421T195200
CREATED:20230831T203201Z
LAST-MODIFIED:20230831T203201Z
UID:8994-1693852200-1693857600@tettenhalltennisclub.co.uk
SUMMARY:Club Coaching- 3 COURTS NEEDED
DESCRIPTION:
URL:https://tettenhalltennisclub.co.uk/event/club-coaching-3-courts-needed-6/
LOCATION:Tettenhall Tennis Club\, Danescourt Road\, Wolverhampton\, WV6 9BJ\, United Kingdom
ORGANIZER;CN="Simon Fellows":MAILTO:simonfellows1@outlook.com
END:VEVENT
BEGIN:VEVENT
DTSTART;TZID=UTC:20230903T170000
DTEND;TZID=UTC:20230903T180000
DTSTAMP:20260421T195200
CREATED:20230831T203016Z
LAST-MODIFIED:20230831T203016Z
UID:8992-1693760400-1693764000@tettenhalltennisclub.co.uk
SUMMARY:Junior Coaching- 3 COURTS NEEDED
DESCRIPTION:
URL:https://tettenhalltennisclub.co.uk/event/junior-coaching-3-courts-needed/
LOCATION:Tettenhall Tennis Club\, Danescourt Road\, Wolverhampton\, WV6 9BJ\, United Kingdom
ORGANIZER;CN="Simon Fellows":MAILTO:simonfellows1@outlook.com
END:VEVENT
BEGIN:VEVENT
DTSTART;TZID=UTC:20230903T160000
DTEND;TZID=UTC:20230903T170000
DTSTAMP:20260421T195200
CREATED:20230831T202908Z
LAST-MODIFIED:20230831T202908Z
UID:8990-1693756800-1693760400@tettenhalltennisclub.co.uk
SUMMARY:Mini Orange Junior Coaching- 3 COURTS NEEDED
DESCRIPTION:
URL:https://tettenhalltennisclub.co.uk/event/mini-orange-junior-coaching-3-courts-needed/
LOCATION:Tettenhall Tennis Club\, Danescourt Road\, Wolverhampton\, WV6 9BJ\, United Kingdom
ORGANIZER;CN="Simon Fellows":MAILTO:simonfellows1@outlook.com
END:VEVENT
BEGIN:VEVENT
DTSTART;TZID=UTC:20230903T150000
DTEND;TZID=UTC:20230903T160000
DTSTAMP:20260421T195200
CREATED:20230831T202757Z
LAST-MODIFIED:20230831T202757Z
UID:8988-1693753200-1693756800@tettenhalltennisclub.co.uk
SUMMARY:Mini Red Junior Coaching- 3 COURTS NEEDED
DESCRIPTION:
URL:https://tettenhalltennisclub.co.uk/event/mini-red-junior-coaching-3-courts-needed/
LOCATION:Tettenhall Tennis Club\, Danescourt Road\, Wolverhampton\, WV6 9BJ\, United Kingdom
ORGANIZER;CN="Simon Fellows":MAILTO:simonfellows1@outlook.com
END:VEVENT
END:VCALENDAR