BEGIN:VCALENDAR
VERSION:2.0
PRODID:-//Tettenhall Tennis Club - ECPv6.15.20//NONSGML v1.0//EN
CALSCALE:GREGORIAN
METHOD:PUBLISH
X-WR-CALNAME:Tettenhall Tennis Club
X-ORIGINAL-URL:https://tettenhalltennisclub.co.uk
X-WR-CALDESC:Events for Tettenhall Tennis Club
REFRESH-INTERVAL;VALUE=DURATION:PT1H
X-Robots-Tag:noindex
X-PUBLISHED-TTL:PT1H
BEGIN:VTIMEZONE
TZID:UTC
BEGIN:STANDARD
TZOFFSETFROM:+0000
TZOFFSETTO:+0000
TZNAME:UTC
DTSTART:20220101T000000
END:STANDARD
END:VTIMEZONE
BEGIN:VEVENT
DTSTART;TZID=UTC:20230901T183000
DTEND;TZID=UTC:20230901T193000
DTSTAMP:20260422T005248
CREATED:20230831T201316Z
LAST-MODIFIED:20230831T201548Z
UID:8984-1693593000-1693596600@tettenhalltennisclub.co.uk
SUMMARY:Adult Intermediates- 3 COURTS NEEDED
DESCRIPTION:
URL:https://tettenhalltennisclub.co.uk/event/adult-coaching/
LOCATION:Tettenhall Tennis Club\, Danescourt Road\, Wolverhampton\, WV6 9BJ\, United Kingdom
ORGANIZER;CN="Simon Fellows":MAILTO:simonfellows1@outlook.com
END:VEVENT
BEGIN:VEVENT
DTSTART;TZID=UTC:20230831T183000
DTEND;TZID=UTC:20230831T200000
DTSTAMP:20260422T005248
CREATED:20230731T162331Z
LAST-MODIFIED:20230731T162331Z
UID:8957-1693506600-1693512000@tettenhalltennisclub.co.uk
SUMMARY:Advanced Mix In
DESCRIPTION:
URL:https://tettenhalltennisclub.co.uk/event/advanced-mix-in-5/
LOCATION:Tettenhall Tennis Club\, Danescourt Road\, Wolverhampton\, WV6 9BJ\, United Kingdom
CATEGORIES:Club Tennis
END:VEVENT
BEGIN:VEVENT
DTSTART;TZID=UTC:20230831T140000
DTEND;TZID=UTC:20230831T160000
DTSTAMP:20260422T005248
CREATED:20230731T161232Z
LAST-MODIFIED:20230731T161232Z
UID:8927-1693490400-1693497600@tettenhalltennisclub.co.uk
SUMMARY:Holiday Course - 3 COURTS NEEDED
DESCRIPTION:
URL:https://tettenhalltennisclub.co.uk/event/holiday-course-3-courts-needed-16/
LOCATION:Tettenhall Tennis Club\, Danescourt Road\, Wolverhampton\, WV6 9BJ\, United Kingdom
CATEGORIES:Junior Coaching
ORGANIZER;CN="Simon Fellows":MAILTO:simonfellows1@outlook.com
END:VEVENT
BEGIN:VEVENT
DTSTART;TZID=UTC:20230830T140000
DTEND;TZID=UTC:20230830T160000
DTSTAMP:20260422T005248
CREATED:20230731T161206Z
LAST-MODIFIED:20230731T161206Z
UID:8925-1693404000-1693411200@tettenhalltennisclub.co.uk
SUMMARY:Holiday Course - 3 COURTS NEEDED
DESCRIPTION:
URL:https://tettenhalltennisclub.co.uk/event/holiday-course-3-courts-needed-15/
LOCATION:Tettenhall Tennis Club\, Danescourt Road\, Wolverhampton\, WV6 9BJ\, United Kingdom
CATEGORIES:Junior Coaching
ORGANIZER;CN="Simon Fellows":MAILTO:simonfellows1@outlook.com
END:VEVENT
BEGIN:VEVENT
DTSTART;TZID=UTC:20230829T140000
DTEND;TZID=UTC:20230829T160000
DTSTAMP:20260422T005248
CREATED:20230731T161143Z
LAST-MODIFIED:20230731T161143Z
UID:8923-1693317600-1693324800@tettenhalltennisclub.co.uk
SUMMARY:Holiday Course - 3 COURTS NEEDED
DESCRIPTION:
URL:https://tettenhalltennisclub.co.uk/event/holiday-course-3-courts-needed-14/
LOCATION:Tettenhall Tennis Club\, Danescourt Road\, Wolverhampton\, WV6 9BJ\, United Kingdom
CATEGORIES:Junior Coaching
ORGANIZER;CN="Simon Fellows":MAILTO:simonfellows1@outlook.com
END:VEVENT
BEGIN:VEVENT
DTSTART;TZID=UTC:20230829T100000
DTEND;TZID=UTC:20230829T120000
DTSTAMP:20260422T005248
CREATED:20230731T162102Z
LAST-MODIFIED:20230731T162102Z
UID:8947-1693303200-1693310400@tettenhalltennisclub.co.uk
SUMMARY:Mix In
DESCRIPTION:
URL:https://tettenhalltennisclub.co.uk/event/mix-in-5/
LOCATION:Tettenhall Tennis Club\, Danescourt Road\, Wolverhampton\, WV6 9BJ\, United Kingdom
CATEGORIES:Club Tennis
END:VEVENT
BEGIN:VEVENT
DTSTART;TZID=UTC:20230828T183000
DTEND;TZID=UTC:20230828T200000
DTSTAMP:20260422T005248
CREATED:20230731T161607Z
LAST-MODIFIED:20230731T161607Z
UID:8935-1693247400-1693252800@tettenhalltennisclub.co.uk
SUMMARY:Club Coaching - 3 COURTS NEEDED
DESCRIPTION:
URL:https://tettenhalltennisclub.co.uk/event/club-coaching-3-courts-needed-4/
LOCATION:Tettenhall Tennis Club\, Danescourt Road\, Wolverhampton\, WV6 9BJ\, United Kingdom
CATEGORIES:Club Coaching
ORGANIZER;CN="Simon Fellows":MAILTO:simonfellows1@outlook.com
END:VEVENT
BEGIN:VEVENT
DTSTART;TZID=UTC:20230828T140000
DTEND;TZID=UTC:20230828T160000
DTSTAMP:20260422T005248
CREATED:20230731T161044Z
LAST-MODIFIED:20230731T161044Z
UID:8921-1693231200-1693238400@tettenhalltennisclub.co.uk
SUMMARY:Holiday Course - 3 COURTS NEEDED
DESCRIPTION:
URL:https://tettenhalltennisclub.co.uk/event/holiday-course-3-courts-needed-13/
LOCATION:Tettenhall Tennis Club\, Danescourt Road\, Wolverhampton\, WV6 9BJ\, United Kingdom
CATEGORIES:Junior Coaching
ORGANIZER;CN="Simon Fellows":MAILTO:simonfellows1@outlook.com
END:VEVENT
BEGIN:VEVENT
DTSTART;TZID=UTC:20230827T100000
DTEND;TZID=UTC:20230827T120000
DTSTAMP:20260422T005248
CREATED:20230731T162809Z
LAST-MODIFIED:20230731T162809Z
UID:8969-1693130400-1693137600@tettenhalltennisclub.co.uk
SUMMARY:Mix In
DESCRIPTION:
URL:https://tettenhalltennisclub.co.uk/event/mix-in-9/
LOCATION:Tettenhall Tennis Club\, Danescourt Road\, Wolverhampton\, WV6 9BJ\, United Kingdom
CATEGORIES:Club Tennis
END:VEVENT
BEGIN:VEVENT
DTSTART;TZID=UTC:20230826T140000
DTEND;TZID=UTC:20230826T160000
DTSTAMP:20260422T005248
CREATED:20230731T161829Z
LAST-MODIFIED:20230731T161829Z
UID:8937-1693058400-1693065600@tettenhalltennisclub.co.uk
SUMMARY:Orange & Green Competition - 3 COURTS NEEDED
DESCRIPTION:
URL:https://tettenhalltennisclub.co.uk/event/orange-green-competition-3-courts-needed/
LOCATION:Tettenhall Tennis Club\, Danescourt Road\, Wolverhampton\, WV6 9BJ\, United Kingdom
CATEGORIES:Club Event
ORGANIZER;CN="Simon Fellows":MAILTO:simonfellows1@outlook.com
END:VEVENT
BEGIN:VEVENT
DTSTART;TZID=UTC:20230825T183000
DTEND;TZID=UTC:20230825T193000
DTSTAMP:20260422T005248
CREATED:20230731T162554Z
LAST-MODIFIED:20230731T162554Z
UID:8961-1692988200-1692991800@tettenhalltennisclub.co.uk
SUMMARY:Adult Intermediates - 3 COURTS NEEDED
DESCRIPTION:
URL:https://tettenhalltennisclub.co.uk/event/adult-intermediates-3-courts-needed-2/
LOCATION:Tettenhall Tennis Club\, Danescourt Road\, Wolverhampton\, WV6 9BJ\, United Kingdom
CATEGORIES:Adult Coaching
ORGANIZER;CN="Simon Fellows":MAILTO:simonfellows1@outlook.com
END:VEVENT
BEGIN:VEVENT
DTSTART;TZID=UTC:20230825T140000
DTEND;TZID=UTC:20230825T160000
DTSTAMP:20260422T005248
CREATED:20230731T161009Z
LAST-MODIFIED:20230731T161009Z
UID:8919-1692972000-1692979200@tettenhalltennisclub.co.uk
SUMMARY:Holiday Course - 3 COURTS NEEDED
DESCRIPTION:
URL:https://tettenhalltennisclub.co.uk/event/holiday-course-3-courts-needed-12/
LOCATION:Tettenhall Tennis Club\, Danescourt Road\, Wolverhampton\, WV6 9BJ\, United Kingdom
CATEGORIES:Junior Coaching
ORGANIZER;CN="Simon Fellows":MAILTO:simonfellows1@outlook.com
END:VEVENT
BEGIN:VEVENT
DTSTART;TZID=UTC:20230824T183000
DTEND;TZID=UTC:20230824T223000
DTSTAMP:20260422T005248
CREATED:20230731T162944Z
LAST-MODIFIED:20230731T162944Z
UID:8971-1692901800-1692916200@tettenhalltennisclub.co.uk
SUMMARY:Tettenhall Men v Brewood Men's A - 2 COURTS NEEDED
DESCRIPTION:
URL:https://tettenhalltennisclub.co.uk/event/tettenhall-men-v-brewood-mens-a-2-courts-needed/
LOCATION:Tettenhall Tennis Club\, Danescourt Road\, Wolverhampton\, WV6 9BJ\, United Kingdom
CATEGORIES:Club Match
END:VEVENT
BEGIN:VEVENT
DTSTART;TZID=UTC:20230824T140000
DTEND;TZID=UTC:20230824T160000
DTSTAMP:20260422T005248
CREATED:20230731T160948Z
LAST-MODIFIED:20230731T160948Z
UID:8917-1692885600-1692892800@tettenhalltennisclub.co.uk
SUMMARY:Holiday Course - 3 COURTS NEEDED
DESCRIPTION:
URL:https://tettenhalltennisclub.co.uk/event/holiday-course-3-courts-needed-11/
LOCATION:Tettenhall Tennis Club\, Danescourt Road\, Wolverhampton\, WV6 9BJ\, United Kingdom
CATEGORIES:Junior Coaching
ORGANIZER;CN="Simon Fellows":MAILTO:simonfellows1@outlook.com
END:VEVENT
BEGIN:VEVENT
DTSTART;TZID=UTC:20230823T140000
DTEND;TZID=UTC:20230823T160000
DTSTAMP:20260422T005248
CREATED:20230731T160920Z
LAST-MODIFIED:20230731T160920Z
UID:8915-1692799200-1692806400@tettenhalltennisclub.co.uk
SUMMARY:Holiday Course - 3 COURTS NEEDED
DESCRIPTION:
URL:https://tettenhalltennisclub.co.uk/event/holiday-course-3-courts-needed-10/
LOCATION:Tettenhall Tennis Club\, Danescourt Road\, Wolverhampton\, WV6 9BJ\, United Kingdom
CATEGORIES:Junior Coaching
ORGANIZER;CN="Simon Fellows":MAILTO:simonfellows1@outlook.com
END:VEVENT
BEGIN:VEVENT
DTSTART;TZID=UTC:20230822T140000
DTEND;TZID=UTC:20230822T160000
DTSTAMP:20260422T005248
CREATED:20230731T160901Z
LAST-MODIFIED:20230731T160901Z
UID:8913-1692712800-1692720000@tettenhalltennisclub.co.uk
SUMMARY:Holiday Course - 3 COURTS NEEDED
DESCRIPTION:
URL:https://tettenhalltennisclub.co.uk/event/holiday-course-3-courts-needed-9/
LOCATION:Tettenhall Tennis Club\, Danescourt Road\, Wolverhampton\, WV6 9BJ\, United Kingdom
CATEGORIES:Junior Coaching
ORGANIZER;CN="Simon Fellows":MAILTO:simonfellows1@outlook.com
END:VEVENT
BEGIN:VEVENT
DTSTART;TZID=UTC:20230822T100000
DTEND;TZID=UTC:20230822T120000
DTSTAMP:20260422T005248
CREATED:20230731T162043Z
LAST-MODIFIED:20230731T162043Z
UID:8945-1692698400-1692705600@tettenhalltennisclub.co.uk
SUMMARY:Mix In
DESCRIPTION:
URL:https://tettenhalltennisclub.co.uk/event/mix-in-4/
LOCATION:Tettenhall Tennis Club\, Danescourt Road\, Wolverhampton\, WV6 9BJ\, United Kingdom
CATEGORIES:Club Tennis
END:VEVENT
BEGIN:VEVENT
DTSTART;TZID=UTC:20230821T183000
DTEND;TZID=UTC:20230821T200000
DTSTAMP:20260422T005248
CREATED:20230731T161543Z
LAST-MODIFIED:20230731T161543Z
UID:8933-1692642600-1692648000@tettenhalltennisclub.co.uk
SUMMARY:Club Coaching - 3 COURTS NEEDED
DESCRIPTION:
URL:https://tettenhalltennisclub.co.uk/event/club-coaching-3-courts-needed-3/
LOCATION:Tettenhall Tennis Club\, Danescourt Road\, Wolverhampton\, WV6 9BJ\, United Kingdom
CATEGORIES:Club Coaching
ORGANIZER;CN="Simon Fellows":MAILTO:simonfellows1@outlook.com
END:VEVENT
BEGIN:VEVENT
DTSTART;TZID=UTC:20230821T140000
DTEND;TZID=UTC:20230821T160000
DTSTAMP:20260422T005248
CREATED:20230731T160839Z
LAST-MODIFIED:20230731T160839Z
UID:8911-1692626400-1692633600@tettenhalltennisclub.co.uk
SUMMARY:Holiday Course - 3 COURTS NEEDED
DESCRIPTION:
URL:https://tettenhalltennisclub.co.uk/event/holiday-course-3-courts-needed-8/
LOCATION:Tettenhall Tennis Club\, Danescourt Road\, Wolverhampton\, WV6 9BJ\, United Kingdom
CATEGORIES:Junior Coaching
ORGANIZER;CN="Simon Fellows":MAILTO:simonfellows1@outlook.com
END:VEVENT
BEGIN:VEVENT
DTSTART;TZID=UTC:20230820T100000
DTEND;TZID=UTC:20230820T120000
DTSTAMP:20260422T005248
CREATED:20230731T162753Z
LAST-MODIFIED:20230731T162753Z
UID:8967-1692525600-1692532800@tettenhalltennisclub.co.uk
SUMMARY:Mix In
DESCRIPTION:
URL:https://tettenhalltennisclub.co.uk/event/mix-in-8/
LOCATION:Tettenhall Tennis Club\, Danescourt Road\, Wolverhampton\, WV6 9BJ\, United Kingdom
CATEGORIES:Club Tennis
END:VEVENT
BEGIN:VEVENT
DTSTART;TZID=UTC:20230818T183000
DTEND;TZID=UTC:20230818T193000
DTSTAMP:20260422T005248
CREATED:20230731T162441Z
LAST-MODIFIED:20230731T162441Z
UID:8959-1692383400-1692387000@tettenhalltennisclub.co.uk
SUMMARY:Adult Intermediates - 3 COURTS NEEDED
DESCRIPTION:
URL:https://tettenhalltennisclub.co.uk/event/adult-intermediates-3-courts-needed/
LOCATION:Tettenhall Tennis Club\, Danescourt Road\, Wolverhampton\, WV6 9BJ\, United Kingdom
CATEGORIES:Adult Coaching
ORGANIZER;CN="Simon Fellows":MAILTO:simonfellows1@outlook.com
END:VEVENT
BEGIN:VEVENT
DTSTART;TZID=UTC:20230818T140000
DTEND;TZID=UTC:20230818T160000
DTSTAMP:20260422T005248
CREATED:20230731T160703Z
LAST-MODIFIED:20230731T160703Z
UID:8909-1692367200-1692374400@tettenhalltennisclub.co.uk
SUMMARY:Holiday Course - 3 COURTS NEEDED
DESCRIPTION:
URL:https://tettenhalltennisclub.co.uk/event/holiday-course-3-courts-needed-7/
LOCATION:Tettenhall Tennis Club\, Danescourt Road\, Wolverhampton\, WV6 9BJ\, United Kingdom
CATEGORIES:Junior Coaching
ORGANIZER;CN="Simon Fellows":MAILTO:simonfellows1@outlook.com
END:VEVENT
BEGIN:VEVENT
DTSTART;TZID=UTC:20230817T183000
DTEND;TZID=UTC:20230817T200000
DTSTAMP:20260422T005248
CREATED:20230731T162244Z
LAST-MODIFIED:20230731T162244Z
UID:8953-1692297000-1692302400@tettenhalltennisclub.co.uk
SUMMARY:Advanced Mix In
DESCRIPTION:
URL:https://tettenhalltennisclub.co.uk/event/advanced-mix-in-3/
LOCATION:Tettenhall Tennis Club\, Danescourt Road\, Wolverhampton\, WV6 9BJ\, United Kingdom
CATEGORIES:Club Tennis
END:VEVENT
BEGIN:VEVENT
DTSTART;TZID=UTC:20230817T140000
DTEND;TZID=UTC:20230817T160000
DTSTAMP:20260422T005248
CREATED:20230731T160643Z
LAST-MODIFIED:20230731T160643Z
UID:8907-1692280800-1692288000@tettenhalltennisclub.co.uk
SUMMARY:Holiday Course - 3 COURTS NEEDED
DESCRIPTION:
URL:https://tettenhalltennisclub.co.uk/event/holiday-course-3-courts-needed-6/
LOCATION:Tettenhall Tennis Club\, Danescourt Road\, Wolverhampton\, WV6 9BJ\, United Kingdom
CATEGORIES:Junior Coaching
ORGANIZER;CN="Simon Fellows":MAILTO:simonfellows1@outlook.com
END:VEVENT
BEGIN:VEVENT
DTSTART;TZID=UTC:20230816T140000
DTEND;TZID=UTC:20230816T160000
DTSTAMP:20260422T005248
CREATED:20230731T160623Z
LAST-MODIFIED:20230731T160623Z
UID:8905-1692194400-1692201600@tettenhalltennisclub.co.uk
SUMMARY:Holiday Course - 3 COURTS NEEDED
DESCRIPTION:
URL:https://tettenhalltennisclub.co.uk/event/holiday-course-3-courts-needed-5/
LOCATION:Tettenhall Tennis Club\, Danescourt Road\, Wolverhampton\, WV6 9BJ\, United Kingdom
CATEGORIES:Junior Coaching
ORGANIZER;CN="Simon Fellows":MAILTO:simonfellows1@outlook.com
END:VEVENT
BEGIN:VEVENT
DTSTART;TZID=UTC:20230815T140000
DTEND;TZID=UTC:20230815T160000
DTSTAMP:20260422T005248
CREATED:20230731T160601Z
LAST-MODIFIED:20230731T160601Z
UID:8903-1692108000-1692115200@tettenhalltennisclub.co.uk
SUMMARY:Holiday Course - 3 COURTS NEEDED
DESCRIPTION:
URL:https://tettenhalltennisclub.co.uk/event/holiday-course-3-courts-needed-4/
LOCATION:Tettenhall Tennis Club\, Danescourt Road\, Wolverhampton\, WV6 9BJ\, United Kingdom
CATEGORIES:Junior Coaching
ORGANIZER;CN="Simon Fellows":MAILTO:simonfellows1@outlook.com
END:VEVENT
BEGIN:VEVENT
DTSTART;TZID=UTC:20230815T100000
DTEND;TZID=UTC:20230815T120000
DTSTAMP:20260422T005248
CREATED:20230731T162024Z
LAST-MODIFIED:20230731T162024Z
UID:8943-1692093600-1692100800@tettenhalltennisclub.co.uk
SUMMARY:Mix In
DESCRIPTION:
URL:https://tettenhalltennisclub.co.uk/event/mix-in-3/
LOCATION:Tettenhall Tennis Club\, Danescourt Road\, Wolverhampton\, WV6 9BJ\, United Kingdom
CATEGORIES:Club Tennis
END:VEVENT
BEGIN:VEVENT
DTSTART;TZID=UTC:20230814T183000
DTEND;TZID=UTC:20230814T200000
DTSTAMP:20260422T005248
CREATED:20230731T161523Z
LAST-MODIFIED:20230731T161523Z
UID:8931-1692037800-1692043200@tettenhalltennisclub.co.uk
SUMMARY:Club Coaching - 3 COURTS NEEDED
DESCRIPTION:
URL:https://tettenhalltennisclub.co.uk/event/club-coaching-3-courts-needed-2/
LOCATION:Tettenhall Tennis Club\, Danescourt Road\, Wolverhampton\, WV6 9BJ\, United Kingdom
CATEGORIES:Club Coaching
ORGANIZER;CN="Simon Fellows":MAILTO:simonfellows1@outlook.com
END:VEVENT
BEGIN:VEVENT
DTSTART;TZID=UTC:20230814T140000
DTEND;TZID=UTC:20230814T160000
DTSTAMP:20260422T005248
CREATED:20230731T160540Z
LAST-MODIFIED:20230731T160540Z
UID:8901-1692021600-1692028800@tettenhalltennisclub.co.uk
SUMMARY:Holiday Course - 3 COURTS NEEDED
DESCRIPTION:
URL:https://tettenhalltennisclub.co.uk/event/holiday-course-3-courts-needed-3/
LOCATION:Tettenhall Tennis Club\, Danescourt Road\, Wolverhampton\, WV6 9BJ\, United Kingdom
CATEGORIES:Junior Coaching
ORGANIZER;CN="Simon Fellows":MAILTO:simonfellows1@outlook.com
END:VEVENT
BEGIN:VEVENT
DTSTART;TZID=UTC:20230813T100000
DTEND;TZID=UTC:20230813T120000
DTSTAMP:20260422T005248
CREATED:20230731T162719Z
LAST-MODIFIED:20230731T162719Z
UID:8965-1691920800-1691928000@tettenhalltennisclub.co.uk
SUMMARY:Mix In
DESCRIPTION:
URL:https://tettenhalltennisclub.co.uk/event/mix-in-7/
LOCATION:Tettenhall Tennis Club\, Danescourt Road\, Wolverhampton\, WV6 9BJ\, United Kingdom
CATEGORIES:Club Tennis
END:VEVENT
END:VCALENDAR