BEGIN:VCALENDAR
VERSION:2.0
PRODID:-//Tettenhall Tennis Club - ECPv6.15.20//NONSGML v1.0//EN
CALSCALE:GREGORIAN
METHOD:PUBLISH
X-WR-CALNAME:Tettenhall Tennis Club
X-ORIGINAL-URL:https://tettenhalltennisclub.co.uk
X-WR-CALDESC:Events for Tettenhall Tennis Club
REFRESH-INTERVAL;VALUE=DURATION:PT1H
X-Robots-Tag:noindex
X-PUBLISHED-TTL:PT1H
BEGIN:VTIMEZONE
TZID:UTC
BEGIN:STANDARD
TZOFFSETFROM:+0000
TZOFFSETTO:+0000
TZNAME:UTC
DTSTART:20220101T000000
END:STANDARD
END:VTIMEZONE
BEGIN:VEVENT
DTSTART;TZID=UTC:20230801T140000
DTEND;TZID=UTC:20230801T160000
DTSTAMP:20260422T185619
CREATED:20230731T160412Z
LAST-MODIFIED:20230731T160412Z
UID:8897-1690898400-1690905600@tettenhalltennisclub.co.uk
SUMMARY:Holiday Course - 3 COURTS NEEDED
DESCRIPTION:
URL:https://tettenhalltennisclub.co.uk/event/holiday-course-3-courts-needed/
LOCATION:Tettenhall Tennis Club\, Danescourt Road\, Wolverhampton\, WV6 9BJ\, United Kingdom
CATEGORIES:Junior Coaching
ORGANIZER;CN="Simon Fellows":MAILTO:simonfellows1@outlook.com
END:VEVENT
BEGIN:VEVENT
DTSTART;TZID=UTC:20230801T100000
DTEND;TZID=UTC:20230801T120000
DTSTAMP:20260422T185619
CREATED:20230731T161942Z
LAST-MODIFIED:20230731T161942Z
UID:8939-1690884000-1690891200@tettenhalltennisclub.co.uk
SUMMARY:Mix In
DESCRIPTION:
URL:https://tettenhalltennisclub.co.uk/event/mix-in/
LOCATION:Tettenhall Tennis Club\, Danescourt Road\, Wolverhampton\, WV6 9BJ\, United Kingdom
CATEGORIES:Club Tennis
END:VEVENT
BEGIN:VEVENT
DTSTART;TZID=UTC:20230731T183000
DTEND;TZID=UTC:20230731T200000
DTSTAMP:20260422T185619
CREATED:20230628T164532Z
LAST-MODIFIED:20230628T164532Z
UID:8812-1690828200-1690833600@tettenhalltennisclub.co.uk
SUMMARY:Club Coaching - 3 COURTS NEEDED
DESCRIPTION:
URL:https://tettenhalltennisclub.co.uk/event/club-coaching-3-courts-needed-5/
LOCATION:Tettenhall Tennis Club\, Danescourt Road\, Wolverhampton\, WV6 9BJ\, United Kingdom
CATEGORIES:Club Coaching
ORGANIZER;CN="Simon Fellows":MAILTO:simonfellows1@outlook.com
END:VEVENT
END:VCALENDAR